BEGIN:VCALENDAR
VERSION:2.0
PRODID:-//wp-events-plugin.com//7.2.3.1//EN
TZID:Europe/London
X-WR-TIMEZONE:Europe/London
BEGIN:VEVENT
UID:3023@larevistadelapalma.com
DTSTART:20240531T180000Z
DTEND:20240531T224500Z
DTSTAMP:20240528T232148Z
URL:https://www.larevistadelapalma.com/events/higo-mordido-y-alberto-rodri
 guez-en-elvis-coktail-bar/
SUMMARY:Higo Mordido y Alberto Rodríguez en Elvis Cocktail Bar
DESCRIPTION:El viernes 31 de mayo\, a partir de las 19:00 horas\, Higo Mord
 ido y Alberto Rodríguez\, te esperan con el mejor sonido rompepistas\, pa
 ra echar unos "dancin" en la calle del Elvis Cocktail Bar.
ATTACH;FMTTYPE=image/jpeg:https://www.larevistadelapalma.com/wp-content/up
 loads/2024/05/Alberto-HIgo-Elvis-BAR.jpg
CATEGORIES:Conciertos,Música
LOCATION:Elvis Cocktail Bar\, Calle del Medio\, 15\, Los Llanos de Aridane\
 ,  38760\, España
GEO:28.658959;-17.911405
X-APPLE-STRUCTURED-LOCATION;VALUE=URI;X-ADDRESS=Calle del Medio\, 15\, Los 
 Llanos de Aridane\,  38760\, España;X-APPLE-RADIUS=100;X-TITLE=Elvis Cock
 tail Bar:geo:28.658959,-17.911405
END:VEVENT
END:VCALENDARBEGIN:VCALENDAR
VERSION:2.0
PRODID:-//wp-events-plugin.com//7.2.3.1//EN
TZID:Europe/London
X-WR-TIMEZONE:Europe/London
BEGIN:VEVENT
UID:3023@larevistadelapalma.com
DTSTART:20240531T180000Z
DTEND:20240531T224500Z
DTSTAMP:20240528T232148Z
URL:https://www.larevistadelapalma.com/events/higo-mordido-y-alberto-rodri
 guez-en-elvis-coktail-bar/
SUMMARY:Higo Mordido y Alberto Rodríguez en Elvis Cocktail Bar
DESCRIPTION:El viernes 31 de mayo\, a partir de las 19:00 horas\, Higo Mord
 ido y Alberto Rodríguez\, te esperan con el mejor sonido rompepistas\, pa
 ra echar unos "dancin" en la calle del Elvis Cocktail Bar.
ATTACH;FMTTYPE=image/jpeg:https://www.larevistadelapalma.com/wp-content/up
 loads/2024/05/Alberto-HIgo-Elvis-BAR.jpg
CATEGORIES:Conciertos,Música
LOCATION:Elvis Cocktail Bar\, Calle del Medio\, 15\, Los Llanos de Aridane\
 ,  38760\, España
GEO:28.658959;-17.911405
X-APPLE-STRUCTURED-LOCATION;VALUE=URI;X-ADDRESS=Calle del Medio\, 15\, Los 
 Llanos de Aridane\,  38760\, España;X-APPLE-RADIUS=100;X-TITLE=Elvis Cock
 tail Bar:geo:28.658959,-17.911405
END:VEVENT
END:VCALENDAR