BEGIN:VCALENDAR
VERSION:2.0
PRODID:-//wp-events-plugin.com//7.2.3.1//EN
TZID:Europe/London
X-WR-TIMEZONE:Europe/London
BEGIN:VEVENT
UID:3078@larevistadelapalma.com
DTSTART:20240623T180000Z
DTEND:20240623T224500Z
DTSTAMP:20240618T183451Z
URL:https://www.larevistadelapalma.com/events/hoguera-de-san-juan-y-musica
 -puerto-espindola/
SUMMARY:Hoguera de San Juan y música en vivo en Puerto Espíndola
DESCRIPTION:\nEste domingo\, 23 de junio\, la Orquesta Tropicana's. y el gr
 upo "Siempre ellas"\, te esperan en la playa de Puerto Espíndola para cel
 ebrar\, a partir de las 19 horas\, la Hoguera de la noche de San Juan del 
 municipio de San Andrés y Sauces.\n\n\n\n\n\n\n
ATTACH;FMTTYPE=image/jpeg:https://www.larevistadelapalma.com/wp-content/up
 loads/2024/06/Hoguera-san-juan-Puerto-Espindola.jpg
CATEGORIES:Fiestas populares,Otras propuestas,Varios
LOCATION:Municipio de San Andrés y Sauces\, San Andrés y Sauces\, San And
 rés y Sauces\, 38720\, España
GEO:28.801722;-17.779166
X-APPLE-STRUCTURED-LOCATION;VALUE=URI;X-ADDRESS=San Andrés y Sauces\, San 
 Andrés y Sauces\, 38720\, España;X-APPLE-RADIUS=100;X-TITLE=Municipio de
  San Andrés y Sauces:geo:28.801722,-17.779166
END:VEVENT
END:VCALENDARBEGIN:VCALENDAR
VERSION:2.0
PRODID:-//wp-events-plugin.com//7.2.3.1//EN
TZID:Europe/London
X-WR-TIMEZONE:Europe/London
BEGIN:VEVENT
UID:3078@larevistadelapalma.com
DTSTART:20240623T180000Z
DTEND:20240623T224500Z
DTSTAMP:20240618T183451Z
URL:https://www.larevistadelapalma.com/events/hoguera-de-san-juan-y-musica
 -puerto-espindola/
SUMMARY:Hoguera de San Juan y música en vivo en Puerto Espíndola
DESCRIPTION:\nEste domingo\, 23 de junio\, la Orquesta Tropicana's. y el gr
 upo "Siempre ellas"\, te esperan en la playa de Puerto Espíndola para cel
 ebrar\, a partir de las 19 horas\, la Hoguera de la noche de San Juan del 
 municipio de San Andrés y Sauces.\n\n\n\n\n\n\n
ATTACH;FMTTYPE=image/jpeg:https://www.larevistadelapalma.com/wp-content/up
 loads/2024/06/Hoguera-san-juan-Puerto-Espindola.jpg
CATEGORIES:Fiestas populares,Otras propuestas,Varios
LOCATION:Municipio de San Andrés y Sauces\, San Andrés y Sauces\, San And
 rés y Sauces\, 38720\, España
GEO:28.801722;-17.779166
X-APPLE-STRUCTURED-LOCATION;VALUE=URI;X-ADDRESS=San Andrés y Sauces\, San 
 Andrés y Sauces\, 38720\, España;X-APPLE-RADIUS=100;X-TITLE=Municipio de
  San Andrés y Sauces:geo:28.801722,-17.779166
END:VEVENT
END:VCALENDAR