BEGIN:VCALENDAR
VERSION:2.0
PRODID:-//wp-events-plugin.com//7.2.3.1//EN
TZID:Europe/London
X-WR-TIMEZONE:Europe/London
BEGIN:VEVENT
UID:4023@larevistadelapalma.com
DTSTART:20251017T173000Z
DTEND:20251017T184500Z
DTSTAMP:20251015T103656Z
URL:https://www.larevistadelapalma.com/events/homenaje-a-las-parteras-y-ma
 tronas-en-puntagorda/
SUMMARY:Homenaje a las parteras y matronas\, en Puntagorda
DESCRIPTION:Puntagorda acoge el acto insular del Día de la Mujer Rural con
  un homenaje a las parteras y matronas de La Palma.\n\nEl municipio de Pun
 tagorda será este año el anfitrión del acto insular del Día de la Muje
 r Rural\, una jornada organizada por el Cabildo de La Palma con la partici
 pación de todos los ayuntamientos de la isla. El evento se celebrará el 
 jueves 17 de octubre\, a las 18:30 horas\, en la carpa anexa a la Casa de 
 la Cultura de Puntagorda\, y rendirá un sentido homenaje a las parteras y
  matronas de La Palma\, figuras fundamentales en la historia y el bienesta
 r de las comunidades rurales.\n\nDurante siglos\, las parteras y matronas 
 fueron el sostén invisible de la vida en el ámbito rural\, acompañando 
 a mujeres y familias en el momento del nacimiento y transmitiendo saberes 
 ancestrales basados en la experiencia\, la empatía y la observación. En 
 muchos pueblos de La Palma\, estas mujeres ejercían su labor con enorme r
 esponsabilidad y entrega\, sin formación académica formal\, pero con un 
 profundo conocimiento del cuerpo y de la naturaleza\, convirtiéndose en r
 eferentes comunitarios de confianza\, respeto y solidaridad.\n\nEl encuent
 ro reunirá a representantes institucionales\, colectivos y vecinas de los
  diferentes municipios palmeros\, con el objetivo de reconocer la labor si
 lenciosa\, valiente y esencial de estas mujeres que\, con sus manos y su s
 abiduría\, ayudaron a nacer a generaciones enteras.\n\nLa concejala del 
 área de Igualdad del Ayuntamiento de Puntagorda\, María Mercedes Candela
 rio\, destacó que “este reconocimiento pone en valor la sabiduría\, la
  entrega y la fortaleza de las mujeres que\, desde el anonimato\, sostuvie
 ron la vida de nuestras comunidades rurales. Las parteras y matronas repre
 sentan la esencia de la mujer rural: compromiso\, conocimiento y generosid
 ad”.\n\nPor su parte\, el alcalde de Puntagorda\, Vicente Rodríguez\, s
 eñaló que “para Puntagorda es un honor ser el municipio anfitrión de 
 un acto tan especial\, que rinde homenaje a las raíces y a la historia vi
 va de nuestra isla. Este encuentro refuerza el compromiso de nuestro munic
 ipio con la igualdad\, la memoria y el reconocimiento de las mujeres que h
 an contribuido al desarrollo de La Palma”.\n\nEl Día Internacional de l
 as Mujeres Rurales\, declarado por la ONU\, se celebra cada 15 de octubre 
 con el propósito de visibilizar el papel esencial de las mujeres en las z
 onas rurales\, su contribución al desarrollo sostenible y su participaci
 ón activa en la vida comunitaria.\n\n&nbsp\;
ATTACH;FMTTYPE=image/jpeg:https://www.larevistadelapalma.com/wp-content/up
 loads/2025/10/Cartel-Mujeres-Rurales.jpg
CATEGORIES:Otras propuestas,Varios
LOCATION:Casa de La Cultura\, Puntagorda\, C. Cuatro Caminos\, 5\, Puntagor
 da\, 38789\, España
GEO:28.774328;-17.976112
X-APPLE-STRUCTURED-LOCATION;VALUE=URI;X-ADDRESS=C. Cuatro Caminos\, 5\, Pun
 tagorda\, 38789\, España;X-APPLE-RADIUS=100;X-TITLE=Casa de La Cultura\, 
 Puntagorda:geo:28.774328,-17.976112
END:VEVENT
END:VCALENDARBEGIN:VCALENDAR
VERSION:2.0
PRODID:-//wp-events-plugin.com//7.2.3.1//EN
TZID:Europe/London
X-WR-TIMEZONE:Europe/London
BEGIN:VEVENT
UID:4023@larevistadelapalma.com
DTSTART:20251017T173000Z
DTEND:20251017T184500Z
DTSTAMP:20251015T103656Z
URL:https://www.larevistadelapalma.com/events/homenaje-a-las-parteras-y-ma
 tronas-en-puntagorda/
SUMMARY:Homenaje a las parteras y matronas\, en Puntagorda
DESCRIPTION:Puntagorda acoge el acto insular del Día de la Mujer Rural con
  un homenaje a las parteras y matronas de La Palma.\n\nEl municipio de Pun
 tagorda será este año el anfitrión del acto insular del Día de la Muje
 r Rural\, una jornada organizada por el Cabildo de La Palma con la partici
 pación de todos los ayuntamientos de la isla. El evento se celebrará el 
 jueves 17 de octubre\, a las 18:30 horas\, en la carpa anexa a la Casa de 
 la Cultura de Puntagorda\, y rendirá un sentido homenaje a las parteras y
  matronas de La Palma\, figuras fundamentales en la historia y el bienesta
 r de las comunidades rurales.\n\nDurante siglos\, las parteras y matronas 
 fueron el sostén invisible de la vida en el ámbito rural\, acompañando 
 a mujeres y familias en el momento del nacimiento y transmitiendo saberes 
 ancestrales basados en la experiencia\, la empatía y la observación. En 
 muchos pueblos de La Palma\, estas mujeres ejercían su labor con enorme r
 esponsabilidad y entrega\, sin formación académica formal\, pero con un 
 profundo conocimiento del cuerpo y de la naturaleza\, convirtiéndose en r
 eferentes comunitarios de confianza\, respeto y solidaridad.\n\nEl encuent
 ro reunirá a representantes institucionales\, colectivos y vecinas de los
  diferentes municipios palmeros\, con el objetivo de reconocer la labor si
 lenciosa\, valiente y esencial de estas mujeres que\, con sus manos y su s
 abiduría\, ayudaron a nacer a generaciones enteras.\n\nLa concejala del 
 área de Igualdad del Ayuntamiento de Puntagorda\, María Mercedes Candela
 rio\, destacó que “este reconocimiento pone en valor la sabiduría\, la
  entrega y la fortaleza de las mujeres que\, desde el anonimato\, sostuvie
 ron la vida de nuestras comunidades rurales. Las parteras y matronas repre
 sentan la esencia de la mujer rural: compromiso\, conocimiento y generosid
 ad”.\n\nPor su parte\, el alcalde de Puntagorda\, Vicente Rodríguez\, s
 eñaló que “para Puntagorda es un honor ser el municipio anfitrión de 
 un acto tan especial\, que rinde homenaje a las raíces y a la historia vi
 va de nuestra isla. Este encuentro refuerza el compromiso de nuestro munic
 ipio con la igualdad\, la memoria y el reconocimiento de las mujeres que h
 an contribuido al desarrollo de La Palma”.\n\nEl Día Internacional de l
 as Mujeres Rurales\, declarado por la ONU\, se celebra cada 15 de octubre 
 con el propósito de visibilizar el papel esencial de las mujeres en las z
 onas rurales\, su contribución al desarrollo sostenible y su participaci
 ón activa en la vida comunitaria.\n\n&nbsp\;
ATTACH;FMTTYPE=image/jpeg:https://www.larevistadelapalma.com/wp-content/up
 loads/2025/10/Cartel-Mujeres-Rurales.jpg
CATEGORIES:Otras propuestas,Varios
LOCATION:Casa de La Cultura\, Puntagorda\, C. Cuatro Caminos\, 5\, Puntagor
 da\, 38789\, España
GEO:28.774328;-17.976112
X-APPLE-STRUCTURED-LOCATION;VALUE=URI;X-ADDRESS=C. Cuatro Caminos\, 5\, Pun
 tagorda\, 38789\, España;X-APPLE-RADIUS=100;X-TITLE=Casa de La Cultura\, 
 Puntagorda:geo:28.774328,-17.976112
END:VEVENT
END:VCALENDAR