BEGIN:VCALENDAR
VERSION:2.0
PRODID:-//wp-events-plugin.com//7.2.3.1//EN
TZID:Europe/London
X-WR-TIMEZONE:Europe/London
BEGIN:VEVENT
UID:3609@larevistadelapalma.com
DTSTART:20250703T200000Z
DTEND:20250703T213000Z
DTSTAMP:20250220T231619Z
URL:https://www.larevistadelapalma.com/events/homenaje-a-mecano-por-robin-
 torres/
SUMMARY:Homenaje a Mecano por Robin Torres
DESCRIPTION:Hija de la Luna: el mejor homenaje a Mecano' llega por primer
 a vez a La Palma después de siete años de gira y más de 300 concierto
 s por España y Latinoamérica\, con un nuevo espectáculo basado en la gi
 ra más importante de la carrera del grupo pop español. Se podrá disfrut
 ar de un montaje donde el vestuario y las coreografías están completamen
 te renovadas\, junto a una brillante escenografía y puesta en escena espe
 ctacular\, que harán que el público se reencuentre con la verdadera esen
 cia de Mecano\, y les trasladará a uno de sus conciertos multitudinarios 
 gracias a este homenaje.\nComprar entradas &gt\;&gt\;\nHan pasado 35 años
  desde que Mecano presentara 'Descanso dominical'\, su quinto y penúltimo
  álbum de estudio\, que reafirmó su éxito internacional tras su anterio
 r trabajo\, 'Entre el cielo y el suelo'.\n\n'Descanso dominical' es uno de
  los grandes álbumes de la historia de la música española\, un triunfo 
 de Mecano que no solo triunfó en el país\, sino que también cosechó 
 éxitos en Europa\, especialmente en Francia y en Latinoamérica. En 1988\
 , Ana Torroja\, José y Nacho Cano demostraron que eran un grupo sólido
  con las ideas más claras que nunca. Los hermanos aportaron a partes igua
 les en unos temas que son grandes éxitos que nunca pasarán de moda.\n\nE
 l cine\, Amantes\, No hay marcha en Nueva York\, Mujer contra Mujer\, La f
 uerza del destino o Quédate en Madrid\, entre otros\, son los temas que '
 Hija de la Luna' interpretará en este nuevo espectáculo basado en la gir
 a 'Descanso Dominical'\, del disco español más vendido en 1988. Una repr
 esentación fiel y de calidad\, que hará que el público se reencuentre c
 on la verdadera esencia de Mecano\, y que ofrece una reproducción que sob
 repasa el tributo\, convirtiéndose en todo un espectáculo musical.\n\nEl
  parecido físico y vocal de Robin Torres con Ana Torroja es\, sin duda
 \, la clave del éxito de este grupo sevillano y lo que diferencia a la ba
 nda por encima de cualquier otro tributo. Robin\, que participó en la edi
 ción de 2015 del programa de Tele5\, La Voz\, fue elogiada por su capacid
 ad interpretativa por Alejandro Sanz\, Laura Pausini\, Malú o Antonio Oro
 zco. La prensa nacional también se hizo eco de ese punto diferenciador de
  la artista en lo interpretativo.\n\n
ATTACH;FMTTYPE=image/jpeg:https://www.larevistadelapalma.com/wp-content/up
 loads/2025/02/Hija-de-la-luna.jpg
CATEGORIES:Conciertos,Música
LOCATION:Municipio de Santa Cruz de La Palma\, Santa Cruz de La Palma \, Sa
 nta Cruz de La Palma \, 38700\, España
GEO:28.688757;-17.765102
X-APPLE-STRUCTURED-LOCATION;VALUE=URI;X-ADDRESS=Santa Cruz de La Palma \, S
 anta Cruz de La Palma \, 38700\, España;X-APPLE-RADIUS=100;X-TITLE=Munici
 pio de Santa Cruz de La Palma:geo:28.688757,-17.765102
END:VEVENT
END:VCALENDARBEGIN:VCALENDAR
VERSION:2.0
PRODID:-//wp-events-plugin.com//7.2.3.1//EN
TZID:Europe/London
X-WR-TIMEZONE:Europe/London
BEGIN:VEVENT
UID:3609@larevistadelapalma.com
DTSTART:20250703T200000Z
DTEND:20250703T213000Z
DTSTAMP:20250220T231619Z
URL:https://www.larevistadelapalma.com/events/homenaje-a-mecano-por-robin-
 torres/
SUMMARY:Homenaje a Mecano por Robin Torres
DESCRIPTION:Hija de la Luna: el mejor homenaje a Mecano' llega por primer
 a vez a La Palma después de siete años de gira y más de 300 concierto
 s por España y Latinoamérica\, con un nuevo espectáculo basado en la gi
 ra más importante de la carrera del grupo pop español. Se podrá disfrut
 ar de un montaje donde el vestuario y las coreografías están completamen
 te renovadas\, junto a una brillante escenografía y puesta en escena espe
 ctacular\, que harán que el público se reencuentre con la verdadera esen
 cia de Mecano\, y les trasladará a uno de sus conciertos multitudinarios 
 gracias a este homenaje.\nComprar entradas &gt\;&gt\;\nHan pasado 35 años
  desde que Mecano presentara 'Descanso dominical'\, su quinto y penúltimo
  álbum de estudio\, que reafirmó su éxito internacional tras su anterio
 r trabajo\, 'Entre el cielo y el suelo'.\n\n'Descanso dominical' es uno de
  los grandes álbumes de la historia de la música española\, un triunfo 
 de Mecano que no solo triunfó en el país\, sino que también cosechó 
 éxitos en Europa\, especialmente en Francia y en Latinoamérica. En 1988\
 , Ana Torroja\, José y Nacho Cano demostraron que eran un grupo sólido
  con las ideas más claras que nunca. Los hermanos aportaron a partes igua
 les en unos temas que son grandes éxitos que nunca pasarán de moda.\n\nE
 l cine\, Amantes\, No hay marcha en Nueva York\, Mujer contra Mujer\, La f
 uerza del destino o Quédate en Madrid\, entre otros\, son los temas que '
 Hija de la Luna' interpretará en este nuevo espectáculo basado en la gir
 a 'Descanso Dominical'\, del disco español más vendido en 1988. Una repr
 esentación fiel y de calidad\, que hará que el público se reencuentre c
 on la verdadera esencia de Mecano\, y que ofrece una reproducción que sob
 repasa el tributo\, convirtiéndose en todo un espectáculo musical.\n\nEl
  parecido físico y vocal de Robin Torres con Ana Torroja es\, sin duda
 \, la clave del éxito de este grupo sevillano y lo que diferencia a la ba
 nda por encima de cualquier otro tributo. Robin\, que participó en la edi
 ción de 2015 del programa de Tele5\, La Voz\, fue elogiada por su capacid
 ad interpretativa por Alejandro Sanz\, Laura Pausini\, Malú o Antonio Oro
 zco. La prensa nacional también se hizo eco de ese punto diferenciador de
  la artista en lo interpretativo.\n\n
ATTACH;FMTTYPE=image/jpeg:https://www.larevistadelapalma.com/wp-content/up
 loads/2025/02/Hija-de-la-luna.jpg
CATEGORIES:Conciertos,Música
LOCATION:Municipio de Santa Cruz de La Palma\, Santa Cruz de La Palma \, Sa
 nta Cruz de La Palma \, 38700\, España
GEO:28.688757;-17.765102
X-APPLE-STRUCTURED-LOCATION;VALUE=URI;X-ADDRESS=Santa Cruz de La Palma \, S
 anta Cruz de La Palma \, 38700\, España;X-APPLE-RADIUS=100;X-TITLE=Munici
 pio de Santa Cruz de La Palma:geo:28.688757,-17.765102
END:VEVENT
END:VCALENDAR