BEGIN:VCALENDAR
VERSION:2.0
PRODID:-//wp-events-plugin.com//7.2.3.1//EN
TZID:Europe/London
X-WR-TIMEZONE:Europe/London
BEGIN:VEVENT
UID:3201@larevistadelapalma.com
DTSTART:20240825T163000Z
DTEND:20240825T193000Z
DTSTAMP:20240822T223335Z
URL:https://www.larevistadelapalma.com/events/homenaje-a-un-barrio-tigalat
 e/
SUMMARY:Homenaje a un Barrio – Tigalate
DESCRIPTION:Arte y música en el siglo XX\, un evento que homenajea al barr
 io de Tigalate\, en Villa de Mazo\, y que tendrá lugar en el Centro Cult
 ural de Tigalate.\n\n 	Bailes de tuneras o del candil en Tigalate.\n 	Sal
 ón de Alvarito.\n 	Salón de Benito Rodríguez «GENÚ» (1928-1963)\n 	M
 emorias de las antiguas fiestas de Santo Domingo.\n 	El salón de «Milo y
  Obdulia»\n
ATTACH;FMTTYPE=image/jpeg:https://www.larevistadelapalma.com/wp-content/up
 loads/2024/08/homenaje-barrio-tigalate.webp
CATEGORIES:Otras propuestas,Varios
LOCATION:Municipio de Villa de Mazo\, Villa de Mazo\, Villa de Mazo\, 38730
 \, España
GEO:28.622071;-17.780675
X-APPLE-STRUCTURED-LOCATION;VALUE=URI;X-ADDRESS=Villa de Mazo\, Villa de Ma
 zo\, 38730\, España;X-APPLE-RADIUS=100;X-TITLE=Municipio de Villa de Mazo
 :geo:28.622071,-17.780675
END:VEVENT
END:VCALENDARBEGIN:VCALENDAR
VERSION:2.0
PRODID:-//wp-events-plugin.com//7.2.3.1//EN
TZID:Europe/London
X-WR-TIMEZONE:Europe/London
BEGIN:VEVENT
UID:3201@larevistadelapalma.com
DTSTART:20240825T163000Z
DTEND:20240825T193000Z
DTSTAMP:20240822T223335Z
URL:https://www.larevistadelapalma.com/events/homenaje-a-un-barrio-tigalat
 e/
SUMMARY:Homenaje a un Barrio – Tigalate
DESCRIPTION:Arte y música en el siglo XX\, un evento que homenajea al barr
 io de Tigalate\, en Villa de Mazo\, y que tendrá lugar en el Centro Cult
 ural de Tigalate.\n\n 	Bailes de tuneras o del candil en Tigalate.\n 	Sal
 ón de Alvarito.\n 	Salón de Benito Rodríguez «GENÚ» (1928-1963)\n 	M
 emorias de las antiguas fiestas de Santo Domingo.\n 	El salón de «Milo y
  Obdulia»\n
ATTACH;FMTTYPE=image/jpeg:https://www.larevistadelapalma.com/wp-content/up
 loads/2024/08/homenaje-barrio-tigalate.webp
CATEGORIES:Otras propuestas,Varios
LOCATION:Municipio de Villa de Mazo\, Villa de Mazo\, Villa de Mazo\, 38730
 \, España
GEO:28.622071;-17.780675
X-APPLE-STRUCTURED-LOCATION;VALUE=URI;X-ADDRESS=Villa de Mazo\, Villa de Ma
 zo\, 38730\, España;X-APPLE-RADIUS=100;X-TITLE=Municipio de Villa de Mazo
 :geo:28.622071,-17.780675
END:VEVENT
END:VCALENDAR