BEGIN:VCALENDAR
VERSION:2.0
PRODID:-//wp-events-plugin.com//7.2.3.1//EN
TZID:Europe/London
X-WR-TIMEZONE:Europe/London
BEGIN:VEVENT
UID:4006@larevistadelapalma.com
DTSTART:20251024T193000Z
DTEND:20251024T210000Z
DTSTAMP:20251007T223547Z
URL:https://www.larevistadelapalma.com/events/hoy-no-estrenamos-con-impreb
 is/
SUMMARY:“Hoy no estrenamos”\, con Imprebís
DESCRIPTION:Los maestros de la comedia\, IMPREBÍS\, presentan su última 
 obra: Hoy no estrenamos. Pero esta vez no les van a pedir que escriban na
 da en ningún papel porque vienen improvisados de casa.\nComprar entradas 
 &gt\;&gt\;\nHace años crearon una galería de personajes y situaciones ab
 solutamente impresionantes en La Crazy Class\, ahora vuelven más mordace
 s\, más actuales y entrañables que nunca.De nuevo un grupo de vecinos de
  un barrio popular cualquiera de Madrid va a encontrar en el teatro un b
 uen reflejo de nuestra sociedad y verán como los textos de las grandes ob
 ras teatrales modifican y mejoran mejor sus vidas.\n\n\nUn viaje que trans
 ita comedia\, romance y emoción para sumergirnos en historias cotidianas 
 muy reales.\n\n\nPocas veces se puede asistir a una clase de interpretaci
 ón como la que imparten Carles Montoliu y Carles Castillo\, capaces de
  dar vida a 12 personajes con solo cambiar un objeto en sus manos. Ahora\,
  además\, incorporan a un nuevo talento\, el joven músico y actor Víct
 or Lucas. Y todo bajo la dirección de dos maestros: Michel López –cr
 eador en París de la Liga de Improvisación Francesa– junto a uno de
  los directores españoles más premiados y reconocidos\, Santiago Sánch
 ez.\n&nbsp\;
ATTACH;FMTTYPE=image/jpeg:https://www.larevistadelapalma.com/wp-content/up
 loads/2025/10/hoy-no-estrenamos.jpeg
CATEGORIES:Espectáculos,Teatro
LOCATION:Teatro Circo de Marte\, Calle Virgen de La Luz\, 5\, Santa Cruz de
  La Palma\, 38700\, España
GEO:28.682989;-17.765755
X-APPLE-STRUCTURED-LOCATION;VALUE=URI;X-ADDRESS=Calle Virgen de La Luz\, 5\
 , Santa Cruz de La Palma\, 38700\, España;X-APPLE-RADIUS=100;X-TITLE=Teat
 ro Circo de Marte:geo:28.682989,-17.765755
END:VEVENT
END:VCALENDARBEGIN:VCALENDAR
VERSION:2.0
PRODID:-//wp-events-plugin.com//7.2.3.1//EN
TZID:Europe/London
X-WR-TIMEZONE:Europe/London
BEGIN:VEVENT
UID:4006@larevistadelapalma.com
DTSTART:20251024T193000Z
DTEND:20251024T210000Z
DTSTAMP:20251007T223547Z
URL:https://www.larevistadelapalma.com/events/hoy-no-estrenamos-con-impreb
 is/
SUMMARY:“Hoy no estrenamos”\, con Imprebís
DESCRIPTION:Los maestros de la comedia\, IMPREBÍS\, presentan su última 
 obra: Hoy no estrenamos. Pero esta vez no les van a pedir que escriban na
 da en ningún papel porque vienen improvisados de casa.\nComprar entradas 
 &gt\;&gt\;\nHace años crearon una galería de personajes y situaciones ab
 solutamente impresionantes en La Crazy Class\, ahora vuelven más mordace
 s\, más actuales y entrañables que nunca.De nuevo un grupo de vecinos de
  un barrio popular cualquiera de Madrid va a encontrar en el teatro un b
 uen reflejo de nuestra sociedad y verán como los textos de las grandes ob
 ras teatrales modifican y mejoran mejor sus vidas.\n\n\nUn viaje que trans
 ita comedia\, romance y emoción para sumergirnos en historias cotidianas 
 muy reales.\n\n\nPocas veces se puede asistir a una clase de interpretaci
 ón como la que imparten Carles Montoliu y Carles Castillo\, capaces de
  dar vida a 12 personajes con solo cambiar un objeto en sus manos. Ahora\,
  además\, incorporan a un nuevo talento\, el joven músico y actor Víct
 or Lucas. Y todo bajo la dirección de dos maestros: Michel López –cr
 eador en París de la Liga de Improvisación Francesa– junto a uno de
  los directores españoles más premiados y reconocidos\, Santiago Sánch
 ez.\n&nbsp\;
ATTACH;FMTTYPE=image/jpeg:https://www.larevistadelapalma.com/wp-content/up
 loads/2025/10/hoy-no-estrenamos.jpeg
CATEGORIES:Espectáculos,Teatro
LOCATION:Teatro Circo de Marte\, Calle Virgen de La Luz\, 5\, Santa Cruz de
  La Palma\, 38700\, España
GEO:28.682989;-17.765755
X-APPLE-STRUCTURED-LOCATION;VALUE=URI;X-ADDRESS=Calle Virgen de La Luz\, 5\
 , Santa Cruz de La Palma\, 38700\, España;X-APPLE-RADIUS=100;X-TITLE=Teat
 ro Circo de Marte:geo:28.682989,-17.765755
END:VEVENT
END:VCALENDAR