BEGIN:VCALENDAR
VERSION:2.0
PRODID:-//wp-events-plugin.com//7.2.3.1//EN
TZID:Europe/London
X-WR-TIMEZONE:Europe/London
BEGIN:VEVENT
UID:3916@larevistadelapalma.com
DTSTART;VALUE=DATE:20250822
DTEND;VALUE=DATE:20250824
DTSTAMP:20250818T190605Z
URL:https://www.larevistadelapalma.com/events/ii-mercado-tipico-de-artesan
 ia-en-el-paso/
SUMMARY:II Mercado típico de artesanía en El Paso
DESCRIPTION:\nDescubre la riqueza de la artesanía local en un mercado dond
 e\, durante el fin de semana\, las familias podrán disfrutar de talleres\
 , demostraciones y música en vivo.\n\n\nInmediaciones de la Plaza de las 
 Abuelas (Oficina de Turismo) y el Jardín de la Era.\n\n
ATTACH;FMTTYPE=image/jpeg:https://www.larevistadelapalma.com/wp-content/up
 loads/2025/08/Mercado-de-Artesania-en-el-Paso.jpg
CATEGORIES:Ferias y mercados,Otras propuestas,Varios
LOCATION:Municipio de El Paso\, El Paso\, La Palma \, El Paso\, 38750\, Esp
 aña
GEO:28.652378;-17.880396
X-APPLE-STRUCTURED-LOCATION;VALUE=URI;X-ADDRESS=El Paso\, La Palma \, El Pa
 so\, 38750\, España;X-APPLE-RADIUS=100;X-TITLE=Municipio de El Paso:geo:2
 8.652378,-17.880396
END:VEVENT
END:VCALENDARBEGIN:VCALENDAR
VERSION:2.0
PRODID:-//wp-events-plugin.com//7.2.3.1//EN
TZID:Europe/London
X-WR-TIMEZONE:Europe/London
BEGIN:VEVENT
UID:3916@larevistadelapalma.com
DTSTART;VALUE=DATE:20250822
DTEND;VALUE=DATE:20250824
DTSTAMP:20250818T190605Z
URL:https://www.larevistadelapalma.com/events/ii-mercado-tipico-de-artesan
 ia-en-el-paso/
SUMMARY:II Mercado típico de artesanía en El Paso
DESCRIPTION:\nDescubre la riqueza de la artesanía local en un mercado dond
 e\, durante el fin de semana\, las familias podrán disfrutar de talleres\
 , demostraciones y música en vivo.\n\n\nInmediaciones de la Plaza de las 
 Abuelas (Oficina de Turismo) y el Jardín de la Era.\n\n
ATTACH;FMTTYPE=image/jpeg:https://www.larevistadelapalma.com/wp-content/up
 loads/2025/08/Mercado-de-Artesania-en-el-Paso.jpg
CATEGORIES:Ferias y mercados,Otras propuestas,Varios
LOCATION:Municipio de El Paso\, El Paso\, La Palma \, El Paso\, 38750\, Esp
 aña
GEO:28.652378;-17.880396
X-APPLE-STRUCTURED-LOCATION;VALUE=URI;X-ADDRESS=El Paso\, La Palma \, El Pa
 so\, 38750\, España;X-APPLE-RADIUS=100;X-TITLE=Municipio de El Paso:geo:2
 8.652378,-17.880396
END:VEVENT
END:VCALENDAR