BEGIN:VCALENDAR
VERSION:2.0
PRODID:-//wp-events-plugin.com//7.2.3.1//EN
TZID:Europe/London
X-WR-TIMEZONE:Europe/London
BEGIN:VEVENT
UID:3779@larevistadelapalma.com
DTSTART;VALUE=DATE:20251114
DTEND;VALUE=DATE:20251117
DTSTAMP:20250602T005826Z
URL:https://www.larevistadelapalma.com/events/iii-congreso-archivos-canari
 as-los-llanos/
SUMMARY:III Congreso de Archivos en Canarias: Los Llanos de Aridane
DESCRIPTION:La cita se articula en torno a ponencias\, mesas redondas y tal
 leres prácticos.\n\nLos Llanos de Aridane albergará el III Congreso de A
 rchivos en Canarias\, una cita de ámbito nacional que se celebrará del 1
 4 al 16 de noviembre con motivo del vigésimo aniversario de la Asociació
 n de Archiveros de Canarias (Asarca). El evento reunirá a profesionales d
 el sector\, responsables públicos\, empresas vinculadas a la transformaci
 ón digital y ciudadanía interesada en la preservación del patrimonio do
 cumental.\n\nLa Asociación de Archiveros de Canarias conmemora así dos d
 écadas de trabajo por el desarrollo de la archivística en el Archipiéla
 go\, con una programación centrada en la evolución del sector y en los d
 esafíos actuales que plantea la gestión documental en plena era digital.
 \n\nEl congreso se articula en torno a ponencias\, mesas redondas y taller
 es prácticos que abordarán temáticas como la interoperabilidad de archi
 vos\, la ciberseguridad documental\, el uso de nuevas tecnologías\, la tr
 ansparencia y el gobierno abierto\, entre otros. También se debatirá sob
 re el marco legislativo vigente\, la preservación digital y el acceso ciu
 dadano a la información.\n\nEl acceso al evento será gratuito para los a
 sistentes previa inscripción\, (el plazo de inscripciones se abrirá pró
 ximamente) mientras que las empresas privadas deberán abonar una cuota po
 r su participación. La cita cuenta con la colaboración del Cabildo de La
  Palma\, el Ayuntamiento de Los Llanos de Aridane y la Dirección General 
 de Cultura y Patrimonio Cultural del Gobierno de Canarias.\n\nBajo el lema
  “Hagamos Memoria”\, la actividad se convierte en un foro clave para v
 isibilizar la importancia de los archivos como garantes de los derechos ci
 udadanos y como herramientas indispensables para la democracia\, la iguald
 ad y la transparencia.
ATTACH;FMTTYPE=image/jpeg:https://www.larevistadelapalma.com/wp-content/up
 loads/2025/06/Congreso-Archivos.jpeg
CATEGORIES:Formación,Otras propuestas
LOCATION:Municipio de Los Llanos de Aridane\, Los Llanos de Aridane\, Los L
 lanos de Aridane\, 38760\, España
GEO:28.660236;-17.913187
X-APPLE-STRUCTURED-LOCATION;VALUE=URI;X-ADDRESS=Los Llanos de Aridane\, Los
  Llanos de Aridane\, 38760\, España;X-APPLE-RADIUS=100;X-TITLE=Municipio 
 de Los Llanos de Aridane:geo:28.660236,-17.913187
END:VEVENT
END:VCALENDARBEGIN:VCALENDAR
VERSION:2.0
PRODID:-//wp-events-plugin.com//7.2.3.1//EN
TZID:Europe/London
X-WR-TIMEZONE:Europe/London
BEGIN:VEVENT
UID:3779@larevistadelapalma.com
DTSTART;VALUE=DATE:20251114
DTEND;VALUE=DATE:20251117
DTSTAMP:20250602T005826Z
URL:https://www.larevistadelapalma.com/events/iii-congreso-archivos-canari
 as-los-llanos/
SUMMARY:III Congreso de Archivos en Canarias: Los Llanos de Aridane
DESCRIPTION:La cita se articula en torno a ponencias\, mesas redondas y tal
 leres prácticos.\n\nLos Llanos de Aridane albergará el III Congreso de A
 rchivos en Canarias\, una cita de ámbito nacional que se celebrará del 1
 4 al 16 de noviembre con motivo del vigésimo aniversario de la Asociació
 n de Archiveros de Canarias (Asarca). El evento reunirá a profesionales d
 el sector\, responsables públicos\, empresas vinculadas a la transformaci
 ón digital y ciudadanía interesada en la preservación del patrimonio do
 cumental.\n\nLa Asociación de Archiveros de Canarias conmemora así dos d
 écadas de trabajo por el desarrollo de la archivística en el Archipiéla
 go\, con una programación centrada en la evolución del sector y en los d
 esafíos actuales que plantea la gestión documental en plena era digital.
 \n\nEl congreso se articula en torno a ponencias\, mesas redondas y taller
 es prácticos que abordarán temáticas como la interoperabilidad de archi
 vos\, la ciberseguridad documental\, el uso de nuevas tecnologías\, la tr
 ansparencia y el gobierno abierto\, entre otros. También se debatirá sob
 re el marco legislativo vigente\, la preservación digital y el acceso ciu
 dadano a la información.\n\nEl acceso al evento será gratuito para los a
 sistentes previa inscripción\, (el plazo de inscripciones se abrirá pró
 ximamente) mientras que las empresas privadas deberán abonar una cuota po
 r su participación. La cita cuenta con la colaboración del Cabildo de La
  Palma\, el Ayuntamiento de Los Llanos de Aridane y la Dirección General 
 de Cultura y Patrimonio Cultural del Gobierno de Canarias.\n\nBajo el lema
  “Hagamos Memoria”\, la actividad se convierte en un foro clave para v
 isibilizar la importancia de los archivos como garantes de los derechos ci
 udadanos y como herramientas indispensables para la democracia\, la iguald
 ad y la transparencia.
ATTACH;FMTTYPE=image/jpeg:https://www.larevistadelapalma.com/wp-content/up
 loads/2025/06/Congreso-Archivos.jpeg
CATEGORIES:Formación,Otras propuestas
LOCATION:Municipio de Los Llanos de Aridane\, Los Llanos de Aridane\, Los L
 lanos de Aridane\, 38760\, España
GEO:28.660236;-17.913187
X-APPLE-STRUCTURED-LOCATION;VALUE=URI;X-ADDRESS=Los Llanos de Aridane\, Los
  Llanos de Aridane\, 38760\, España;X-APPLE-RADIUS=100;X-TITLE=Municipio 
 de Los Llanos de Aridane:geo:28.660236,-17.913187
END:VEVENT
END:VCALENDAR