BEGIN:VCALENDAR
VERSION:2.0
PRODID:-//wp-events-plugin.com//7.2.3.1//EN
TZID:Europe/London
X-WR-TIMEZONE:Europe/London
BEGIN:VEVENT
UID:903@larevistadelapalma.com
DTSTART:20231209T190000Z
DTEND:20231209T203000Z
DTSTAMP:20231206T193831Z
URL:https://www.larevistadelapalma.com/events/iii-edicion-del-festival-imp
 ulso-2023/
SUMMARY:III Edición del Festival Impulso 2023
DESCRIPTION:\nConcierto de música clásica para quinteto de cuerda con ins
 trumentos históricos y clásicos.\nEste año con un repertorio centrado e
 n sol menor de Wolfgang Amadeus Mozart\, que irá acompañado de piezas de
  dúo\, trío en diferentes combinaciones compuestas por Schmelzer\, Bach 
 o Pachelbel\, entre otros.\n\n\nParticiparán violinistas y violonchelista
 s con una prolífica carrera internacional como solitas\, músicos de cám
 ara y formando parte de las mejores orquestas europeas.\nViolinistas: Harr
 iet Haynes\, Xenia Gogu\; Oscar Holch y Ana Dunne.\nViolonchelista y direc
 tor artístico: Víctor García García.\n\n\n\n\n\n\n\n\n\n\nEl Festival 
 además\, tiene un marcado carácter social \, y además de este concierto
  en el Museo Insular\, desarrollará distintas actuaciones en puntos de la
  Isla del 4 al 9 de diciembre para acercar la música a personas que por d
 iferentes circunstancias no pueden acceder a ella habitualmente. En la ima
 gen\, el momento de la presentación con Natalia Zamora\, de TAK PRODUCCIO
 NES\, que fue la impulsora de este proyecto.\n\n\n\n\nLa primera edición 
 del evento se desarrolló en 2019 y tuvo una gran acogida por parte del p
 úblico al que se dirigió la iniciativa\, un proyecto que se detuvo debid
 o\, en primer lugar\, a la pandemia de la COVID-19 y\, posteriormente\, po
 r la erupción de 2021 que afectó a la Isla. Esta es una idea ha contado 
 con Víctor García como director artístico.\n\nEl Festival Impulso tie
 ne una especial relevancia\, dado que busca acercar la música a personas 
 que\, por diversas razones\, no pueden acceder a los espectáculos que por
  estas fechas se suelen desarrollar en distintos puntos de la Isla y busca
  amenizar este periodo del año para todas las personas\, sin excepción.\
 n\nPrograma de la tercera edición del festival\n\nEn esta tercera edició
 n participan cinco músicos profesionales\, entre violines y violonchelos\
 , que se desplazarán a la Isla para ofrecer sus respectivos espectáculos
 .\n\nEl programa de este año recorrerá\, entre el 4 y el 9 de diciembre\
 , diferentes puntos de la Isla\, como el Hospital de Nuestra Señora de Do
 lores\; el Teatro Cine Chico Municipal de Santa Cruz de La Palma\, donde t
 endrá lugar el concierto dirigido a personas de la Red de Rehabilitación
  Psicosocial\; Residencia de Mayores La Dehesa y el Hospital Universitario
  de La Palma.\n\nEl nuevo ciclo concluirá con este concierto que les comp
 artimos hoy\, será abierto al público en el  Museo Insular de La Palma 
 el sábado\, 9 de diciembre\, a las 20:00 horas.\n\n\nOrganiza: Cabildo de
  La Palma
ATTACH;FMTTYPE=image/jpeg:https://www.larevistadelapalma.com/wp-content/up
 loads/2023/12/09.12-Museo-Insular-scaled.jpg
CATEGORIES:Conciertos,Música
LOCATION:Museo Insular de La Palma\, Plaza de San Francisco\, 3\, Santa Cru
 z de La Palma\, 38700\, España
GEO:28.687;-17.762092
X-APPLE-STRUCTURED-LOCATION;VALUE=URI;X-ADDRESS=Plaza de San Francisco\, 3\
 , Santa Cruz de La Palma\, 38700\, España;X-APPLE-RADIUS=100;X-TITLE=Muse
 o Insular de La Palma:geo:28.687,-17.762092
END:VEVENT
END:VCALENDARBEGIN:VCALENDAR
VERSION:2.0
PRODID:-//wp-events-plugin.com//7.2.3.1//EN
TZID:Europe/London
X-WR-TIMEZONE:Europe/London
BEGIN:VEVENT
UID:903@larevistadelapalma.com
DTSTART:20231209T190000Z
DTEND:20231209T203000Z
DTSTAMP:20231206T193831Z
URL:https://www.larevistadelapalma.com/events/iii-edicion-del-festival-imp
 ulso-2023/
SUMMARY:III Edición del Festival Impulso 2023
DESCRIPTION:\nConcierto de música clásica para quinteto de cuerda con ins
 trumentos históricos y clásicos.\nEste año con un repertorio centrado e
 n sol menor de Wolfgang Amadeus Mozart\, que irá acompañado de piezas de
  dúo\, trío en diferentes combinaciones compuestas por Schmelzer\, Bach 
 o Pachelbel\, entre otros.\n\n\nParticiparán violinistas y violonchelista
 s con una prolífica carrera internacional como solitas\, músicos de cám
 ara y formando parte de las mejores orquestas europeas.\nViolinistas: Harr
 iet Haynes\, Xenia Gogu\; Oscar Holch y Ana Dunne.\nViolonchelista y direc
 tor artístico: Víctor García García.\n\n\n\n\n\n\n\n\n\n\nEl Festival 
 además\, tiene un marcado carácter social \, y además de este concierto
  en el Museo Insular\, desarrollará distintas actuaciones en puntos de la
  Isla del 4 al 9 de diciembre para acercar la música a personas que por d
 iferentes circunstancias no pueden acceder a ella habitualmente. En la ima
 gen\, el momento de la presentación con Natalia Zamora\, de TAK PRODUCCIO
 NES\, que fue la impulsora de este proyecto.\n\n\n\n\nLa primera edición 
 del evento se desarrolló en 2019 y tuvo una gran acogida por parte del p
 úblico al que se dirigió la iniciativa\, un proyecto que se detuvo debid
 o\, en primer lugar\, a la pandemia de la COVID-19 y\, posteriormente\, po
 r la erupción de 2021 que afectó a la Isla. Esta es una idea ha contado 
 con Víctor García como director artístico.\n\nEl Festival Impulso tie
 ne una especial relevancia\, dado que busca acercar la música a personas 
 que\, por diversas razones\, no pueden acceder a los espectáculos que por
  estas fechas se suelen desarrollar en distintos puntos de la Isla y busca
  amenizar este periodo del año para todas las personas\, sin excepción.\
 n\nPrograma de la tercera edición del festival\n\nEn esta tercera edició
 n participan cinco músicos profesionales\, entre violines y violonchelos\
 , que se desplazarán a la Isla para ofrecer sus respectivos espectáculos
 .\n\nEl programa de este año recorrerá\, entre el 4 y el 9 de diciembre\
 , diferentes puntos de la Isla\, como el Hospital de Nuestra Señora de Do
 lores\; el Teatro Cine Chico Municipal de Santa Cruz de La Palma\, donde t
 endrá lugar el concierto dirigido a personas de la Red de Rehabilitación
  Psicosocial\; Residencia de Mayores La Dehesa y el Hospital Universitario
  de La Palma.\n\nEl nuevo ciclo concluirá con este concierto que les comp
 artimos hoy\, será abierto al público en el  Museo Insular de La Palma 
 el sábado\, 9 de diciembre\, a las 20:00 horas.\n\n\nOrganiza: Cabildo de
  La Palma
ATTACH;FMTTYPE=image/jpeg:https://www.larevistadelapalma.com/wp-content/up
 loads/2023/12/09.12-Museo-Insular-scaled.jpg
CATEGORIES:Conciertos,Música
LOCATION:Museo Insular de La Palma\, Plaza de San Francisco\, 3\, Santa Cru
 z de La Palma\, 38700\, España
GEO:28.687;-17.762092
X-APPLE-STRUCTURED-LOCATION;VALUE=URI;X-ADDRESS=Plaza de San Francisco\, 3\
 , Santa Cruz de La Palma\, 38700\, España;X-APPLE-RADIUS=100;X-TITLE=Muse
 o Insular de La Palma:geo:28.687,-17.762092
END:VEVENT
END:VCALENDAR