BEGIN:VCALENDAR
VERSION:2.0
PRODID:-//wp-events-plugin.com//7.2.3.1//EN
TZID:Europe/London
X-WR-TIMEZONE:Europe/London
BEGIN:VEVENT
UID:2979@larevistadelapalma.com
DTSTART;VALUE=DATE:20240705
DTEND;VALUE=DATE:20240707
DTSTAMP:20240509T193141Z
URL:https://www.larevistadelapalma.com/events/iii-edicion-del-talent-camp-
 la-palma/
SUMMARY:III Edición del Talent Camp La Palma
DESCRIPTION:\nLa III Edición del Talent Camp La Palma\, tendrá lugar los 
 días 5 y 6 de julio en San Andrés y Sauces.\n\n\n\n\nTalent Camp La Palm
 a\, es un proyecto de Sodepal\, que cuenta con la financiación del Cabild
 o de La Palma y la colaboración del San Andrés y Sauces\, siguiendo la e
 strategia de trabajo.\n\n\n\n\nEsta 3º edición del Talent Camp La Palma 
 se desarrollará siendo un espacio de encuentro anual para estudiantes y p
 ersonas tituladas de ciclos profesionales de grado medio\, superior y/o un
 iversitarios\, con el fin de trabajar diversas habilidades transversales n
 ecesarias para el desarrollo personal y profesional\, habilidades que habi
 tualmente se adquieren con la experiencia profesional\, manteniendo un ví
 nculo con la isla\, creando compromiso e imagen de marca\, ese sentir late
 nte de lo nuestro\, logrando en nuestros participantes que sean comunicado
 res activos de la identidad palmera y les permita generar nuevas oportunid
 ades en nuestro territorio.\n\nTALENT CAMP LA PALMA 2024\, está basado en
  metodologías “Learning by Doing”\, o lo que es lo mismo\, aprender h
 aciendo. El trabajo en equipo y la cooperación serán la clave de este p
 royecto creativo\n\n\nSi tienes entre 18 y 35 años\, estudias o tienes Fo
 rmación Profesional y/o estudios universitarios\, y quieres desarrollar t
 us proyectos para generar economía local\, te invitamos a participar de e
 sta experiencia.\n\nInscripciones abiertas hasta el 31 de mayo en este enl
 ace.\n\n
ATTACH;FMTTYPE=image/jpeg:https://www.larevistadelapalma.com/wp-content/up
 loads/2024/05/talent-camp-24.jpg
CATEGORIES:Formación,Otras propuestas
LOCATION:Municipio de San Andrés y Sauces\, San Andrés y Sauces\, San And
 rés y Sauces\, 38720\, España
GEO:28.801722;-17.779166
X-APPLE-STRUCTURED-LOCATION;VALUE=URI;X-ADDRESS=San Andrés y Sauces\, San 
 Andrés y Sauces\, 38720\, España;X-APPLE-RADIUS=100;X-TITLE=Municipio de
  San Andrés y Sauces:geo:28.801722,-17.779166
END:VEVENT
END:VCALENDARBEGIN:VCALENDAR
VERSION:2.0
PRODID:-//wp-events-plugin.com//7.2.3.1//EN
TZID:Europe/London
X-WR-TIMEZONE:Europe/London
BEGIN:VEVENT
UID:2979@larevistadelapalma.com
DTSTART;VALUE=DATE:20240705
DTEND;VALUE=DATE:20240707
DTSTAMP:20240509T193141Z
URL:https://www.larevistadelapalma.com/events/iii-edicion-del-talent-camp-
 la-palma/
SUMMARY:III Edición del Talent Camp La Palma
DESCRIPTION:\nLa III Edición del Talent Camp La Palma\, tendrá lugar los 
 días 5 y 6 de julio en San Andrés y Sauces.\n\n\n\n\nTalent Camp La Palm
 a\, es un proyecto de Sodepal\, que cuenta con la financiación del Cabild
 o de La Palma y la colaboración del San Andrés y Sauces\, siguiendo la e
 strategia de trabajo.\n\n\n\n\nEsta 3º edición del Talent Camp La Palma 
 se desarrollará siendo un espacio de encuentro anual para estudiantes y p
 ersonas tituladas de ciclos profesionales de grado medio\, superior y/o un
 iversitarios\, con el fin de trabajar diversas habilidades transversales n
 ecesarias para el desarrollo personal y profesional\, habilidades que habi
 tualmente se adquieren con la experiencia profesional\, manteniendo un ví
 nculo con la isla\, creando compromiso e imagen de marca\, ese sentir late
 nte de lo nuestro\, logrando en nuestros participantes que sean comunicado
 res activos de la identidad palmera y les permita generar nuevas oportunid
 ades en nuestro territorio.\n\nTALENT CAMP LA PALMA 2024\, está basado en
  metodologías “Learning by Doing”\, o lo que es lo mismo\, aprender h
 aciendo. El trabajo en equipo y la cooperación serán la clave de este p
 royecto creativo\n\n\nSi tienes entre 18 y 35 años\, estudias o tienes Fo
 rmación Profesional y/o estudios universitarios\, y quieres desarrollar t
 us proyectos para generar economía local\, te invitamos a participar de e
 sta experiencia.\n\nInscripciones abiertas hasta el 31 de mayo en este enl
 ace.\n\n
ATTACH;FMTTYPE=image/jpeg:https://www.larevistadelapalma.com/wp-content/up
 loads/2024/05/talent-camp-24.jpg
CATEGORIES:Formación,Otras propuestas
LOCATION:Municipio de San Andrés y Sauces\, San Andrés y Sauces\, San And
 rés y Sauces\, 38720\, España
GEO:28.801722;-17.779166
X-APPLE-STRUCTURED-LOCATION;VALUE=URI;X-ADDRESS=San Andrés y Sauces\, San 
 Andrés y Sauces\, 38720\, España;X-APPLE-RADIUS=100;X-TITLE=Municipio de
  San Andrés y Sauces:geo:28.801722,-17.779166
END:VEVENT
END:VCALENDAR