BEGIN:VCALENDAR
VERSION:2.0
PRODID:-//wp-events-plugin.com//7.2.3.1//EN
TZID:Europe/London
X-WR-TIMEZONE:Europe/London
BEGIN:VEVENT
UID:2722@larevistadelapalma.com
DTSTART:20240212T090000Z
DTEND:20240212T225900Z
DTSTAMP:20240208T232632Z
URL:https://www.larevistadelapalma.com/events/indianos-2024/
SUMMARY:Indianos 2024
DESCRIPTION:El carnaval más singular de cuantos se celebran en España hom
 enajea en la imagen oficial de este año a la figura de Antonio Abdo\, art
 ista\, escritor y creador del episodio de ‘La Espera’\, fallecido el p
 asado año.
ATTACH;FMTTYPE=image/jpeg:https://www.larevistadelapalma.com/wp-content/up
 loads/2024/01/Indianos-2024.jpg
CATEGORIES:Fiestas populares,Otras propuestas
LOCATION:Municipio de Santa Cruz de La Palma\, Santa Cruz de La Palma \, Sa
 nta Cruz de La Palma \, 38700\, España
GEO:28.688757;-17.765102
X-APPLE-STRUCTURED-LOCATION;VALUE=URI;X-ADDRESS=Santa Cruz de La Palma \, S
 anta Cruz de La Palma \, 38700\, España;X-APPLE-RADIUS=100;X-TITLE=Munici
 pio de Santa Cruz de La Palma:geo:28.688757,-17.765102
END:VEVENT
END:VCALENDARBEGIN:VCALENDAR
VERSION:2.0
PRODID:-//wp-events-plugin.com//7.2.3.1//EN
TZID:Europe/London
X-WR-TIMEZONE:Europe/London
BEGIN:VEVENT
UID:2722@larevistadelapalma.com
DTSTART:20240212T090000Z
DTEND:20240212T225900Z
DTSTAMP:20240208T232632Z
URL:https://www.larevistadelapalma.com/events/indianos-2024/
SUMMARY:Indianos 2024
DESCRIPTION:El carnaval más singular de cuantos se celebran en España hom
 enajea en la imagen oficial de este año a la figura de Antonio Abdo\, art
 ista\, escritor y creador del episodio de ‘La Espera’\, fallecido el p
 asado año.
ATTACH;FMTTYPE=image/jpeg:https://www.larevistadelapalma.com/wp-content/up
 loads/2024/01/Indianos-2024.jpg
CATEGORIES:Fiestas populares,Otras propuestas
LOCATION:Municipio de Santa Cruz de La Palma\, Santa Cruz de La Palma \, Sa
 nta Cruz de La Palma \, 38700\, España
GEO:28.688757;-17.765102
X-APPLE-STRUCTURED-LOCATION;VALUE=URI;X-ADDRESS=Santa Cruz de La Palma \, S
 anta Cruz de La Palma \, 38700\, España;X-APPLE-RADIUS=100;X-TITLE=Munici
 pio de Santa Cruz de La Palma:geo:28.688757,-17.765102
END:VEVENT
END:VCALENDAR