BEGIN:VCALENDAR
VERSION:2.0
PRODID:-//wp-events-plugin.com//7.2.3.1//EN
TZID:Europe/London
X-WR-TIMEZONE:Europe/London
BEGIN:VEVENT
UID:3614@larevistadelapalma.com
DTSTART:20250303T090000Z
DTEND:20250303T225900Z
DTSTAMP:20250221T010654Z
URL:https://www.larevistadelapalma.com/events/indianos-2025/
SUMMARY:Indianos 2025
DESCRIPTION:Como todos los años\, comienza desde las diez de la mañana\, 
 en el puerto de Santa Cruz de La Palma\, con el desembarco de la Negra Tom
 asa...
ATTACH;FMTTYPE=image/jpeg:https://www.larevistadelapalma.com/wp-content/up
 loads/2025/02/Indianos-2016-37-0.png
CATEGORIES:Fiestas populares,Otras propuestas
LOCATION:Municipio de Santa Cruz de La Palma\, Santa Cruz de La Palma \, Sa
 nta Cruz de La Palma \, 38700\, España
GEO:28.688757;-17.765102
X-APPLE-STRUCTURED-LOCATION;VALUE=URI;X-ADDRESS=Santa Cruz de La Palma \, S
 anta Cruz de La Palma \, 38700\, España;X-APPLE-RADIUS=100;X-TITLE=Munici
 pio de Santa Cruz de La Palma:geo:28.688757,-17.765102
END:VEVENT
END:VCALENDARBEGIN:VCALENDAR
VERSION:2.0
PRODID:-//wp-events-plugin.com//7.2.3.1//EN
TZID:Europe/London
X-WR-TIMEZONE:Europe/London
BEGIN:VEVENT
UID:3614@larevistadelapalma.com
DTSTART:20250303T090000Z
DTEND:20250303T225900Z
DTSTAMP:20250221T010654Z
URL:https://www.larevistadelapalma.com/events/indianos-2025/
SUMMARY:Indianos 2025
DESCRIPTION:Como todos los años\, comienza desde las diez de la mañana\, 
 en el puerto de Santa Cruz de La Palma\, con el desembarco de la Negra Tom
 asa...
ATTACH;FMTTYPE=image/jpeg:https://www.larevistadelapalma.com/wp-content/up
 loads/2025/02/Indianos-2016-37-0.png
CATEGORIES:Fiestas populares,Otras propuestas
LOCATION:Municipio de Santa Cruz de La Palma\, Santa Cruz de La Palma \, Sa
 nta Cruz de La Palma \, 38700\, España
GEO:28.688757;-17.765102
X-APPLE-STRUCTURED-LOCATION;VALUE=URI;X-ADDRESS=Santa Cruz de La Palma \, S
 anta Cruz de La Palma \, 38700\, España;X-APPLE-RADIUS=100;X-TITLE=Munici
 pio de Santa Cruz de La Palma:geo:28.688757,-17.765102
END:VEVENT
END:VCALENDAR