BEGIN:VCALENDAR
VERSION:2.0
PRODID:-//wp-events-plugin.com//7.2.3.1//EN
TZID:Europe/London
X-WR-TIMEZONE:Europe/London
BEGIN:VEVENT
UID:135@larevistadelapalma.com
DTSTART;VALUE=DATE:20230714
DTEND;VALUE=DATE:20230716
DTSTAMP:20230702T005421Z
URL:https://www.larevistadelapalma.com/events/iniciacion-a-la-fotografia-c
 on-moviles-para-jovenes-entre-12-y-30-anos/
SUMMARY:Iniciación a la fotografía con móviles (Para jóvenes entre 12 y
  30 años)
DESCRIPTION:Se desarrollará en el Centro Insular de Información Juvenil c
 on una salida por en el centro de la ciudad de Santa Cruz de La Palma.
ATTACH;FMTTYPE=image/jpeg:https://www.larevistadelapalma.com/wp-content/up
 loads/2023/07/Taller-iniciacion-fotografia-movil-cabildo.jpg
CATEGORIES:Formación,Otras propuestas
LOCATION:Municipio de Santa Cruz de La Palma\, Santa Cruz de La Palma \, Sa
 nta Cruz de La Palma \, 38700\, España
GEO:28.688757;-17.765102
X-APPLE-STRUCTURED-LOCATION;VALUE=URI;X-ADDRESS=Santa Cruz de La Palma \, S
 anta Cruz de La Palma \, 38700\, España;X-APPLE-RADIUS=100;X-TITLE=Munici
 pio de Santa Cruz de La Palma:geo:28.688757,-17.765102
END:VEVENT
END:VCALENDARBEGIN:VCALENDAR
VERSION:2.0
PRODID:-//wp-events-plugin.com//7.2.3.1//EN
TZID:Europe/London
X-WR-TIMEZONE:Europe/London
BEGIN:VEVENT
UID:135@larevistadelapalma.com
DTSTART;VALUE=DATE:20230714
DTEND;VALUE=DATE:20230716
DTSTAMP:20230702T005421Z
URL:https://www.larevistadelapalma.com/events/iniciacion-a-la-fotografia-c
 on-moviles-para-jovenes-entre-12-y-30-anos/
SUMMARY:Iniciación a la fotografía con móviles (Para jóvenes entre 12 y
  30 años)
DESCRIPTION:Se desarrollará en el Centro Insular de Información Juvenil c
 on una salida por en el centro de la ciudad de Santa Cruz de La Palma.
ATTACH;FMTTYPE=image/jpeg:https://www.larevistadelapalma.com/wp-content/up
 loads/2023/07/Taller-iniciacion-fotografia-movil-cabildo.jpg
CATEGORIES:Formación,Otras propuestas
LOCATION:Municipio de Santa Cruz de La Palma\, Santa Cruz de La Palma \, Sa
 nta Cruz de La Palma \, 38700\, España
GEO:28.688757;-17.765102
X-APPLE-STRUCTURED-LOCATION;VALUE=URI;X-ADDRESS=Santa Cruz de La Palma \, S
 anta Cruz de La Palma \, 38700\, España;X-APPLE-RADIUS=100;X-TITLE=Munici
 pio de Santa Cruz de La Palma:geo:28.688757,-17.765102
END:VEVENT
END:VCALENDAR