BEGIN:VCALENDAR
VERSION:2.0
PRODID:-//wp-events-plugin.com//7.2.3.1//EN
TZID:Europe/London
X-WR-TIMEZONE:Europe/London
BEGIN:VEVENT
UID:854@larevistadelapalma.com
DTSTART;VALUE=DATE:20231120
DTEND;VALUE=DATE:20231201
DTSTAMP:20231118T212725Z
URL:https://www.larevistadelapalma.com/events/inscripcion-real-market-2023
 /
SUMMARY:Abierto el plazo de inscripción para el Real Market 2023
DESCRIPTION:El Ayuntamiento de Los Llanos de Aridane  ha confirmado que de
 sde hoy todos aquellos artistas que estén interesados en participar en la
  7º edición del Real Market en las modalidades de pintura\, escultura\, 
 obra gráfica y fotografía\, y podrán inscribirse hasta el próximo 30 d
 e noviembre de 2023.\nEste mercado del arte abrirá sus puertas del 14 de 
 diciembre al 5 de enero de 2024\, ambos inclusive\, en las salas del Espac
 io Cultural Real 21\, y el número máximo de autores será 20.\nDesde la 
 concejalía de Cultura explican que podrán participar todas las personas 
 físicas residentes en territorio español\, mayores de edad\, y lo deber
 án hacer a través del Registro General del Excmo. Ayuntamiento de Los Ll
 anos de Aridane\, en el horario de atención al público\, o en los Regist
 ros y Oficinas a que se refiere la Ley 39/2015\, de 1 de octubre\, del Pro
 cedimiento Administrativo Común de las Administraciones Públicas.\n\nLas
  solicitudes consistirán en un currículo acompañado de dossier\, book\,
  soporte electrónico de la obra del autor\, describiendo detalladamente c
 aracterísticas\, composición\, técnicas\, elementos o medidas de la obr
 a. También se tendrá que presentar detalladamente el nombre y apellidos 
 del autor\, el nombre artístico\, correo electrónico\, teléfono de cont
 acto\, biografía con un máximo de 200 palabras\, y enlaces a sitios webs
  del autor como web\, o redes sociales para conocer otras propuestas artí
 sticas del artista.\n\n\nLas bases estarán disponibles en la página web 
 www.aridane.org.  Enlace directo &gt\;&gt\;\n\n\n\n\n\n
ATTACH;FMTTYPE=image/jpeg:https://www.larevistadelapalma.com/wp-content/up
 loads/2023/11/Real-Market-Los-Llanos.jpg
CATEGORIES:Exposiciones,Ferias y mercados,Otras propuestas
LOCATION:Espacio Cultural Real 21\, Los Llanos de Aridane\, C. Real\, 21\,\
 , Los Llanos de Aridane\, 38760\, España
GEO:28.658619;-17.910989
X-APPLE-STRUCTURED-LOCATION;VALUE=URI;X-ADDRESS=C. Real\, 21\,\, Los Llanos
  de Aridane\, 38760\, España;X-APPLE-RADIUS=100;X-TITLE=Espacio Cultural 
 Real 21\, Los Llanos de Aridane:geo:28.658619,-17.910989
END:VEVENT
END:VCALENDARBEGIN:VCALENDAR
VERSION:2.0
PRODID:-//wp-events-plugin.com//7.2.3.1//EN
TZID:Europe/London
X-WR-TIMEZONE:Europe/London
BEGIN:VEVENT
UID:854@larevistadelapalma.com
DTSTART;VALUE=DATE:20231120
DTEND;VALUE=DATE:20231201
DTSTAMP:20231118T212725Z
URL:https://www.larevistadelapalma.com/events/inscripcion-real-market-2023
 /
SUMMARY:Abierto el plazo de inscripción para el Real Market 2023
DESCRIPTION:El Ayuntamiento de Los Llanos de Aridane  ha confirmado que de
 sde hoy todos aquellos artistas que estén interesados en participar en la
  7º edición del Real Market en las modalidades de pintura\, escultura\, 
 obra gráfica y fotografía\, y podrán inscribirse hasta el próximo 30 d
 e noviembre de 2023.\nEste mercado del arte abrirá sus puertas del 14 de 
 diciembre al 5 de enero de 2024\, ambos inclusive\, en las salas del Espac
 io Cultural Real 21\, y el número máximo de autores será 20.\nDesde la 
 concejalía de Cultura explican que podrán participar todas las personas 
 físicas residentes en territorio español\, mayores de edad\, y lo deber
 án hacer a través del Registro General del Excmo. Ayuntamiento de Los Ll
 anos de Aridane\, en el horario de atención al público\, o en los Regist
 ros y Oficinas a que se refiere la Ley 39/2015\, de 1 de octubre\, del Pro
 cedimiento Administrativo Común de las Administraciones Públicas.\n\nLas
  solicitudes consistirán en un currículo acompañado de dossier\, book\,
  soporte electrónico de la obra del autor\, describiendo detalladamente c
 aracterísticas\, composición\, técnicas\, elementos o medidas de la obr
 a. También se tendrá que presentar detalladamente el nombre y apellidos 
 del autor\, el nombre artístico\, correo electrónico\, teléfono de cont
 acto\, biografía con un máximo de 200 palabras\, y enlaces a sitios webs
  del autor como web\, o redes sociales para conocer otras propuestas artí
 sticas del artista.\n\n\nLas bases estarán disponibles en la página web 
 www.aridane.org.  Enlace directo &gt\;&gt\;\n\n\n\n\n\n
ATTACH;FMTTYPE=image/jpeg:https://www.larevistadelapalma.com/wp-content/up
 loads/2023/11/Real-Market-Los-Llanos.jpg
CATEGORIES:Exposiciones,Ferias y mercados,Otras propuestas
LOCATION:Espacio Cultural Real 21\, Los Llanos de Aridane\, C. Real\, 21\,\
 , Los Llanos de Aridane\, 38760\, España
GEO:28.658619;-17.910989
X-APPLE-STRUCTURED-LOCATION;VALUE=URI;X-ADDRESS=C. Real\, 21\,\, Los Llanos
  de Aridane\, 38760\, España;X-APPLE-RADIUS=100;X-TITLE=Espacio Cultural 
 Real 21\, Los Llanos de Aridane:geo:28.658619,-17.910989
END:VEVENT
END:VCALENDAR