BEGIN:VCALENDAR
VERSION:2.0
PRODID:-//wp-events-plugin.com//7.2.3.1//EN
TZID:Europe/London
X-WR-TIMEZONE:Europe/London
BEGIN:VEVENT
UID:3498@larevistadelapalma.com
DTSTART;VALUE=DATE:20250114
DTEND;VALUE=DATE:20250117
DTSTAMP:20241213T122658Z
URL:https://www.larevistadelapalma.com/events/inteligencia-artificial-curs
 o/
SUMMARY:Inteligencia Artificial: Fundamentos y Herramientas
DESCRIPTION:La Universidad de La Laguna y el Cabildo de La Palma\, ponen en
  marcha una nueva edición de la Universidad de Otoño-Invierno con una qu
 incena de actividades que darán comienzo el próximo 14 de diciembre y se
  prolongarán hasta el 20 febrero de 2024.\n\nDentro de esta programación
  formativa\, Santa Cruz de La Palma acoge el curso de Extensión Universit
 aria «Inteligencia Artificial: Fundamentos y Herramientas»\, que se cele
 brará los días 14 al 16 de enero de 2025 en el marco de la “Universida
 d de Otoño-Invierno de La Palma 2024-2025”.\n\nObjetivos:\n\n 	Conocer 
 los fundamentos de la inteligencia artificial.\n 	Entender los principales
  modelos de Inteligencia Artificial.\n 	Aprender a usar herramientas de in
 teligencia generativa basadas en chat: ChatGPT\, Google Gemini\, Copilot.\
 n 	Presentar aplicaciones Inteligencia Artificial en diferentes ámbitos: 
 análisis de texto\, generación de imágenes\, problemas de clasificació
 n\, generación de audio\, etc.\n 	Reflexionar sobre las implicaciones ét
 icas asociadas al desarrollo de la inteligencia artificial.\n\nEl curso es
 tá dirigido a todas aquellas personas interesadas en conocer los fundamen
 tos de la inteligencia artificial y en explorar herramientas de utilidad e
 n diferentes ámbitos. No se requieren conocimientos previos de la materia
 .\n\nDirección académica: Juan Albino Méndez Pérez. Catedrático de Un
 iversidad\, Departamento de Ingeniería Informática y Sistemas de la Univ
 ersidad de La Laguna.\n\nCERTIFICADO DE ASISTENCIA\, APTITUD Y RECONOCIMIE
 NTO POR CRÉDITO ECTS\n\nLa Universidad de La Laguna\, a través del Vicer
 rectorado de Cultura y Extensión Universitaria\, emitirá un certificado 
 de asistencia a todas aquellas personas que asistan a un mínimo del 80% d
 e las horas lectivas presenciales. Asimismo\, aquellas personas que supere
 n el trabajo autónomo del alumnado\, recibirán un certificado de asisten
 cia y aprovechamiento\, reconocible a su vez por un crédito ECTS.\n\nSala
  Centro- S/C de La Palma.\n\nConsulta el programa e inscríbete aquí.\n\n
 Contacto: extuni@ull.es\n\nMás cursos de la Universidad de Otoño-Invier
 no AQUÍ &gt\;&gt\;
ATTACH;FMTTYPE=image/jpeg:https://www.larevistadelapalma.com/wp-content/up
 loads/2024/12/Inteligencia-Artificial_-Fundamentos-y-Herramientas.png
CATEGORIES:Formación,Otras propuestas
LOCATION:Municipio de Santa Cruz de La Palma\, Santa Cruz de La Palma \, Sa
 nta Cruz de La Palma \, 38700\, España
GEO:28.688757;-17.765102
X-APPLE-STRUCTURED-LOCATION;VALUE=URI;X-ADDRESS=Santa Cruz de La Palma \, S
 anta Cruz de La Palma \, 38700\, España;X-APPLE-RADIUS=100;X-TITLE=Munici
 pio de Santa Cruz de La Palma:geo:28.688757,-17.765102
END:VEVENT
END:VCALENDARBEGIN:VCALENDAR
VERSION:2.0
PRODID:-//wp-events-plugin.com//7.2.3.1//EN
TZID:Europe/London
X-WR-TIMEZONE:Europe/London
BEGIN:VEVENT
UID:3498@larevistadelapalma.com
DTSTART;VALUE=DATE:20250114
DTEND;VALUE=DATE:20250117
DTSTAMP:20241213T122658Z
URL:https://www.larevistadelapalma.com/events/inteligencia-artificial-curs
 o/
SUMMARY:Inteligencia Artificial: Fundamentos y Herramientas
DESCRIPTION:La Universidad de La Laguna y el Cabildo de La Palma\, ponen en
  marcha una nueva edición de la Universidad de Otoño-Invierno con una qu
 incena de actividades que darán comienzo el próximo 14 de diciembre y se
  prolongarán hasta el 20 febrero de 2024.\n\nDentro de esta programación
  formativa\, Santa Cruz de La Palma acoge el curso de Extensión Universit
 aria «Inteligencia Artificial: Fundamentos y Herramientas»\, que se cele
 brará los días 14 al 16 de enero de 2025 en el marco de la “Universida
 d de Otoño-Invierno de La Palma 2024-2025”.\n\nObjetivos:\n\n 	Conocer 
 los fundamentos de la inteligencia artificial.\n 	Entender los principales
  modelos de Inteligencia Artificial.\n 	Aprender a usar herramientas de in
 teligencia generativa basadas en chat: ChatGPT\, Google Gemini\, Copilot.\
 n 	Presentar aplicaciones Inteligencia Artificial en diferentes ámbitos: 
 análisis de texto\, generación de imágenes\, problemas de clasificació
 n\, generación de audio\, etc.\n 	Reflexionar sobre las implicaciones ét
 icas asociadas al desarrollo de la inteligencia artificial.\n\nEl curso es
 tá dirigido a todas aquellas personas interesadas en conocer los fundamen
 tos de la inteligencia artificial y en explorar herramientas de utilidad e
 n diferentes ámbitos. No se requieren conocimientos previos de la materia
 .\n\nDirección académica: Juan Albino Méndez Pérez. Catedrático de Un
 iversidad\, Departamento de Ingeniería Informática y Sistemas de la Univ
 ersidad de La Laguna.\n\nCERTIFICADO DE ASISTENCIA\, APTITUD Y RECONOCIMIE
 NTO POR CRÉDITO ECTS\n\nLa Universidad de La Laguna\, a través del Vicer
 rectorado de Cultura y Extensión Universitaria\, emitirá un certificado 
 de asistencia a todas aquellas personas que asistan a un mínimo del 80% d
 e las horas lectivas presenciales. Asimismo\, aquellas personas que supere
 n el trabajo autónomo del alumnado\, recibirán un certificado de asisten
 cia y aprovechamiento\, reconocible a su vez por un crédito ECTS.\n\nSala
  Centro- S/C de La Palma.\n\nConsulta el programa e inscríbete aquí.\n\n
 Contacto: extuni@ull.es\n\nMás cursos de la Universidad de Otoño-Invier
 no AQUÍ &gt\;&gt\;
ATTACH;FMTTYPE=image/jpeg:https://www.larevistadelapalma.com/wp-content/up
 loads/2024/12/Inteligencia-Artificial_-Fundamentos-y-Herramientas.png
CATEGORIES:Formación,Otras propuestas
LOCATION:Municipio de Santa Cruz de La Palma\, Santa Cruz de La Palma \, Sa
 nta Cruz de La Palma \, 38700\, España
GEO:28.688757;-17.765102
X-APPLE-STRUCTURED-LOCATION;VALUE=URI;X-ADDRESS=Santa Cruz de La Palma \, S
 anta Cruz de La Palma \, 38700\, España;X-APPLE-RADIUS=100;X-TITLE=Munici
 pio de Santa Cruz de La Palma:geo:28.688757,-17.765102
END:VEVENT
END:VCALENDAR