BEGIN:VCALENDAR
VERSION:2.0
PRODID:-//wp-events-plugin.com//7.2.3.1//EN
TZID:Europe/London
X-WR-TIMEZONE:Europe/London
BEGIN:VEVENT
UID:4095@larevistadelapalma.com
DTSTART;VALUE=DATE:20251219
DTEND;VALUE=DATE:20251221
DTSTAMP:20251210T201925Z
URL:https://www.larevistadelapalma.com/events/isla-bonita-moda-celebra-una
 -nueva-edicion-de-su-shopping-weekend/
SUMMARY:Isla Bonita Moda celebra una nueva edición de su Shopping Weekend
DESCRIPTION:Isla Bonita Moda celebra una nueva edición de su Shopping Wee
 kend by IBM en Santa Cruz de La Palma.\n\nIsla Bonita Moda organiza una n
 ueva edición especial de Navidad de su evento Shopping Weekend\, que se c
 elebrará los días 19 y 20 de diciembre en el Palacio de Salazar\, en 
 Santa Cruz de La Palma. El evento permanecerá abierto al público en hora
 rio de 10:00 a 14:00 horas y de 17:00 a 20:00 horas.\n\nEsta cita reuni
 rá a una amplia representación de firmas pertenecientes al programa Isla
  Bonita Moda\, que presentarán sus propuestas para esta temporada y una a
 mplia variedad de artículos ideales para regalar en Navidad.\nEntre las m
 arcas participantes se encuentran Atelier El Tesoro\, Ban Artesanía en Cu
 ero\, Diazar Atelier\, Gohemm\, Julia Brito\, La Sereca\, Lepa Punca\, Mar
 arte\, Maru La Palma\, Raquel SanJuán\, Rayco Plata\, Sara Luis Joyas\, S
 hamelu\, Silvia Baly y Xanalue\, que acercarán al público sus trabajos m
 ás recientes en las categorías de moda\, complementos y artesanía conte
 mporánea.\nDurante dos jornadas\, el Palacio de Salazar se convertirá en
  un espacio de encuentro entre creadores y visitantes\, contribuyendo a re
 forzar la visibilidad del talento local y a dinamizar la actividad comerci
 al en el corazón de la capital.\n\nEsta edición se suma a las ya celebra
 das en otros municipio de la isla como Tazacorte o El Paso\; la más recie
 nte en Los Llanos de Aridane o la también la celebrada en Madrid el pasad
 o mes de mayo. La edición navideña del Shopping Weekend by Isla Bonita 
 Moda se consolida así como una oportunidad única para apoyar el diseño
  y la artesanía palmera en una de las épocas con mayor dinamización com
 ercial del año.
ATTACH;FMTTYPE=image/jpeg:https://www.larevistadelapalma.com/wp-content/up
 loads/2025/12/Shopping-weekend.png
CATEGORIES:Ferias y mercados,Otras propuestas,Varios
LOCATION:Casa principal de Salazar\, Calle Odaly\, 22\, Santa Cruz de La Pa
 lma\, 38700\, España
GEO:28.682275;-17.765795
X-APPLE-STRUCTURED-LOCATION;VALUE=URI;X-ADDRESS=Calle Odaly\, 22\, Santa Cr
 uz de La Palma\, 38700\, España;X-APPLE-RADIUS=100;X-TITLE=Casa principal
  de Salazar:geo:28.682275,-17.765795
END:VEVENT
END:VCALENDARBEGIN:VCALENDAR
VERSION:2.0
PRODID:-//wp-events-plugin.com//7.2.3.1//EN
TZID:Europe/London
X-WR-TIMEZONE:Europe/London
BEGIN:VEVENT
UID:4095@larevistadelapalma.com
DTSTART;VALUE=DATE:20251219
DTEND;VALUE=DATE:20251221
DTSTAMP:20251210T201925Z
URL:https://www.larevistadelapalma.com/events/isla-bonita-moda-celebra-una
 -nueva-edicion-de-su-shopping-weekend/
SUMMARY:Isla Bonita Moda celebra una nueva edición de su Shopping Weekend
DESCRIPTION:Isla Bonita Moda celebra una nueva edición de su Shopping Wee
 kend by IBM en Santa Cruz de La Palma.\n\nIsla Bonita Moda organiza una n
 ueva edición especial de Navidad de su evento Shopping Weekend\, que se c
 elebrará los días 19 y 20 de diciembre en el Palacio de Salazar\, en 
 Santa Cruz de La Palma. El evento permanecerá abierto al público en hora
 rio de 10:00 a 14:00 horas y de 17:00 a 20:00 horas.\n\nEsta cita reuni
 rá a una amplia representación de firmas pertenecientes al programa Isla
  Bonita Moda\, que presentarán sus propuestas para esta temporada y una a
 mplia variedad de artículos ideales para regalar en Navidad.\nEntre las m
 arcas participantes se encuentran Atelier El Tesoro\, Ban Artesanía en Cu
 ero\, Diazar Atelier\, Gohemm\, Julia Brito\, La Sereca\, Lepa Punca\, Mar
 arte\, Maru La Palma\, Raquel SanJuán\, Rayco Plata\, Sara Luis Joyas\, S
 hamelu\, Silvia Baly y Xanalue\, que acercarán al público sus trabajos m
 ás recientes en las categorías de moda\, complementos y artesanía conte
 mporánea.\nDurante dos jornadas\, el Palacio de Salazar se convertirá en
  un espacio de encuentro entre creadores y visitantes\, contribuyendo a re
 forzar la visibilidad del talento local y a dinamizar la actividad comerci
 al en el corazón de la capital.\n\nEsta edición se suma a las ya celebra
 das en otros municipio de la isla como Tazacorte o El Paso\; la más recie
 nte en Los Llanos de Aridane o la también la celebrada en Madrid el pasad
 o mes de mayo. La edición navideña del Shopping Weekend by Isla Bonita 
 Moda se consolida así como una oportunidad única para apoyar el diseño
  y la artesanía palmera en una de las épocas con mayor dinamización com
 ercial del año.
ATTACH;FMTTYPE=image/jpeg:https://www.larevistadelapalma.com/wp-content/up
 loads/2025/12/Shopping-weekend.png
CATEGORIES:Ferias y mercados,Otras propuestas,Varios
LOCATION:Casa principal de Salazar\, Calle Odaly\, 22\, Santa Cruz de La Pa
 lma\, 38700\, España
GEO:28.682275;-17.765795
X-APPLE-STRUCTURED-LOCATION;VALUE=URI;X-ADDRESS=Calle Odaly\, 22\, Santa Cr
 uz de La Palma\, 38700\, España;X-APPLE-RADIUS=100;X-TITLE=Casa principal
  de Salazar:geo:28.682275,-17.765795
END:VEVENT
END:VCALENDAR