BEGIN:VCALENDAR
VERSION:2.0
PRODID:-//wp-events-plugin.com//7.2.3.1//EN
TZID:Europe/London
X-WR-TIMEZONE:Europe/London
BEGIN:VEVENT
UID:3257@larevistadelapalma.com
DTSTART;VALUE=DATE:20241019
DTEND;VALUE=DATE:20241020
DTSTAMP:20240924T201644Z
URL:https://www.larevistadelapalma.com/events/islainnova-i-congreso-de-com
 ercio-y-empresa-2/
SUMMARY:‘IslaInnova: I Congreso de Comercio y Empresa’
DESCRIPTION:El Cabildo de La Palma\, a través de la empresa pública Sodep
 al\, y con la colaboración del Ayuntamiento de Breña Alta\, organiza el 
 I Congreso de Comercio y Empresa “IslaInnova”\, un encuentro dirigido 
 a comercios\, empresas y emprendedores de la Isla que se desarrollará ent
 re los días 17 y 19 de octubre en la Plaza Bujaz de Breña Alta.\n\nConta
 rá con las conferencias de Emilio Duró y Elsa Punset. \n\nEl primer con
 greso reunirá a un variado número de profesionales especialistas en dist
 intas temáticas potenciadoras de la empresa\, como por ejemplo\, el uso d
 e la inteligencia artificial\, la importancia de la imagen y marca\, la co
 municación visual y uso de redes sociales y la inteligencia emocional des
 tinada a alcanzar el éxito. Además\, contarán con la participación de 
 empresas locales que expondrán la experiencia adquirida durante su andadu
 ra profesional con el objeto de concienciar sobre la importancia que tiene
 n la innovación y la modernización dentro\ndel marco del comercio y la e
 mpresa.\n\nLas personas asistentes podrán disfrutar de ponencias a cargo 
 de expertos como Emilio Duró y Elsa Punset\, que desembarcarán por prime
 ra vez en la Isla. Emilio Duró\, destaca por ser un conferenciante con am
 plio bagaje en el mundo empresarial y firme defensor de la importancia de 
 las actitudes y valores proactivos en la vida personal y profesional.\n\nE
 lsa Punset\, por su parte\, representa una de las principales figuras de h
 abla hispana en el mundo para la divulgación de la inteligencia emocional
  como herramienta para el optimismo inteligente.\n\nEl Congreso cuenta con
  la participación de la Cámara de Comercio de Santa Cruz de Tenerife\, y
  las diferentes asociaciones comerciales de la Isla\, así como con la par
 ticipación de Fedepalma y FAEP.\n\nLa totalidad del programa todavía no 
 se ha hecho pública.\n+Info e inscripciones &gt\;&gt\;
ATTACH;FMTTYPE=image/jpeg:https://www.larevistadelapalma.com/wp-content/up
 loads/2024/09/islainnova-1024x923-1.jpg
CATEGORIES:Otras propuestas,Varios
LOCATION:Plaza Bujaz\, Breña Alta\, Calle Treinta de Mayo\, Breña Alta\, 
 38710\, España
GEO:28.662869;-17.788333
X-APPLE-STRUCTURED-LOCATION;VALUE=URI;X-ADDRESS=Calle Treinta de Mayo\, Bre
 ña Alta\, 38710\, España;X-APPLE-RADIUS=100;X-TITLE=Plaza Bujaz\, Breña
  Alta:geo:28.662869,-17.788333
END:VEVENT
END:VCALENDARBEGIN:VCALENDAR
VERSION:2.0
PRODID:-//wp-events-plugin.com//7.2.3.1//EN
TZID:Europe/London
X-WR-TIMEZONE:Europe/London
BEGIN:VEVENT
UID:3257@larevistadelapalma.com
DTSTART;VALUE=DATE:20241019
DTEND;VALUE=DATE:20241020
DTSTAMP:20240924T201644Z
URL:https://www.larevistadelapalma.com/events/islainnova-i-congreso-de-com
 ercio-y-empresa-2/
SUMMARY:‘IslaInnova: I Congreso de Comercio y Empresa’
DESCRIPTION:El Cabildo de La Palma\, a través de la empresa pública Sodep
 al\, y con la colaboración del Ayuntamiento de Breña Alta\, organiza el 
 I Congreso de Comercio y Empresa “IslaInnova”\, un encuentro dirigido 
 a comercios\, empresas y emprendedores de la Isla que se desarrollará ent
 re los días 17 y 19 de octubre en la Plaza Bujaz de Breña Alta.\n\nConta
 rá con las conferencias de Emilio Duró y Elsa Punset. \n\nEl primer con
 greso reunirá a un variado número de profesionales especialistas en dist
 intas temáticas potenciadoras de la empresa\, como por ejemplo\, el uso d
 e la inteligencia artificial\, la importancia de la imagen y marca\, la co
 municación visual y uso de redes sociales y la inteligencia emocional des
 tinada a alcanzar el éxito. Además\, contarán con la participación de 
 empresas locales que expondrán la experiencia adquirida durante su andadu
 ra profesional con el objeto de concienciar sobre la importancia que tiene
 n la innovación y la modernización dentro\ndel marco del comercio y la e
 mpresa.\n\nLas personas asistentes podrán disfrutar de ponencias a cargo 
 de expertos como Emilio Duró y Elsa Punset\, que desembarcarán por prime
 ra vez en la Isla. Emilio Duró\, destaca por ser un conferenciante con am
 plio bagaje en el mundo empresarial y firme defensor de la importancia de 
 las actitudes y valores proactivos en la vida personal y profesional.\n\nE
 lsa Punset\, por su parte\, representa una de las principales figuras de h
 abla hispana en el mundo para la divulgación de la inteligencia emocional
  como herramienta para el optimismo inteligente.\n\nEl Congreso cuenta con
  la participación de la Cámara de Comercio de Santa Cruz de Tenerife\, y
  las diferentes asociaciones comerciales de la Isla\, así como con la par
 ticipación de Fedepalma y FAEP.\n\nLa totalidad del programa todavía no 
 se ha hecho pública.\n+Info e inscripciones &gt\;&gt\;
ATTACH;FMTTYPE=image/jpeg:https://www.larevistadelapalma.com/wp-content/up
 loads/2024/09/islainnova-1024x923-1.jpg
CATEGORIES:Otras propuestas,Varios
LOCATION:Plaza Bujaz\, Breña Alta\, Calle Treinta de Mayo\, Breña Alta\, 
 38710\, España
GEO:28.662869;-17.788333
X-APPLE-STRUCTURED-LOCATION;VALUE=URI;X-ADDRESS=Calle Treinta de Mayo\, Bre
 ña Alta\, 38710\, España;X-APPLE-RADIUS=100;X-TITLE=Plaza Bujaz\, Breña
  Alta:geo:28.662869,-17.788333
END:VEVENT
END:VCALENDAR