BEGIN:VCALENDAR
VERSION:2.0
PRODID:-//wp-events-plugin.com//7.2.3.1//EN
TZID:Europe/London
X-WR-TIMEZONE:Europe/London
BEGIN:VEVENT
UID:3526@larevistadelapalma.com
DTSTART:20250110T193000Z
DTEND:20250110T210000Z
DTSTAMP:20241220T173054Z
URL:https://www.larevistadelapalma.com/events/ismael-serrano-en-santa-cruz
 -de-la-palma/
SUMMARY:Ismael Serrano en Santa Cruz de La Palma
DESCRIPTION:\nIsmael Serrano regresa el próximo enero a Santa Cruz de La P
 alma en formato acústico (guitarra y voz)\, para sorprendernos con un nue
 vo espectáculo lleno de poesía\, en el que invita al público a disfruta
 r del privilegio de escuchar\, además de sus éxitos de siempre\, cancion
 es de su más reciente trabajo ‘La canción de nuestra vida’. Temas qu
 e\, sin duda\, se convertirán en nuevos himnos para recordar aquel tiempo
  efervescente en el que nos sentimos intensamente vivos y el futuro era nu
 estro.\nEn palabras de Ismael Serrano: «La vida sin música es un etcéte
 ra\, un aburrido inventario de anécdotas en blanco y negro\, un viaje en 
 barco con marejada y en un camarote sin vistas al exterior. La música nos
  rescata y el empeño del cantautor es encontrar esa canción que ha de co
 nvertirse en compañera de nuestra vida\, para salvarnos de la pena en los
  momentos difíciles\, para festejar los encuentros\, para sobrellevar las
  despedidas\, para recordar el tiempo en que fuimos eternos\, para celebra
 r lo compartido. Una vida sin música es una vida perdida».\nComprar entr
 adas &gt\;&gt\;\n\n
ATTACH;FMTTYPE=image/jpeg:https://www.larevistadelapalma.com/wp-content/up
 loads/2024/12/Ismael-serrano.jpg
CATEGORIES:Conciertos,Música
LOCATION:Museo Insular de La Palma\, Plaza de San Francisco\, 3\, Santa Cru
 z de La Palma\, 38700\, España
GEO:28.687;-17.762092
X-APPLE-STRUCTURED-LOCATION;VALUE=URI;X-ADDRESS=Plaza de San Francisco\, 3\
 , Santa Cruz de La Palma\, 38700\, España;X-APPLE-RADIUS=100;X-TITLE=Muse
 o Insular de La Palma:geo:28.687,-17.762092
END:VEVENT
END:VCALENDARBEGIN:VCALENDAR
VERSION:2.0
PRODID:-//wp-events-plugin.com//7.2.3.1//EN
TZID:Europe/London
X-WR-TIMEZONE:Europe/London
BEGIN:VEVENT
UID:3526@larevistadelapalma.com
DTSTART:20250110T193000Z
DTEND:20250110T210000Z
DTSTAMP:20241220T173054Z
URL:https://www.larevistadelapalma.com/events/ismael-serrano-en-santa-cruz
 -de-la-palma/
SUMMARY:Ismael Serrano en Santa Cruz de La Palma
DESCRIPTION:\nIsmael Serrano regresa el próximo enero a Santa Cruz de La P
 alma en formato acústico (guitarra y voz)\, para sorprendernos con un nue
 vo espectáculo lleno de poesía\, en el que invita al público a disfruta
 r del privilegio de escuchar\, además de sus éxitos de siempre\, cancion
 es de su más reciente trabajo ‘La canción de nuestra vida’. Temas qu
 e\, sin duda\, se convertirán en nuevos himnos para recordar aquel tiempo
  efervescente en el que nos sentimos intensamente vivos y el futuro era nu
 estro.\nEn palabras de Ismael Serrano: «La vida sin música es un etcéte
 ra\, un aburrido inventario de anécdotas en blanco y negro\, un viaje en 
 barco con marejada y en un camarote sin vistas al exterior. La música nos
  rescata y el empeño del cantautor es encontrar esa canción que ha de co
 nvertirse en compañera de nuestra vida\, para salvarnos de la pena en los
  momentos difíciles\, para festejar los encuentros\, para sobrellevar las
  despedidas\, para recordar el tiempo en que fuimos eternos\, para celebra
 r lo compartido. Una vida sin música es una vida perdida».\nComprar entr
 adas &gt\;&gt\;\n\n
ATTACH;FMTTYPE=image/jpeg:https://www.larevistadelapalma.com/wp-content/up
 loads/2024/12/Ismael-serrano.jpg
CATEGORIES:Conciertos,Música
LOCATION:Museo Insular de La Palma\, Plaza de San Francisco\, 3\, Santa Cru
 z de La Palma\, 38700\, España
GEO:28.687;-17.762092
X-APPLE-STRUCTURED-LOCATION;VALUE=URI;X-ADDRESS=Plaza de San Francisco\, 3\
 , Santa Cruz de La Palma\, 38700\, España;X-APPLE-RADIUS=100;X-TITLE=Muse
 o Insular de La Palma:geo:28.687,-17.762092
END:VEVENT
END:VCALENDAR