BEGIN:VCALENDAR
VERSION:2.0
PRODID:-//wp-events-plugin.com//7.2.3.1//EN
TZID:Europe/London
X-WR-TIMEZONE:Europe/London
BEGIN:VEVENT
UID:2825@larevistadelapalma.com
DTSTART:20240418T230000Z
DTEND:20240420T230000Z
DTSTAMP:20240418T103829Z
URL:https://www.larevistadelapalma.com/events/iv-edicion-del-festival-de-i
 lustracion-bolboreta/
SUMMARY:IV edición del Festival de Ilustración Bolboreta
DESCRIPTION:Se trata de un evento especialmente orientado al público infan
 til y juvenil y a los profesionales de este sector.\n\nLa Casa de la Cultu
 ra de Los Llanos de Aridane acoge del viernes 19 al domingo 21 de abril la
  cuarta edición del Festival de Ilustración Bolboreta\, un atractivo eve
 nto orientado al público infantil y juvenil y a los profesionales vincula
 dos a este sector.\n\nEsta cuarta edición girará en torno a tres grandes
  editoriales: A buen paso\, Akiara Books y Diego Pun Ediciones. Todas 
 ellas se caracterizan por la enorme calidad de los libros que editan\, por
  el mimo y compromiso que ponen en lo que hacen y por el cuidado de su fon
 do editorial.\n\nEn el evento se podrá disfrutar de mesas redondas que gi
 rarán en torno al proceso de creación de libros álbum\, donde se darán
  a conocer las experiencias de escritores\, ilustradores\, como Luciano Lo
 zano\, Raquel Catalina y Víctor Jaubert\, y editores. Los asistentes podr
 án descubrir cómo es el proceso de gestación de un libro álbum\, desde
  la idea hasta que llega a las librerías.\n\nTambién en estos talleres q
 uienes vayan deberán coger el lápiz pues tendrán una parte práctica. A
 demás\, Víctor Jaubert embellecerá (dibujando y pintando en directo) un
 a de las paredes del municipio con uno de los últimos personajes que ha i
 lustrado.\n\nEl festival arrancará el viernes 19\, en la plaza\, con un e
 spectáculo de Javier González al que acudirán diferentes colegios de Lo
 s Llanos. Los alumnos disfrutarán con un recital de poemas infantiles y j
 uveniles\, y la proyección simultánea de las ilustraciones que ellos mis
 mos habrán creado con anterioridad.\n\nEl sábado 20 por la mañana habr
 á otro acto dirigido al público infantil\, un Cuentacuentos Musical a ca
 rgo de Cristina Quesada. Posteriormente\, habrá tiempo para más música 
 con Dj 22 y para la narración oral con “Y miré atrás” (Una geograf
 ía narrada sobre mujeres de sal) de Alicia Bululú. (Para los cuentacuent
 os y narración es necesaria la inscripción)\n\nFinalmente\, el domingo 2
 1 el ciclo se cierra con la revisión de portfolios y proyectos por parte 
 de varios editores. Esto es algo que\, en Canarias\, sólo se realiza en e
 ste festival. La propuesta cuenta con el apoyo del Excmo. Ayto. de Los Lla
 nos de Aridane y el Cabildo de La Palma\, entre otros.\nVer programa &gt\;
 &gt\;\n
ATTACH;FMTTYPE=image/jpeg:https://www.larevistadelapalma.com/wp-content/up
 loads/2024/03/Festival-de-Ilustracion-Los-Llanos.jpg
CATEGORIES:Formación,Otras propuestas,Varios
LOCATION:Casa de La Cultura de Los Llanos de Aridane\, : C. Real\, 8\, Los 
 Llanos de Aridane \, 38760\, España
GEO:28.658651;-17.913512
X-APPLE-STRUCTURED-LOCATION;VALUE=URI;X-ADDRESS=: C. Real\, 8\, Los Llanos 
 de Aridane \, 38760\, España;X-APPLE-RADIUS=100;X-TITLE=Casa de La Cultur
 a de Los Llanos de Aridane:geo:28.658651,-17.913512
END:VEVENT
END:VCALENDARBEGIN:VCALENDAR
VERSION:2.0
PRODID:-//wp-events-plugin.com//7.2.3.1//EN
TZID:Europe/London
X-WR-TIMEZONE:Europe/London
BEGIN:VEVENT
UID:2825@larevistadelapalma.com
DTSTART:20240418T230000Z
DTEND:20240420T230000Z
DTSTAMP:20240418T103829Z
URL:https://www.larevistadelapalma.com/events/iv-edicion-del-festival-de-i
 lustracion-bolboreta/
SUMMARY:IV edición del Festival de Ilustración Bolboreta
DESCRIPTION:Se trata de un evento especialmente orientado al público infan
 til y juvenil y a los profesionales de este sector.\n\nLa Casa de la Cultu
 ra de Los Llanos de Aridane acoge del viernes 19 al domingo 21 de abril la
  cuarta edición del Festival de Ilustración Bolboreta\, un atractivo eve
 nto orientado al público infantil y juvenil y a los profesionales vincula
 dos a este sector.\n\nEsta cuarta edición girará en torno a tres grandes
  editoriales: A buen paso\, Akiara Books y Diego Pun Ediciones. Todas 
 ellas se caracterizan por la enorme calidad de los libros que editan\, por
  el mimo y compromiso que ponen en lo que hacen y por el cuidado de su fon
 do editorial.\n\nEn el evento se podrá disfrutar de mesas redondas que gi
 rarán en torno al proceso de creación de libros álbum\, donde se darán
  a conocer las experiencias de escritores\, ilustradores\, como Luciano Lo
 zano\, Raquel Catalina y Víctor Jaubert\, y editores. Los asistentes podr
 án descubrir cómo es el proceso de gestación de un libro álbum\, desde
  la idea hasta que llega a las librerías.\n\nTambién en estos talleres q
 uienes vayan deberán coger el lápiz pues tendrán una parte práctica. A
 demás\, Víctor Jaubert embellecerá (dibujando y pintando en directo) un
 a de las paredes del municipio con uno de los últimos personajes que ha i
 lustrado.\n\nEl festival arrancará el viernes 19\, en la plaza\, con un e
 spectáculo de Javier González al que acudirán diferentes colegios de Lo
 s Llanos. Los alumnos disfrutarán con un recital de poemas infantiles y j
 uveniles\, y la proyección simultánea de las ilustraciones que ellos mis
 mos habrán creado con anterioridad.\n\nEl sábado 20 por la mañana habr
 á otro acto dirigido al público infantil\, un Cuentacuentos Musical a ca
 rgo de Cristina Quesada. Posteriormente\, habrá tiempo para más música 
 con Dj 22 y para la narración oral con “Y miré atrás” (Una geograf
 ía narrada sobre mujeres de sal) de Alicia Bululú. (Para los cuentacuent
 os y narración es necesaria la inscripción)\n\nFinalmente\, el domingo 2
 1 el ciclo se cierra con la revisión de portfolios y proyectos por parte 
 de varios editores. Esto es algo que\, en Canarias\, sólo se realiza en e
 ste festival. La propuesta cuenta con el apoyo del Excmo. Ayto. de Los Lla
 nos de Aridane y el Cabildo de La Palma\, entre otros.\nVer programa &gt\;
 &gt\;\n
ATTACH;FMTTYPE=image/jpeg:https://www.larevistadelapalma.com/wp-content/up
 loads/2024/03/Festival-de-Ilustracion-Los-Llanos.jpg
CATEGORIES:Formación,Otras propuestas,Varios
LOCATION:Casa de La Cultura de Los Llanos de Aridane\, : C. Real\, 8\, Los 
 Llanos de Aridane \, 38760\, España
GEO:28.658651;-17.913512
X-APPLE-STRUCTURED-LOCATION;VALUE=URI;X-ADDRESS=: C. Real\, 8\, Los Llanos 
 de Aridane \, 38760\, España;X-APPLE-RADIUS=100;X-TITLE=Casa de La Cultur
 a de Los Llanos de Aridane:geo:28.658651,-17.913512
END:VEVENT
END:VCALENDAR