BEGIN:VCALENDAR
VERSION:2.0
PRODID:-//wp-events-plugin.com//7.2.3.1//EN
TZID:Europe/London
X-WR-TIMEZONE:Europe/London
BEGIN:VEVENT
UID:4021@larevistadelapalma.com
DTSTART:20251123T070000Z
DTEND:20251123T100000Z
DTSTAMP:20251015T102656Z
URL:https://www.larevistadelapalma.com/events/ix-copa-canicross-isla-de-la
 -palma-garafia/
SUMMARY:IX Copa Canicross Isla de La Palma (Garafía)
DESCRIPTION:\nIX Copa Canicross Isla de La Palma – Haridaira 2025\nDoming
 o\, 23 de noviembre - San Antonio del Monte\nLa cita con el Canicross lle
 ga a la Villa de Garafía el 23 de noviembre\, con salida y meta en el Ár
 ea Recreativa de San Antonio del Monte.\n\n\n\n\nEl recorrido\, con un 90%
  de sendero y solo un 10% de asfalto y pista\, nos llevará desde la Ermit
 a de San Antonio por la pista del barranco Domingo Díaz\, el sendero de L
 a Fuente del Río y la zona de Las Varas\, hasta el Caboco de la Galería 
 del Río. Desde allí iniciaremos el ascenso por un camino escalonado\, cr
 uzando el Llano de los Guanches y regresando al punto de partida.\n\n\nUna
  experiencia deportiva en plena naturaleza\, donde esfuerzo\, compañerism
 o y entorno se unen en una jornada única.\n\nMás información e inscripc
 iones en fitters.es\n\n
ATTACH;FMTTYPE=image/jpeg:https://www.larevistadelapalma.com/wp-content/up
 loads/2025/10/Canicross-25.jpg
CATEGORIES:Actividades deportivas,Otras propuestas
LOCATION:Municipio Villa de Garafía\, Garafía\, Garafía\, 38787\, Españ
 a
GEO:28.822803;-17.950221
X-APPLE-STRUCTURED-LOCATION;VALUE=URI;X-ADDRESS=Garafía\, Garafía\, 38787
 \, España;X-APPLE-RADIUS=100;X-TITLE=Municipio Villa de Garafía:geo:28.8
 22803,-17.950221
END:VEVENT
END:VCALENDARBEGIN:VCALENDAR
VERSION:2.0
PRODID:-//wp-events-plugin.com//7.2.3.1//EN
TZID:Europe/London
X-WR-TIMEZONE:Europe/London
BEGIN:VEVENT
UID:4021@larevistadelapalma.com
DTSTART:20251123T070000Z
DTEND:20251123T100000Z
DTSTAMP:20251015T102656Z
URL:https://www.larevistadelapalma.com/events/ix-copa-canicross-isla-de-la
 -palma-garafia/
SUMMARY:IX Copa Canicross Isla de La Palma (Garafía)
DESCRIPTION:\nIX Copa Canicross Isla de La Palma – Haridaira 2025\nDoming
 o\, 23 de noviembre - San Antonio del Monte\nLa cita con el Canicross lle
 ga a la Villa de Garafía el 23 de noviembre\, con salida y meta en el Ár
 ea Recreativa de San Antonio del Monte.\n\n\n\n\nEl recorrido\, con un 90%
  de sendero y solo un 10% de asfalto y pista\, nos llevará desde la Ermit
 a de San Antonio por la pista del barranco Domingo Díaz\, el sendero de L
 a Fuente del Río y la zona de Las Varas\, hasta el Caboco de la Galería 
 del Río. Desde allí iniciaremos el ascenso por un camino escalonado\, cr
 uzando el Llano de los Guanches y regresando al punto de partida.\n\n\nUna
  experiencia deportiva en plena naturaleza\, donde esfuerzo\, compañerism
 o y entorno se unen en una jornada única.\n\nMás información e inscripc
 iones en fitters.es\n\n
ATTACH;FMTTYPE=image/jpeg:https://www.larevistadelapalma.com/wp-content/up
 loads/2025/10/Canicross-25.jpg
CATEGORIES:Actividades deportivas,Otras propuestas
LOCATION:Municipio Villa de Garafía\, Garafía\, Garafía\, 38787\, Españ
 a
GEO:28.822803;-17.950221
X-APPLE-STRUCTURED-LOCATION;VALUE=URI;X-ADDRESS=Garafía\, Garafía\, 38787
 \, España;X-APPLE-RADIUS=100;X-TITLE=Municipio Villa de Garafía:geo:28.8
 22803,-17.950221
END:VEVENT
END:VCALENDAR