BEGIN:VCALENDAR
VERSION:2.0
PRODID:-//wp-events-plugin.com//7.2.3.1//EN
TZID:Europe/London
X-WR-TIMEZONE:Europe/London
BEGIN:VEVENT
UID:4022@larevistadelapalma.com
DTSTART:20251026T080000Z
DTEND:20251026T110000Z
DTSTAMP:20251015T103053Z
URL:https://www.larevistadelapalma.com/events/ix-copa-canicross-la-palma-b
 -baja/
SUMMARY:IX Copa Canicross Isla de La Palma (Breña Baja)
DESCRIPTION:\nIX Copa Canicross Isla de La Palma – Haridaira 2025\nDoming
 o\, 26 de Octubre - Desde los aparcamientos del Teleclub Las Ledas.\nSalid
 a desde el campo de fútbol del Teleclub las Ledas en el del municipio de 
 Breña Baja hacia el barranco de las Ledas\, para continuar hacia la subid
 a del barranco Amargavinos\, hasta llegar a la Vaquera\, a continuación d
 escendemos hasta la pista La Montaña en dirección al cementerio para cog
 er la pista la Ratona que nos llevahasta el barranco de las Ledas e inicia
 r el descenso hasta el punto de llegada en el Teleclub Las Ledas.\n\n\nEl 
 recorrido transcurre por un 90% de sendero y un 10 % de asfalto y pista de
  cemento.\nMás información e inscripciones en fitters.es
ATTACH;FMTTYPE=image/jpeg:https://www.larevistadelapalma.com/wp-content/up
 loads/2025/10/Canicross-25.jpg
CATEGORIES:Actividades deportivas,Otras propuestas
LOCATION:Municipio de Breña Baja\, Breña Baja\, Breña Baja\, 38712\, Esp
 aña
GEO:28.641297;-17.772467
X-APPLE-STRUCTURED-LOCATION;VALUE=URI;X-ADDRESS=Breña Baja\, Breña Baja\,
  38712\, España;X-APPLE-RADIUS=100;X-TITLE=Municipio de Breña Baja:geo:2
 8.641297,-17.772467
END:VEVENT
END:VCALENDARBEGIN:VCALENDAR
VERSION:2.0
PRODID:-//wp-events-plugin.com//7.2.3.1//EN
TZID:Europe/London
X-WR-TIMEZONE:Europe/London
BEGIN:VEVENT
UID:4022@larevistadelapalma.com
DTSTART:20251026T080000Z
DTEND:20251026T110000Z
DTSTAMP:20251015T103053Z
URL:https://www.larevistadelapalma.com/events/ix-copa-canicross-la-palma-b
 -baja/
SUMMARY:IX Copa Canicross Isla de La Palma (Breña Baja)
DESCRIPTION:\nIX Copa Canicross Isla de La Palma – Haridaira 2025\nDoming
 o\, 26 de Octubre - Desde los aparcamientos del Teleclub Las Ledas.\nSalid
 a desde el campo de fútbol del Teleclub las Ledas en el del municipio de 
 Breña Baja hacia el barranco de las Ledas\, para continuar hacia la subid
 a del barranco Amargavinos\, hasta llegar a la Vaquera\, a continuación d
 escendemos hasta la pista La Montaña en dirección al cementerio para cog
 er la pista la Ratona que nos llevahasta el barranco de las Ledas e inicia
 r el descenso hasta el punto de llegada en el Teleclub Las Ledas.\n\n\nEl 
 recorrido transcurre por un 90% de sendero y un 10 % de asfalto y pista de
  cemento.\nMás información e inscripciones en fitters.es
ATTACH;FMTTYPE=image/jpeg:https://www.larevistadelapalma.com/wp-content/up
 loads/2025/10/Canicross-25.jpg
CATEGORIES:Actividades deportivas,Otras propuestas
LOCATION:Municipio de Breña Baja\, Breña Baja\, Breña Baja\, 38712\, Esp
 aña
GEO:28.641297;-17.772467
X-APPLE-STRUCTURED-LOCATION;VALUE=URI;X-ADDRESS=Breña Baja\, Breña Baja\,
  38712\, España;X-APPLE-RADIUS=100;X-TITLE=Municipio de Breña Baja:geo:2
 8.641297,-17.772467
END:VEVENT
END:VCALENDAR