BEGIN:VCALENDAR
VERSION:2.0
PRODID:-//wp-events-plugin.com//7.2.3.1//EN
TZID:Europe/London
X-WR-TIMEZONE:Europe/London
BEGIN:VEVENT
UID:113@larevistadelapalma.com
DTSTART:20230901T153000Z
DTEND:20230901T183000Z
DTSTAMP:20230627T204555Z
URL:https://www.larevistadelapalma.com/events/ix-cronoescalada-san-andres-
 y-sauces/
SUMMARY:IX Cronoescalada San Andrés y Sauces
DESCRIPTION:El 1 de septiembre tiene lugar en San Andrés y Sauces la IX Cr
 onoescalada\, una prueba ciclista en la modalidad contrarreloj individual.
ATTACH;FMTTYPE=image/jpeg:https://www.larevistadelapalma.com/wp-content/up
 loads/2023/06/Cronosescalada-San-Andres-y-sauces.webp
CATEGORIES:Actividades deportivas,Otras propuestas
LOCATION:Puerto Espíndola\, Puerto Espíndola\, San Andrés y Sauces\, 387
 29 \, España
GEO:28.80992;-17.762919
X-APPLE-STRUCTURED-LOCATION;VALUE=URI;X-ADDRESS=Puerto Espíndola\, San And
 rés y Sauces\, 38729 \, España;X-APPLE-RADIUS=100;X-TITLE=Puerto Espínd
 ola:geo:28.80992,-17.762919
END:VEVENT
END:VCALENDARBEGIN:VCALENDAR
VERSION:2.0
PRODID:-//wp-events-plugin.com//7.2.3.1//EN
TZID:Europe/London
X-WR-TIMEZONE:Europe/London
BEGIN:VEVENT
UID:113@larevistadelapalma.com
DTSTART:20230901T153000Z
DTEND:20230901T183000Z
DTSTAMP:20230627T204555Z
URL:https://www.larevistadelapalma.com/events/ix-cronoescalada-san-andres-
 y-sauces/
SUMMARY:IX Cronoescalada San Andrés y Sauces
DESCRIPTION:El 1 de septiembre tiene lugar en San Andrés y Sauces la IX Cr
 onoescalada\, una prueba ciclista en la modalidad contrarreloj individual.
ATTACH;FMTTYPE=image/jpeg:https://www.larevistadelapalma.com/wp-content/up
 loads/2023/06/Cronosescalada-San-Andres-y-sauces.webp
CATEGORIES:Actividades deportivas,Otras propuestas
LOCATION:Puerto Espíndola\, Puerto Espíndola\, San Andrés y Sauces\, 387
 29 \, España
GEO:28.80992;-17.762919
X-APPLE-STRUCTURED-LOCATION;VALUE=URI;X-ADDRESS=Puerto Espíndola\, San And
 rés y Sauces\, 38729 \, España;X-APPLE-RADIUS=100;X-TITLE=Puerto Espínd
 ola:geo:28.80992,-17.762919
END:VEVENT
END:VCALENDAR