BEGIN:VCALENDAR
VERSION:2.0
PRODID:-//wp-events-plugin.com//7.2.3.1//EN
TZID:Europe/London
X-WR-TIMEZONE:Europe/London
BEGIN:VEVENT
UID:2794@larevistadelapalma.com
DTSTART;VALUE=DATE:20240504
DTEND;VALUE=DATE:20240506
DTSTAMP:20240423T205500Z
URL:https://www.larevistadelapalma.com/events/ix-edicion-de-la-feria-cultu
 ras-del-mundo/
SUMMARY:IX edición de la Feria Culturas del Mundo
DESCRIPTION:El Mercadillo del Agricultor se convierte los días 4 y 5 de ma
 yo en epicentro de la diversidad cultural con más de una treintena de tal
 leres\, conciertos y exhibiciones.\nLa IX Feria Culturas del Mundo\, organ
 izada por el Ayuntamiento de Puntagorda en colaboración con la Consejerí
 a de Educación\, Patrimonio y Cultura del Cabildo insular de La Palma\, r
 egresa este 2024 con un programa cargado de novedades. Del 4 al 5 de mayo\
 , el Mercadillo del Agricultor se convertirá en epicentro de la diversida
 d cultural\, ofreciendo a los visitantes la oportunidad de sumergirse de l
 leno en la gastronomía\, la música y las tradiciones de diferentes país
 es del mundo.\n\nEl encuentro multicultural\, consolidado después de ocho
  ediciones\, contará con actividades dirigidas a jóvenes del municipio c
 on la finalidad de promover la convivencia\, la diversidad y el respeto\, 
 en una edición en la que primarán las acciones encaminadas a reducir la 
 huella medioambiental de la feria\, así como a concienciar sobre la impor
 tancia del cuidado y la protección medioambiental.\n\n\nPuntagorda prevé
  la participación de miles de personas en esta nueva edición de uno de l
 os encuentros multiculturales más importantes de la isla en el que estar
 án representados una veintena de países de cuatro continentes.  \nLa I
 X edición de la ‘Feria de las culturas del mundo’ despliega más de u
 na treintena de actividades el fin de semana del 4 y 5 de mayo con la part
 icipación de 19 países. El encuentro\, organizado por el Ayuntamiento de
  Puntagorda\, se consolida como uno de los foros gastronómico\,  musical
  y sociocultural más importante de La Palma por la suma de las tradicione
 s de una veintena de territorios de cuatro continentes del mundo.  \n\nE
 sta nueva edición de la ‘Feria de las culturas del mundo’ arranca el 
 sábado con la apertura de los stands gastronómicos de Paraguay\; Senegal
 \; Perú\; Marruecos\; India\; Rumanía y Alemania\, bajo los colores y ac
 ordes de un pasacalles con música y danza de China a cargo del Instituto 
 de Confucio de la Universidad de Las Palmas de Gran Canaria (ULPGC). La ta
 rde del sábado está trufada de actividades que encabeza el workshop de d
 anza irlandesa y el concierto de Irish Treble + Aérokorda (Aérokorda (B
 élgica)\, banda musical de neofolk con influencias celtas\, eslavas y cl
 ásicas\, una combinación atrayente y un potentísimo directo. Y las bail
 arinas de Irish Treble)\; el taller de danza y percusión africana con Nab
 y Zana\, de Guinea Conakry\, y la realización de diversos talleres a carg
 o del Instituto Confucio de la ULPGC. \n\nhttps://www.youtube.com/watch?v
 =_mzBT2RwFVo\n\nParaguay estará representada en la feria con los ‘Amigo
 s Unidos Kuarahy Rêsê’ y su exhibición de danzas y cantos del folklor
 e paraguayo. La entrega de reconocimientos a cada uno de los grupos partic
 ipantes a partir de las 19:15 horas es la antesala del concierto de “Reg
 gae Canario” con los músicos Dactah Chando\, Abel Cordovez y Dadda Wanc
 he. Esta primera jornada terminará con el concierto de la Naby Zana Band\
 , de Guinea Conakry y la actuación del DJ Makka Dubba con músicas del mu
 ndo.\n\nhttps://www.youtube.com/watch?v=KPyTMSiTZb8&amp\;t=84s\n\nhttps://
 www.youtube.com/watch?v=s4_lvSRYOF0\n\nEl domingo 5 de mayo toman el relev
 o en los stands  gastronómicos desde las 11:00 horas representantes de C
 uba\, México\, Colombia\, Filipinas\, Holanda\, Asturias y Venezuela. La 
 oferta cultural de esta segunda jornada de la ‘Feria de las culturas del
  mundo’ continuará con el pasasacalles denominado “con animales del m
 undo” acompañados por La Charanga de Puntagorda\, al que seguirán los 
 “Cuentos para viajar” desde Italia con Tiziana Maio. El concierto de 
 “Arife” y los talleres de danza afrocolombiana a cargo de la Asociaci
 ón “Macondo”\, dan continuidad a las celebraciones del domingo\, que 
 se completa con la exhibición de bailes y trajes folclóricos filipinos c
 on la Asociación “Asofil”\; la música cubana de “Quimbao La Nuit
 ”  y el gran concierto de música latinoaméricana de “Las Karamba”
  a las 16:00 horas. \n\nhttps://www.youtube.com/watch?v=em0UFTPFcCI&amp\;
 t=5s\n\nhttps://www.youtube.com/watch?v=a_DiTdpxFr0\n\nhttps://www.youtube
 .com/watch?v=HjkWa4EKD9g\n\nLa Feria Culturas del Mundo estrena página we
 b\, además en sus redes sociales (Facebook e Instagram) se podrá consult
 ar la programación y toda la información referente a esta edición.\n\n\
 n\n\n\n&nbsp\;
ATTACH;FMTTYPE=image/jpeg:https://www.larevistadelapalma.com/wp-content/up
 loads/2024/02/Culturas-del-Mundo-24.jpg
CATEGORIES:Ferias y mercados,Festivales/Fiestas,Música,Otras propuestas
LOCATION:Mercadillo de Puntagorda\, Cno. el Pinar\, 56A\, Puntagorda\, 3878
 9 \, España
GEO:28.778862;-17.973843
X-APPLE-STRUCTURED-LOCATION;VALUE=URI;X-ADDRESS=Cno. el Pinar\, 56A\, Punta
 gorda\, 38789 \, España;X-APPLE-RADIUS=100;X-TITLE=Mercadillo de Puntagor
 da:geo:28.778862,-17.973843
END:VEVENT
END:VCALENDARBEGIN:VCALENDAR
VERSION:2.0
PRODID:-//wp-events-plugin.com//7.2.3.1//EN
TZID:Europe/London
X-WR-TIMEZONE:Europe/London
BEGIN:VEVENT
UID:2794@larevistadelapalma.com
DTSTART;VALUE=DATE:20240504
DTEND;VALUE=DATE:20240506
DTSTAMP:20240423T205500Z
URL:https://www.larevistadelapalma.com/events/ix-edicion-de-la-feria-cultu
 ras-del-mundo/
SUMMARY:IX edición de la Feria Culturas del Mundo
DESCRIPTION:El Mercadillo del Agricultor se convierte los días 4 y 5 de ma
 yo en epicentro de la diversidad cultural con más de una treintena de tal
 leres\, conciertos y exhibiciones.\nLa IX Feria Culturas del Mundo\, organ
 izada por el Ayuntamiento de Puntagorda en colaboración con la Consejerí
 a de Educación\, Patrimonio y Cultura del Cabildo insular de La Palma\, r
 egresa este 2024 con un programa cargado de novedades. Del 4 al 5 de mayo\
 , el Mercadillo del Agricultor se convertirá en epicentro de la diversida
 d cultural\, ofreciendo a los visitantes la oportunidad de sumergirse de l
 leno en la gastronomía\, la música y las tradiciones de diferentes país
 es del mundo.\n\nEl encuentro multicultural\, consolidado después de ocho
  ediciones\, contará con actividades dirigidas a jóvenes del municipio c
 on la finalidad de promover la convivencia\, la diversidad y el respeto\, 
 en una edición en la que primarán las acciones encaminadas a reducir la 
 huella medioambiental de la feria\, así como a concienciar sobre la impor
 tancia del cuidado y la protección medioambiental.\n\n\nPuntagorda prevé
  la participación de miles de personas en esta nueva edición de uno de l
 os encuentros multiculturales más importantes de la isla en el que estar
 án representados una veintena de países de cuatro continentes.  \nLa I
 X edición de la ‘Feria de las culturas del mundo’ despliega más de u
 na treintena de actividades el fin de semana del 4 y 5 de mayo con la part
 icipación de 19 países. El encuentro\, organizado por el Ayuntamiento de
  Puntagorda\, se consolida como uno de los foros gastronómico\,  musical
  y sociocultural más importante de La Palma por la suma de las tradicione
 s de una veintena de territorios de cuatro continentes del mundo.  \n\nE
 sta nueva edición de la ‘Feria de las culturas del mundo’ arranca el 
 sábado con la apertura de los stands gastronómicos de Paraguay\; Senegal
 \; Perú\; Marruecos\; India\; Rumanía y Alemania\, bajo los colores y ac
 ordes de un pasacalles con música y danza de China a cargo del Instituto 
 de Confucio de la Universidad de Las Palmas de Gran Canaria (ULPGC). La ta
 rde del sábado está trufada de actividades que encabeza el workshop de d
 anza irlandesa y el concierto de Irish Treble + Aérokorda (Aérokorda (B
 élgica)\, banda musical de neofolk con influencias celtas\, eslavas y cl
 ásicas\, una combinación atrayente y un potentísimo directo. Y las bail
 arinas de Irish Treble)\; el taller de danza y percusión africana con Nab
 y Zana\, de Guinea Conakry\, y la realización de diversos talleres a carg
 o del Instituto Confucio de la ULPGC. \n\nhttps://www.youtube.com/watch?v
 =_mzBT2RwFVo\n\nParaguay estará representada en la feria con los ‘Amigo
 s Unidos Kuarahy Rêsê’ y su exhibición de danzas y cantos del folklor
 e paraguayo. La entrega de reconocimientos a cada uno de los grupos partic
 ipantes a partir de las 19:15 horas es la antesala del concierto de “Reg
 gae Canario” con los músicos Dactah Chando\, Abel Cordovez y Dadda Wanc
 he. Esta primera jornada terminará con el concierto de la Naby Zana Band\
 , de Guinea Conakry y la actuación del DJ Makka Dubba con músicas del mu
 ndo.\n\nhttps://www.youtube.com/watch?v=KPyTMSiTZb8&amp\;t=84s\n\nhttps://
 www.youtube.com/watch?v=s4_lvSRYOF0\n\nEl domingo 5 de mayo toman el relev
 o en los stands  gastronómicos desde las 11:00 horas representantes de C
 uba\, México\, Colombia\, Filipinas\, Holanda\, Asturias y Venezuela. La 
 oferta cultural de esta segunda jornada de la ‘Feria de las culturas del
  mundo’ continuará con el pasasacalles denominado “con animales del m
 undo” acompañados por La Charanga de Puntagorda\, al que seguirán los 
 “Cuentos para viajar” desde Italia con Tiziana Maio. El concierto de 
 “Arife” y los talleres de danza afrocolombiana a cargo de la Asociaci
 ón “Macondo”\, dan continuidad a las celebraciones del domingo\, que 
 se completa con la exhibición de bailes y trajes folclóricos filipinos c
 on la Asociación “Asofil”\; la música cubana de “Quimbao La Nuit
 ”  y el gran concierto de música latinoaméricana de “Las Karamba”
  a las 16:00 horas. \n\nhttps://www.youtube.com/watch?v=em0UFTPFcCI&amp\;
 t=5s\n\nhttps://www.youtube.com/watch?v=a_DiTdpxFr0\n\nhttps://www.youtube
 .com/watch?v=HjkWa4EKD9g\n\nLa Feria Culturas del Mundo estrena página we
 b\, además en sus redes sociales (Facebook e Instagram) se podrá consult
 ar la programación y toda la información referente a esta edición.\n\n\
 n\n\n\n&nbsp\;
ATTACH;FMTTYPE=image/jpeg:https://www.larevistadelapalma.com/wp-content/up
 loads/2024/02/Culturas-del-Mundo-24.jpg
CATEGORIES:Ferias y mercados,Festivales/Fiestas,Música,Otras propuestas
LOCATION:Mercadillo de Puntagorda\, Cno. el Pinar\, 56A\, Puntagorda\, 3878
 9 \, España
GEO:28.778862;-17.973843
X-APPLE-STRUCTURED-LOCATION;VALUE=URI;X-ADDRESS=Cno. el Pinar\, 56A\, Punta
 gorda\, 38789 \, España;X-APPLE-RADIUS=100;X-TITLE=Mercadillo de Puntagor
 da:geo:28.778862,-17.973843
END:VEVENT
END:VCALENDAR