BEGIN:VCALENDAR
VERSION:2.0
PRODID:-//wp-events-plugin.com//7.2.3.1//EN
TZID:Europe/London
X-WR-TIMEZONE:Europe/London
BEGIN:VEVENT
UID:3707@larevistadelapalma.com
DTSTART:20250519T193000Z
DTEND:20250519T210000Z
DTSTAMP:20250420T211146Z
URL:https://www.larevistadelapalma.com/events/javi-duran-en-la-palma/
SUMMARY:Javi Durán en La Palma
DESCRIPTION:Javi Durán hace comedia en directo: Stand up comedy\, improvis
 ación\, chistes sobre actualidad y locuritas.\n\nSi miras su Instagram o 
 TikTok puedes ver bastante de su trayectoria: Monólogos\, sketches\, algu
 na canción y reels. Muchos reels. En sus 8 años de trayectoria Javi ha t
 enido el tiempo suficiente para demostrarse así mismo y a los que le sigu
 en que es tontísimo\, pero tiene su aquel.\n\nTodo lo que verás aquí es
  material fresco que no se ha visto en redes. La actuación tiene una hora
  de duración y si la cosa se pone tonta\, puede durar más. Muchísimos j
 ajas...\nComprara entradas &gt\;&gt\;
ATTACH;FMTTYPE=image/jpeg:https://www.larevistadelapalma.com/wp-content/up
 loads/2025/04/javi-duran-en-directo-67f538d1c9a5b1.74529816.jpg
CATEGORIES:Espectáculos
LOCATION:Teatro Chico\, Calle Díaz Pimienta\, 1\, Santa Cruz De La Palma\,
  Santa Cruz de Tenerife\, 38700\, España
GEO:28.68432;-17.764225
X-APPLE-STRUCTURED-LOCATION;VALUE=URI;X-ADDRESS=Calle Díaz Pimienta\, 1\, 
 Santa Cruz De La Palma\, Santa Cruz de Tenerife\, 38700\, España;X-APPLE-
 RADIUS=100;X-TITLE=Teatro Chico:geo:28.68432,-17.764225
END:VEVENT
END:VCALENDARBEGIN:VCALENDAR
VERSION:2.0
PRODID:-//wp-events-plugin.com//7.2.3.1//EN
TZID:Europe/London
X-WR-TIMEZONE:Europe/London
BEGIN:VEVENT
UID:3707@larevistadelapalma.com
DTSTART:20250519T193000Z
DTEND:20250519T210000Z
DTSTAMP:20250420T211146Z
URL:https://www.larevistadelapalma.com/events/javi-duran-en-la-palma/
SUMMARY:Javi Durán en La Palma
DESCRIPTION:Javi Durán hace comedia en directo: Stand up comedy\, improvis
 ación\, chistes sobre actualidad y locuritas.\n\nSi miras su Instagram o 
 TikTok puedes ver bastante de su trayectoria: Monólogos\, sketches\, algu
 na canción y reels. Muchos reels. En sus 8 años de trayectoria Javi ha t
 enido el tiempo suficiente para demostrarse así mismo y a los que le sigu
 en que es tontísimo\, pero tiene su aquel.\n\nTodo lo que verás aquí es
  material fresco que no se ha visto en redes. La actuación tiene una hora
  de duración y si la cosa se pone tonta\, puede durar más. Muchísimos j
 ajas...\nComprara entradas &gt\;&gt\;
ATTACH;FMTTYPE=image/jpeg:https://www.larevistadelapalma.com/wp-content/up
 loads/2025/04/javi-duran-en-directo-67f538d1c9a5b1.74529816.jpg
CATEGORIES:Espectáculos
LOCATION:Teatro Chico\, Calle Díaz Pimienta\, 1\, Santa Cruz De La Palma\,
  Santa Cruz de Tenerife\, 38700\, España
GEO:28.68432;-17.764225
X-APPLE-STRUCTURED-LOCATION;VALUE=URI;X-ADDRESS=Calle Díaz Pimienta\, 1\, 
 Santa Cruz De La Palma\, Santa Cruz de Tenerife\, 38700\, España;X-APPLE-
 RADIUS=100;X-TITLE=Teatro Chico:geo:28.68432,-17.764225
END:VEVENT
END:VCALENDAR