BEGIN:VCALENDAR
VERSION:2.0
PRODID:-//wp-events-plugin.com//7.2.3.1//EN
TZID:Europe/London
X-WR-TIMEZONE:Europe/London
BEGIN:VEVENT
UID:3160@larevistadelapalma.com
DTSTART:20240802T180000Z
DTEND:20240802T193000Z
DTSTAMP:20240731T184838Z
URL:https://www.larevistadelapalma.com/events/jazz-session-casa-del-conde-
 2/
SUMMARY:Jazz en la Casa del Conde con Rolf Marx\, Alexander Sputh y Angelik
 a Goers
DESCRIPTION:Un proyecto único en Canarias con Beatriz Alonso\, Miguel Mane
 scau\, Raúl Sánchez y Tana Santana
ATTACH;FMTTYPE=image/jpeg:https://www.larevistadelapalma.com/wp-content/up
 loads/2024/07/Jazz-session-Casa-del-Conde.jpg
CATEGORIES:Conciertos,Música
LOCATION:Casa del Conde\, Los Llanos de Aridane\, C/San Antonio\, 35 - Llan
 o de Argual\, Los Llanos de Aridane\, 38760\, España
GEO:28.655333;-17.926641
X-APPLE-STRUCTURED-LOCATION;VALUE=URI;X-ADDRESS=C/San Antonio\, 35 - Llano 
 de Argual\, Los Llanos de Aridane\, 38760\, España;X-APPLE-RADIUS=100;X-T
 ITLE=Casa del Conde\, Los Llanos de Aridane:geo:28.655333,-17.926641
END:VEVENT
END:VCALENDARBEGIN:VCALENDAR
VERSION:2.0
PRODID:-//wp-events-plugin.com//7.2.3.1//EN
TZID:Europe/London
X-WR-TIMEZONE:Europe/London
BEGIN:VEVENT
UID:3160@larevistadelapalma.com
DTSTART:20240802T180000Z
DTEND:20240802T193000Z
DTSTAMP:20240731T184838Z
URL:https://www.larevistadelapalma.com/events/jazz-session-casa-del-conde-
 2/
SUMMARY:Jazz en la Casa del Conde con Rolf Marx\, Alexander Sputh y Angelik
 a Goers
DESCRIPTION:Un proyecto único en Canarias con Beatriz Alonso\, Miguel Mane
 scau\, Raúl Sánchez y Tana Santana
ATTACH;FMTTYPE=image/jpeg:https://www.larevistadelapalma.com/wp-content/up
 loads/2024/07/Jazz-session-Casa-del-Conde.jpg
CATEGORIES:Conciertos,Música
LOCATION:Casa del Conde\, Los Llanos de Aridane\, C/San Antonio\, 35 - Llan
 o de Argual\, Los Llanos de Aridane\, 38760\, España
GEO:28.655333;-17.926641
X-APPLE-STRUCTURED-LOCATION;VALUE=URI;X-ADDRESS=C/San Antonio\, 35 - Llano 
 de Argual\, Los Llanos de Aridane\, 38760\, España;X-APPLE-RADIUS=100;X-T
 ITLE=Casa del Conde\, Los Llanos de Aridane:geo:28.655333,-17.926641
END:VEVENT
END:VCALENDAR