BEGIN:VCALENDAR
VERSION:2.0
PRODID:-//wp-events-plugin.com//7.2.3.1//EN
TZID:Europe/London
X-WR-TIMEZONE:Europe/London
BEGIN:VEVENT
UID:3269@larevistadelapalma.com
DTSTART:20241011T180000Z
DTEND:20241011T193000Z
DTSTAMP:20240924T235133Z
URL:https://www.larevistadelapalma.com/events/jazz-session-con-cary-varona
 -y-alexander-sputh-en-la-casa-del-conde/
SUMMARY:Jazz session con Cary Varona y Alexander Sputh en la Casa del Conde
DESCRIPTION:Cary Varona (chelo y bajo) nació en Cuba\, domina tanto el rep
 ertorio clásico como jazziístico y toda la gama de ritmos latinoamerican
 os. Alexander Sputh (guitarra\, voz) es co-fundador del grupo «Ziriab» (
 con el guitarrista de flamenco Pedro Sanz)\, ha tocado con el flautista Jo
 rge Pardo y el bajista Carles Benavent\, ambos miembros del grupo de Paco 
 de Lucía durante muchos años. Juntos\, exploran el espacio sonoro del ja
 zz de manera natural y auténtica.\nMás info y entradas aquí &gt\;&gt\;
   
ATTACH;FMTTYPE=image/jpeg:https://www.larevistadelapalma.com/wp-content/up
 loads/2024/09/Cary-Varona-y-Sputh.png
CATEGORIES:Conciertos,Música
LOCATION:Casa del Conde\, Los Llanos de Aridane\, C/San Antonio\, 35 - Llan
 o de Argual\, Los Llanos de Aridane\, 38760\, España
GEO:28.655333;-17.926641
X-APPLE-STRUCTURED-LOCATION;VALUE=URI;X-ADDRESS=C/San Antonio\, 35 - Llano 
 de Argual\, Los Llanos de Aridane\, 38760\, España;X-APPLE-RADIUS=100;X-T
 ITLE=Casa del Conde\, Los Llanos de Aridane:geo:28.655333,-17.926641
END:VEVENT
END:VCALENDARBEGIN:VCALENDAR
VERSION:2.0
PRODID:-//wp-events-plugin.com//7.2.3.1//EN
TZID:Europe/London
X-WR-TIMEZONE:Europe/London
BEGIN:VEVENT
UID:3269@larevistadelapalma.com
DTSTART:20241011T180000Z
DTEND:20241011T193000Z
DTSTAMP:20240924T235133Z
URL:https://www.larevistadelapalma.com/events/jazz-session-con-cary-varona
 -y-alexander-sputh-en-la-casa-del-conde/
SUMMARY:Jazz session con Cary Varona y Alexander Sputh en la Casa del Conde
DESCRIPTION:Cary Varona (chelo y bajo) nació en Cuba\, domina tanto el rep
 ertorio clásico como jazziístico y toda la gama de ritmos latinoamerican
 os. Alexander Sputh (guitarra\, voz) es co-fundador del grupo «Ziriab» (
 con el guitarrista de flamenco Pedro Sanz)\, ha tocado con el flautista Jo
 rge Pardo y el bajista Carles Benavent\, ambos miembros del grupo de Paco 
 de Lucía durante muchos años. Juntos\, exploran el espacio sonoro del ja
 zz de manera natural y auténtica.\nMás info y entradas aquí &gt\;&gt\;
   
ATTACH;FMTTYPE=image/jpeg:https://www.larevistadelapalma.com/wp-content/up
 loads/2024/09/Cary-Varona-y-Sputh.png
CATEGORIES:Conciertos,Música
LOCATION:Casa del Conde\, Los Llanos de Aridane\, C/San Antonio\, 35 - Llan
 o de Argual\, Los Llanos de Aridane\, 38760\, España
GEO:28.655333;-17.926641
X-APPLE-STRUCTURED-LOCATION;VALUE=URI;X-ADDRESS=C/San Antonio\, 35 - Llano 
 de Argual\, Los Llanos de Aridane\, 38760\, España;X-APPLE-RADIUS=100;X-T
 ITLE=Casa del Conde\, Los Llanos de Aridane:geo:28.655333,-17.926641
END:VEVENT
END:VCALENDAR