BEGIN:VCALENDAR
VERSION:2.0
PRODID:-//wp-events-plugin.com//7.2.3.1//EN
TZID:Europe/London
X-WR-TIMEZONE:Europe/London
BEGIN:VEVENT
UID:3396@larevistadelapalma.com
DTSTART:20241122T180000Z
DTEND:20241122T193000Z
DTSTAMP:20241114T162136Z
URL:https://www.larevistadelapalma.com/events/jazz-session-con-john-stowel
 l-y-sacri-delfino-en-la-casa-del-conde/
SUMMARY:Jazz session con John Stowell y Sacri Delfino en la Casa del Conde
DESCRIPTION:El guitarrista norteamericano John Stowell y el argentino Sacri
  Delfino fusionarán sus estilos únicos en un espectáculo íntimo e inol
 vidable. \nLa Casa del Conde\, en el Llano de Argual\, se viste de gala p
 ara celebrar el Día Internacional de la Música con una programación esp
 ecial dedicada a los amantes del jazz. Durante dos noches\nconsecutivas\, 
 este espacio turístico y cultural acogerá el Semilla Jazz Sessions con d
 os conciertos únicos que reunirán a grandes figuras de la escena jazzís
 tica internacional y local\, en\nel extraordinario patio de esta casa hist
 órica del Valle de Aridane.\n\nLa celebración dará inicio el viernes 22
  de noviembre\, a las 19:00 horas\, con la actuación de dos maestros de l
 a guitarra: el estadounidense John Stowell y el argentino Sacri Delfino. E
 l sábado 23 de noviembre\, a la misma hora\, el patio de la Casa del Cond
 e se llenará de nuevo con buen jazz con el concierto de Tres a Pél y la 
 cantante Zaida Almeida.\n\nEl guitarrista y compositor John Stowell  es u
 na leyenda de estilo inconfundible. Se caracteriza por su visión original
  de la armonía\, los acordes y la improvisación. Le tocar con gente dist
 inta y enseñar\, cosa que ha hecho durante más de cuarenta años.\n\nSac
 ri Delfino\, oriundo de Buenos Aires se ha establecido como una figura en 
 la escena musical internacional\, destacándose por su versatilidad como g
 uitarrista\, compositor y educador.\nMás info y entradas &gt\;&gt\;
ATTACH;FMTTYPE=image/jpeg:https://www.larevistadelapalma.com/wp-content/up
 loads/2024/11/john-Stoller-Sacri-Delfino.jpg
CATEGORIES:Conciertos,Música
LOCATION:Casa del Conde\, Los Llanos de Aridane\, C/San Antonio\, 35 - Llan
 o de Argual\, Los Llanos de Aridane\, 38760\, España
GEO:28.655333;-17.926641
X-APPLE-STRUCTURED-LOCATION;VALUE=URI;X-ADDRESS=C/San Antonio\, 35 - Llano 
 de Argual\, Los Llanos de Aridane\, 38760\, España;X-APPLE-RADIUS=100;X-T
 ITLE=Casa del Conde\, Los Llanos de Aridane:geo:28.655333,-17.926641
END:VEVENT
END:VCALENDARBEGIN:VCALENDAR
VERSION:2.0
PRODID:-//wp-events-plugin.com//7.2.3.1//EN
TZID:Europe/London
X-WR-TIMEZONE:Europe/London
BEGIN:VEVENT
UID:3396@larevistadelapalma.com
DTSTART:20241122T180000Z
DTEND:20241122T193000Z
DTSTAMP:20241114T162136Z
URL:https://www.larevistadelapalma.com/events/jazz-session-con-john-stowel
 l-y-sacri-delfino-en-la-casa-del-conde/
SUMMARY:Jazz session con John Stowell y Sacri Delfino en la Casa del Conde
DESCRIPTION:El guitarrista norteamericano John Stowell y el argentino Sacri
  Delfino fusionarán sus estilos únicos en un espectáculo íntimo e inol
 vidable. \nLa Casa del Conde\, en el Llano de Argual\, se viste de gala p
 ara celebrar el Día Internacional de la Música con una programación esp
 ecial dedicada a los amantes del jazz. Durante dos noches\nconsecutivas\, 
 este espacio turístico y cultural acogerá el Semilla Jazz Sessions con d
 os conciertos únicos que reunirán a grandes figuras de la escena jazzís
 tica internacional y local\, en\nel extraordinario patio de esta casa hist
 órica del Valle de Aridane.\n\nLa celebración dará inicio el viernes 22
  de noviembre\, a las 19:00 horas\, con la actuación de dos maestros de l
 a guitarra: el estadounidense John Stowell y el argentino Sacri Delfino. E
 l sábado 23 de noviembre\, a la misma hora\, el patio de la Casa del Cond
 e se llenará de nuevo con buen jazz con el concierto de Tres a Pél y la 
 cantante Zaida Almeida.\n\nEl guitarrista y compositor John Stowell  es u
 na leyenda de estilo inconfundible. Se caracteriza por su visión original
  de la armonía\, los acordes y la improvisación. Le tocar con gente dist
 inta y enseñar\, cosa que ha hecho durante más de cuarenta años.\n\nSac
 ri Delfino\, oriundo de Buenos Aires se ha establecido como una figura en 
 la escena musical internacional\, destacándose por su versatilidad como g
 uitarrista\, compositor y educador.\nMás info y entradas &gt\;&gt\;
ATTACH;FMTTYPE=image/jpeg:https://www.larevistadelapalma.com/wp-content/up
 loads/2024/11/john-Stoller-Sacri-Delfino.jpg
CATEGORIES:Conciertos,Música
LOCATION:Casa del Conde\, Los Llanos de Aridane\, C/San Antonio\, 35 - Llan
 o de Argual\, Los Llanos de Aridane\, 38760\, España
GEO:28.655333;-17.926641
X-APPLE-STRUCTURED-LOCATION;VALUE=URI;X-ADDRESS=C/San Antonio\, 35 - Llano 
 de Argual\, Los Llanos de Aridane\, 38760\, España;X-APPLE-RADIUS=100;X-T
 ITLE=Casa del Conde\, Los Llanos de Aridane:geo:28.655333,-17.926641
END:VEVENT
END:VCALENDAR