BEGIN:VCALENDAR
VERSION:2.0
PRODID:-//wp-events-plugin.com//7.2.3.1//EN
TZID:Europe/London
X-WR-TIMEZONE:Europe/London
BEGIN:VEVENT
UID:3400@larevistadelapalma.com
DTSTART:20241123T180000Z
DTEND:20241123T193000Z
DTSTAMP:20241114T162458Z
URL:https://www.larevistadelapalma.com/events/jazz-session-con-tres-a-pel-
 y-zaida-almeida-en-la-casa-del-conde/
SUMMARY:Jazz session con "Tres a Pèl" y Zaida Almeida\, en la Casa del Con
 de
DESCRIPTION:La pasión del Jazz clásico con matices modernos y un caracter
 ístico estilo personal. \n\nLa Casa del Conde\, en el Llano de Argual\, 
 se viste de gala para celebrar el Día Internacional de la Música con una
  programación especial dedicada a los amantes del jazz. Durante dos noche
 s\nconsecutivas\, este espacio turístico y cultural acogerá el Semilla J
 azz Sessions con dos conciertos. El primero el viernes 22\, con John Stowe
 ll y Sacri Delfino\, y este segundo concierto el sábado.\n\nEl trio de Sa
 muel Labrador\, Pepe Toni Tamarit y Franco Contreras\, se une a la magia v
 ocal de la tinerfeña Zaida Almeida para un espectáculo lleno de recuerdo
 s y nostalgia.\nMás info y entradas &gt\;&gt\;
ATTACH;FMTTYPE=image/jpeg:https://www.larevistadelapalma.com/wp-content/up
 loads/2024/11/Tres-a-Pel-y-Zaida-ALmeida.jpg
CATEGORIES:Conciertos,Música
LOCATION:Casa del Conde\, Los Llanos de Aridane\, C/San Antonio\, 35 - Llan
 o de Argual\, Los Llanos de Aridane\, 38760\, España
GEO:28.655333;-17.926641
X-APPLE-STRUCTURED-LOCATION;VALUE=URI;X-ADDRESS=C/San Antonio\, 35 - Llano 
 de Argual\, Los Llanos de Aridane\, 38760\, España;X-APPLE-RADIUS=100;X-T
 ITLE=Casa del Conde\, Los Llanos de Aridane:geo:28.655333,-17.926641
END:VEVENT
END:VCALENDARBEGIN:VCALENDAR
VERSION:2.0
PRODID:-//wp-events-plugin.com//7.2.3.1//EN
TZID:Europe/London
X-WR-TIMEZONE:Europe/London
BEGIN:VEVENT
UID:3400@larevistadelapalma.com
DTSTART:20241123T180000Z
DTEND:20241123T193000Z
DTSTAMP:20241114T162458Z
URL:https://www.larevistadelapalma.com/events/jazz-session-con-tres-a-pel-
 y-zaida-almeida-en-la-casa-del-conde/
SUMMARY:Jazz session con "Tres a Pèl" y Zaida Almeida\, en la Casa del Con
 de
DESCRIPTION:La pasión del Jazz clásico con matices modernos y un caracter
 ístico estilo personal. \n\nLa Casa del Conde\, en el Llano de Argual\, 
 se viste de gala para celebrar el Día Internacional de la Música con una
  programación especial dedicada a los amantes del jazz. Durante dos noche
 s\nconsecutivas\, este espacio turístico y cultural acogerá el Semilla J
 azz Sessions con dos conciertos. El primero el viernes 22\, con John Stowe
 ll y Sacri Delfino\, y este segundo concierto el sábado.\n\nEl trio de Sa
 muel Labrador\, Pepe Toni Tamarit y Franco Contreras\, se une a la magia v
 ocal de la tinerfeña Zaida Almeida para un espectáculo lleno de recuerdo
 s y nostalgia.\nMás info y entradas &gt\;&gt\;
ATTACH;FMTTYPE=image/jpeg:https://www.larevistadelapalma.com/wp-content/up
 loads/2024/11/Tres-a-Pel-y-Zaida-ALmeida.jpg
CATEGORIES:Conciertos,Música
LOCATION:Casa del Conde\, Los Llanos de Aridane\, C/San Antonio\, 35 - Llan
 o de Argual\, Los Llanos de Aridane\, 38760\, España
GEO:28.655333;-17.926641
X-APPLE-STRUCTURED-LOCATION;VALUE=URI;X-ADDRESS=C/San Antonio\, 35 - Llano 
 de Argual\, Los Llanos de Aridane\, 38760\, España;X-APPLE-RADIUS=100;X-T
 ITLE=Casa del Conde\, Los Llanos de Aridane:geo:28.655333,-17.926641
END:VEVENT
END:VCALENDAR