BEGIN:VCALENDAR
VERSION:2.0
PRODID:-//wp-events-plugin.com//7.2.3.1//EN
TZID:Europe/London
X-WR-TIMEZONE:Europe/London
BEGIN:VEVENT
UID:3496@larevistadelapalma.com
DTSTART:20241214T130000Z
DTEND:20241214T170000Z
DTSTAMP:20241212T165502Z
URL:https://www.larevistadelapalma.com/events/jornada-de-puertas-abiertas-
 galeria-arte-diem/
SUMMARY:Jornada de puertas abiertas en la Galería Arte Diem\, Tazacorte
DESCRIPTION:Con el acompañamiento musical de Camila Costa(guitarra y acord
 eón).\n\nArte Diem\, en el antiguo restaurante Carpe Diem\, te ofrece una
  selección en constante cambio de fascinantes obras de arte. Desde pintur
 as y técnicas mixtas hasta esculturas\, presentan la diversidad del arte 
 en todas sus facetas.\n\nSin embargo\, la galería no es sólo un lugar pa
 ra contemplar\, sino también para participar activamente. Además de las
  exposiciones\, tienes la oportunidad de participar en otros eventos. No 
 sólo quieren mostrar arte\, quieren darle vida\, encontrar espacio para e
 l propio desarrollo creativo\, el intercambio y la formación continua\, p
 or eso el día 14 te invitan a una tarde diferente\, pasear de estudio en 
 estudio\, disfrutar de obras de arte únicas y descubrir las historias y p
 ensamientos que hay detrás de cada cuadro. Puede que incluso encuentres l
 a obra de arte perfecta para enriquecer tu hogar.\n\nPor último\, te invi
 tan cordialmente a su pub. Disfruta de una copa de vino en un ambiente rel
 ajado\, charla con los artistas y pon el broche final a tu jornada.\n\n[ca
 ption id="attachment_8744" align="aligncenter" width="727"] Ausstellung Sa
 nta Cruz 4[/caption]\n\nLos estudios abiertos te resultarán fácilmente r
 econocibles &gt\;&gt\;\n\n&nbsp\;\n\n&nbsp\;\n\n&nbsp\;
ATTACH;FMTTYPE=image/jpeg:https://www.larevistadelapalma.com/wp-content/up
 loads/2024/12/Arte-Diem-J-Puertas-abiertas.png
CATEGORIES:Exposiciones,Otras propuestas,Varios
LOCATION:Municipio de Tazacorte\, Villa y Puerto de Tazacorte\, Tazacorte\,
  38770\, España
GEO:28.642917;-17.936888
X-APPLE-STRUCTURED-LOCATION;VALUE=URI;X-ADDRESS=Villa y Puerto de Tazacorte
 \, Tazacorte\, 38770\, España;X-APPLE-RADIUS=100;X-TITLE=Municipio de Taz
 acorte:geo:28.642917,-17.936888
END:VEVENT
END:VCALENDARBEGIN:VCALENDAR
VERSION:2.0
PRODID:-//wp-events-plugin.com//7.2.3.1//EN
TZID:Europe/London
X-WR-TIMEZONE:Europe/London
BEGIN:VEVENT
UID:3496@larevistadelapalma.com
DTSTART:20241214T130000Z
DTEND:20241214T170000Z
DTSTAMP:20241212T165502Z
URL:https://www.larevistadelapalma.com/events/jornada-de-puertas-abiertas-
 galeria-arte-diem/
SUMMARY:Jornada de puertas abiertas en la Galería Arte Diem\, Tazacorte
DESCRIPTION:Con el acompañamiento musical de Camila Costa(guitarra y acord
 eón).\n\nArte Diem\, en el antiguo restaurante Carpe Diem\, te ofrece una
  selección en constante cambio de fascinantes obras de arte. Desde pintur
 as y técnicas mixtas hasta esculturas\, presentan la diversidad del arte 
 en todas sus facetas.\n\nSin embargo\, la galería no es sólo un lugar pa
 ra contemplar\, sino también para participar activamente. Además de las
  exposiciones\, tienes la oportunidad de participar en otros eventos. No 
 sólo quieren mostrar arte\, quieren darle vida\, encontrar espacio para e
 l propio desarrollo creativo\, el intercambio y la formación continua\, p
 or eso el día 14 te invitan a una tarde diferente\, pasear de estudio en 
 estudio\, disfrutar de obras de arte únicas y descubrir las historias y p
 ensamientos que hay detrás de cada cuadro. Puede que incluso encuentres l
 a obra de arte perfecta para enriquecer tu hogar.\n\nPor último\, te invi
 tan cordialmente a su pub. Disfruta de una copa de vino en un ambiente rel
 ajado\, charla con los artistas y pon el broche final a tu jornada.\n\n[ca
 ption id="attachment_8744" align="aligncenter" width="727"] Ausstellung Sa
 nta Cruz 4[/caption]\n\nLos estudios abiertos te resultarán fácilmente r
 econocibles &gt\;&gt\;\n\n&nbsp\;\n\n&nbsp\;\n\n&nbsp\;
ATTACH;FMTTYPE=image/jpeg:https://www.larevistadelapalma.com/wp-content/up
 loads/2024/12/Arte-Diem-J-Puertas-abiertas.png
CATEGORIES:Exposiciones,Otras propuestas,Varios
LOCATION:Municipio de Tazacorte\, Villa y Puerto de Tazacorte\, Tazacorte\,
  38770\, España
GEO:28.642917;-17.936888
X-APPLE-STRUCTURED-LOCATION;VALUE=URI;X-ADDRESS=Villa y Puerto de Tazacorte
 \, Tazacorte\, 38770\, España;X-APPLE-RADIUS=100;X-TITLE=Municipio de Taz
 acorte:geo:28.642917,-17.936888
END:VEVENT
END:VCALENDAR