BEGIN:VCALENDAR
VERSION:2.0
PRODID:-//wp-events-plugin.com//7.2.3.1//EN
TZID:Europe/London
X-WR-TIMEZONE:Europe/London
BEGIN:VEVENT
UID:158@larevistadelapalma.com
DTSTART;VALUE=DATE:20230715
DTEND;VALUE=DATE:20230717
DTSTAMP:20230714T144717Z
URL:https://www.larevistadelapalma.com/events/jornadas-conectarte-en-el-pa
 so/
SUMMARY:Jornadas Conectarte en El Paso
DESCRIPTION:Jornadas dedicadas a la transformación personal y social a tra
 vés del arte. Jóvenes y adultos podrán inscribirse\, de forma gratuita\
 , y participar en diversos talleres
ATTACH;FMTTYPE=image/jpeg:https://www.larevistadelapalma.com/wp-content/up
 loads/2023/07/BELLAS-ARTES.jpeg
CATEGORIES:Formación,Otras propuestas
LOCATION:Casa de la Cultura Braulio Martín Hernández de El Paso\, Av. Isl
 as Canarias\, 9\,\, El Paso\, 38750\, España
GEO:28.652923;-17.880463
X-APPLE-STRUCTURED-LOCATION;VALUE=URI;X-ADDRESS=Av. Islas Canarias\, 9\,\, 
 El Paso\, 38750\, España;X-APPLE-RADIUS=100;X-TITLE=Casa de la Cultura Br
 aulio Martín Hernández de El Paso:geo:28.652923,-17.880463
END:VEVENT
END:VCALENDARBEGIN:VCALENDAR
VERSION:2.0
PRODID:-//wp-events-plugin.com//7.2.3.1//EN
TZID:Europe/London
X-WR-TIMEZONE:Europe/London
BEGIN:VEVENT
UID:158@larevistadelapalma.com
DTSTART;VALUE=DATE:20230715
DTEND;VALUE=DATE:20230717
DTSTAMP:20230714T144717Z
URL:https://www.larevistadelapalma.com/events/jornadas-conectarte-en-el-pa
 so/
SUMMARY:Jornadas Conectarte en El Paso
DESCRIPTION:Jornadas dedicadas a la transformación personal y social a tra
 vés del arte. Jóvenes y adultos podrán inscribirse\, de forma gratuita\
 , y participar en diversos talleres
ATTACH;FMTTYPE=image/jpeg:https://www.larevistadelapalma.com/wp-content/up
 loads/2023/07/BELLAS-ARTES.jpeg
CATEGORIES:Formación,Otras propuestas
LOCATION:Casa de la Cultura Braulio Martín Hernández de El Paso\, Av. Isl
 as Canarias\, 9\,\, El Paso\, 38750\, España
GEO:28.652923;-17.880463
X-APPLE-STRUCTURED-LOCATION;VALUE=URI;X-ADDRESS=Av. Islas Canarias\, 9\,\, 
 El Paso\, 38750\, España;X-APPLE-RADIUS=100;X-TITLE=Casa de la Cultura Br
 aulio Martín Hernández de El Paso:geo:28.652923,-17.880463
END:VEVENT
END:VCALENDAR