BEGIN:VCALENDAR
VERSION:2.0
PRODID:-//wp-events-plugin.com//7.2.3.1//EN
TZID:Europe/London
X-WR-TIMEZONE:Europe/London
BEGIN:VEVENT
UID:4014@larevistadelapalma.com
DTSTART;VALUE=DATE:20251016
DTEND;VALUE=DATE:20251019
DTSTAMP:20251014T152720Z
URL:https://www.larevistadelapalma.com/events/jornadas-divulgativas-mazo/
SUMMARY:Villa de Mazo pone en valor su patrimonio histórico y cultural con
  unas jornadas divulgativas
DESCRIPTION:Bajo el lema ‘Rastreamos el pasado para proyectarnos hacia el
  futuro’\, la actividad tendrá lugar los días 16\, 17 y 18 de octubre 
 en distintas ubicaciones del municipio.\n\n El Ayuntamiento de Villa de M
 azo honra  su historia con las primeras Jornadas Patrimoniales de Villa d
 e Mazo\, una actividad organizada por la nueva Asociación para la Salvagu
 arda del Patrimonio\, Ancestros\, que cuenta con la colaboración de la in
 stitución local y del Cabildo Insular de La Palma y que se desarrollará 
 los días 16\, 17 y 18 octubre en distintas ubicaciones del municipio.\n\n
 Las jornadas comienzan el jueves 16 de octubre con la presentación de la 
 nueva asociación Ancestros y la posterior charla del catedrático de Bot
 ánica y profesor de Farmacia en la Universidad de La Laguna\, Pedro Luis 
 Pérez de Paz\, bajo el nombre de ‘Patrimonio natural: recursos vegetale
 s\, espacios naturales y planificación ambiental’.\n\nEl viernes 17\, c
 oincidiendo con el 84º aniversario del fallecimiento del histórico polí
 tico y profesor macense\, Alonso Pérez Díaz\, tendrá lugar un acto ofic
 ial a modo de homenaje en la plaza Pedro Pérez Díaz a cargo de las autor
 idades locales e insulares al final de la jornada. Ese mismo día\, el pre
 sidente de la Asociación de Vecinos El Caboco\, Jorge García Cruz\, inte
 rvendrá para hablar sobre el Borrachito Fogatero\, declarado Bien de Inte
 rés Cultural por el Gobierno de Canarias en 2014 y que forma parte de la 
 imaginería festiva de Villa de Mazo.\n\nSeguidamente\, será el turno par
 a ‘Dos voces una causa: Pedro y Alonso Pérez Díaz en el despertar pol
 ítico de La Palma’\, a cargo del periodista y profesor de Derecho en la
  Universidad de La Laguna Juan Rodríguez Lewis. Por último\, previamente
  al homenaje tendrá lugar una escenificación teatral sobre la creación 
 de los hermanos Óscar y Antonio Fumero\, a cargo de la Asociación de tea
 tro La Farsa\, que recibe el título ‘La solución macaense al problema 
 canario’.\n\n\n\nEl grupo de teatro La Farsa nos sorprenderá con una es
 cenificación teatral al más puro estilo de aquellas con las que han part
 icipado en las distintas ediciones de las Rutas Histórico-Teatrales de Vi
 lla de Mazo. Una puesta en escena que combina historia\, arte y emoción p
 ara revivir momentos y personajes de nuestro pasado colectivo\, a cargo de
  los hermanos Antonio y Óscar Fumero.\n\n\n 17 de octubre a las 19:30 en
  la plaza Alonso Pérez Díaz.\n\nEn el último día de las jornadas\, dí
 a 18\, habrá una ruta arqueológica y etnográfica dirigida por el histor
 iador Jorge Pais\, que saldrá desde la plaza del Corpus Christi\, haciend
 o un recorrido en guagua con caminatas puntuales por el Parque Arqueológi
 co de Belmaco\, La Salemera\, La Cangrejera y la Montaña Las Goteras\, re
 gresando al punto de partida.\n\nComo clausura del evento\, tendrá lugar 
 una mesa redonda bajo el título ‘El molino Ortega: un patrimonio de Vil
 la de Mazo’\, en la que participarán personalidades como el doctor en F
 ilología Hispánica y miembro de la Real Academia Canaria de Bellas Artes
 \, Manuel Poggio Capote\; el sociólogo y autor de numerosos artículos de
  investigación vinculados con La Palma\, Antonio Lorenzo Tena\; el artesa
 no y propietario de la cerámica El Molino\, Ramón Barreto Leal\; y la ar
 quitecta y miembro de la familia Cabrera\, propietaria del Molino El Puebl
 o\, Edvina Barreto Cabrera.\n\nLa programación de las jornadas se encuent
 ra al completo en la web del Consistorio\, a la que se puede acceder a tra
 vés de este enlace.
ATTACH;FMTTYPE=image/jpeg:https://www.larevistadelapalma.com/wp-content/up
 loads/2025/10/Jornadas-Patrimoniales.jpeg
CATEGORIES:Formación,Otras propuestas,Varios
LOCATION:Municipio de Villa de Mazo\, Villa de Mazo\, Villa de Mazo\, 38730
 \, España
GEO:28.622071;-17.780675
X-APPLE-STRUCTURED-LOCATION;VALUE=URI;X-ADDRESS=Villa de Mazo\, Villa de Ma
 zo\, 38730\, España;X-APPLE-RADIUS=100;X-TITLE=Municipio de Villa de Mazo
 :geo:28.622071,-17.780675
END:VEVENT
END:VCALENDARBEGIN:VCALENDAR
VERSION:2.0
PRODID:-//wp-events-plugin.com//7.2.3.1//EN
TZID:Europe/London
X-WR-TIMEZONE:Europe/London
BEGIN:VEVENT
UID:4014@larevistadelapalma.com
DTSTART;VALUE=DATE:20251016
DTEND;VALUE=DATE:20251019
DTSTAMP:20251014T152720Z
URL:https://www.larevistadelapalma.com/events/jornadas-divulgativas-mazo/
SUMMARY:Villa de Mazo pone en valor su patrimonio histórico y cultural con
  unas jornadas divulgativas
DESCRIPTION:Bajo el lema ‘Rastreamos el pasado para proyectarnos hacia el
  futuro’\, la actividad tendrá lugar los días 16\, 17 y 18 de octubre 
 en distintas ubicaciones del municipio.\n\n El Ayuntamiento de Villa de M
 azo honra  su historia con las primeras Jornadas Patrimoniales de Villa d
 e Mazo\, una actividad organizada por la nueva Asociación para la Salvagu
 arda del Patrimonio\, Ancestros\, que cuenta con la colaboración de la in
 stitución local y del Cabildo Insular de La Palma y que se desarrollará 
 los días 16\, 17 y 18 octubre en distintas ubicaciones del municipio.\n\n
 Las jornadas comienzan el jueves 16 de octubre con la presentación de la 
 nueva asociación Ancestros y la posterior charla del catedrático de Bot
 ánica y profesor de Farmacia en la Universidad de La Laguna\, Pedro Luis 
 Pérez de Paz\, bajo el nombre de ‘Patrimonio natural: recursos vegetale
 s\, espacios naturales y planificación ambiental’.\n\nEl viernes 17\, c
 oincidiendo con el 84º aniversario del fallecimiento del histórico polí
 tico y profesor macense\, Alonso Pérez Díaz\, tendrá lugar un acto ofic
 ial a modo de homenaje en la plaza Pedro Pérez Díaz a cargo de las autor
 idades locales e insulares al final de la jornada. Ese mismo día\, el pre
 sidente de la Asociación de Vecinos El Caboco\, Jorge García Cruz\, inte
 rvendrá para hablar sobre el Borrachito Fogatero\, declarado Bien de Inte
 rés Cultural por el Gobierno de Canarias en 2014 y que forma parte de la 
 imaginería festiva de Villa de Mazo.\n\nSeguidamente\, será el turno par
 a ‘Dos voces una causa: Pedro y Alonso Pérez Díaz en el despertar pol
 ítico de La Palma’\, a cargo del periodista y profesor de Derecho en la
  Universidad de La Laguna Juan Rodríguez Lewis. Por último\, previamente
  al homenaje tendrá lugar una escenificación teatral sobre la creación 
 de los hermanos Óscar y Antonio Fumero\, a cargo de la Asociación de tea
 tro La Farsa\, que recibe el título ‘La solución macaense al problema 
 canario’.\n\n\n\nEl grupo de teatro La Farsa nos sorprenderá con una es
 cenificación teatral al más puro estilo de aquellas con las que han part
 icipado en las distintas ediciones de las Rutas Histórico-Teatrales de Vi
 lla de Mazo. Una puesta en escena que combina historia\, arte y emoción p
 ara revivir momentos y personajes de nuestro pasado colectivo\, a cargo de
  los hermanos Antonio y Óscar Fumero.\n\n\n 17 de octubre a las 19:30 en
  la plaza Alonso Pérez Díaz.\n\nEn el último día de las jornadas\, dí
 a 18\, habrá una ruta arqueológica y etnográfica dirigida por el histor
 iador Jorge Pais\, que saldrá desde la plaza del Corpus Christi\, haciend
 o un recorrido en guagua con caminatas puntuales por el Parque Arqueológi
 co de Belmaco\, La Salemera\, La Cangrejera y la Montaña Las Goteras\, re
 gresando al punto de partida.\n\nComo clausura del evento\, tendrá lugar 
 una mesa redonda bajo el título ‘El molino Ortega: un patrimonio de Vil
 la de Mazo’\, en la que participarán personalidades como el doctor en F
 ilología Hispánica y miembro de la Real Academia Canaria de Bellas Artes
 \, Manuel Poggio Capote\; el sociólogo y autor de numerosos artículos de
  investigación vinculados con La Palma\, Antonio Lorenzo Tena\; el artesa
 no y propietario de la cerámica El Molino\, Ramón Barreto Leal\; y la ar
 quitecta y miembro de la familia Cabrera\, propietaria del Molino El Puebl
 o\, Edvina Barreto Cabrera.\n\nLa programación de las jornadas se encuent
 ra al completo en la web del Consistorio\, a la que se puede acceder a tra
 vés de este enlace.
ATTACH;FMTTYPE=image/jpeg:https://www.larevistadelapalma.com/wp-content/up
 loads/2025/10/Jornadas-Patrimoniales.jpeg
CATEGORIES:Formación,Otras propuestas,Varios
LOCATION:Municipio de Villa de Mazo\, Villa de Mazo\, Villa de Mazo\, 38730
 \, España
GEO:28.622071;-17.780675
X-APPLE-STRUCTURED-LOCATION;VALUE=URI;X-ADDRESS=Villa de Mazo\, Villa de Ma
 zo\, 38730\, España;X-APPLE-RADIUS=100;X-TITLE=Municipio de Villa de Mazo
 :geo:28.622071,-17.780675
END:VEVENT
END:VCALENDAR