BEGIN:VCALENDAR
VERSION:2.0
PRODID:-//wp-events-plugin.com//7.2.3.1//EN
TZID:Europe/London
X-WR-TIMEZONE:Europe/London
BEGIN:VEVENT
UID:3456@larevistadelapalma.com
DTSTART;VALUE=DATE:20241212
DTEND;VALUE=DATE:20241215
DTSTAMP:20241202T233659Z
URL:https://www.larevistadelapalma.com/events/jornadas-grabados-rupestres-
 mab/
SUMMARY:"Jornadas “Los Grabados Rupestres de La Palma: Pasado\, Presente 
 y Futuro”
DESCRIPTION:Junto a las actividades científicas\, habrá una programación
  cultural\, música con Yul Ballesteros y Lajalada\, exposición y una vis
 ita guiada.
ATTACH;FMTTYPE=image/jpeg:https://www.larevistadelapalma.com/wp-content/up
 loads/2024/12/Jornadas-Grabados-rupestres-MAB.jpg
CATEGORIES:Formación,Otras propuestas
LOCATION:Museo Arqueológico Benahoarita (MAB)\, Calle Las Adelfas\, Los Ll
 anos de Aridane\, 38760\, España
GEO:28.656757;-17.910203
X-APPLE-STRUCTURED-LOCATION;VALUE=URI;X-ADDRESS=Calle Las Adelfas\, Los Lla
 nos de Aridane\, 38760\, España;X-APPLE-RADIUS=100;X-TITLE=Museo Arqueol
 ógico Benahoarita (MAB):geo:28.656757,-17.910203
END:VEVENT
END:VCALENDARBEGIN:VCALENDAR
VERSION:2.0
PRODID:-//wp-events-plugin.com//7.2.3.1//EN
TZID:Europe/London
X-WR-TIMEZONE:Europe/London
BEGIN:VEVENT
UID:3456@larevistadelapalma.com
DTSTART;VALUE=DATE:20241212
DTEND;VALUE=DATE:20241215
DTSTAMP:20241202T233659Z
URL:https://www.larevistadelapalma.com/events/jornadas-grabados-rupestres-
 mab/
SUMMARY:"Jornadas “Los Grabados Rupestres de La Palma: Pasado\, Presente 
 y Futuro”
DESCRIPTION:Junto a las actividades científicas\, habrá una programación
  cultural\, música con Yul Ballesteros y Lajalada\, exposición y una vis
 ita guiada.
ATTACH;FMTTYPE=image/jpeg:https://www.larevistadelapalma.com/wp-content/up
 loads/2024/12/Jornadas-Grabados-rupestres-MAB.jpg
CATEGORIES:Formación,Otras propuestas
LOCATION:Museo Arqueológico Benahoarita (MAB)\, Calle Las Adelfas\, Los Ll
 anos de Aridane\, 38760\, España
GEO:28.656757;-17.910203
X-APPLE-STRUCTURED-LOCATION;VALUE=URI;X-ADDRESS=Calle Las Adelfas\, Los Lla
 nos de Aridane\, 38760\, España;X-APPLE-RADIUS=100;X-TITLE=Museo Arqueol
 ógico Benahoarita (MAB):geo:28.656757,-17.910203
END:VEVENT
END:VCALENDAR