BEGIN:VCALENDAR
VERSION:2.0
PRODID:-//wp-events-plugin.com//7.2.3.1//EN
TZID:Europe/London
X-WR-TIMEZONE:Europe/London
BEGIN:VEVENT
UID:3960@larevistadelapalma.com
DTSTART;VALUE=DATE:20251017
DTEND;VALUE=DATE:20251018
DTSTAMP:20250909T192233Z
URL:https://www.larevistadelapalma.com/events/jornadas-mujer-y-sufrimiento
 -psiquico/
SUMMARY:La Asociación de Salud Mental La Palma celebra las “Jornadas Muj
 er y sufrimiento psíquico”
DESCRIPTION:El 10 de septiembre es el Día Mundial para la Prevención del 
 Suicidio. Aprovechando esta fecha\, la Asociación de Salud Mental La Palm
 a presenta las jornadas “JORNADAS MUJER Y SUFRIMIENTO PSIQUICO”\, que
  tendrán lugar el 17 de octubre en Los Llanos de Aridane.\n\n“Las marip
 osas siempre han sido símbolo de fragilidad y de transformación. Su vida
  es breve\, pero intensa\, y su vuelo ligero nos recuerda que cada instant
 e tiene un valor inmenso. Sin embargo\, no podemos olvidar que antes de de
 splegar sus alas\, cada mariposa atraviesa un proceso difícil: el encierr
 o de la crisálida\, un momento de oscuridad\, de aparente inmovilidad\, q
 ue en realidad es un tiempo de cambio profundo.\n\nEl suicidio es una de l
 as expresiones más duras del sufrimiento humano. No nace de la debilidad\
 , sino del cansancio\, del dolor acumulado\, de la sensación de no encont
 rar salida. Quien lo contempla no quiere dejar de vivir\, quiere dejar de 
 sufrir. Y esa diferencia lo cambia todo: porque el sufrimiento sí puede t
 ransformarse\, sí puede aliviarse\, si encontramos apoyo\, escucha y acom
 pañamiento.\n\nEste día es un recordatorio de que nadie debería atraves
 ar su “crisálida” en soledad. Hablar salva vidas. Un gesto de empatí
 a\, una pregunta sincera\, un silencio compartido pueden significar mucho 
 más de lo que imaginamos. A veces basta con recordarle a alguien que su v
 ida tiene valor\, que su dolor importa\, que no está solo.\n\nLas maripos
 as nos enseñan que la oscuridad no es el final\, sino parte del camino ha
 cia un renacer. Hoy\, en el Día Mundial de la Prevención del Suicidio\, 
 honremos a quienes ya no están\, acompañemos a quienes luchan\, y compro
 metámonos a crear un mundo donde siempre exista un espacio seguro para de
 splegar las alas.\n\nNo es casualidad que la mariposa sea el símbolo de l
 a Asociación Salud Mental La Palma\, pues representa esa capacidad de tra
 nsformación\, de esperanza y de vida nueva después de la tormenta. Que h
 oy\, más que nunca\, su vuelo nos recuerde que siempre hay posibilidad de
  cambio y de luz.”\n\nHaciendo uso de esta metáfora\, ya es de todos co
 nocido que Salud Mental La Palma tiene como símbolo la Mariposa\, este a
 ño conmemoran el Dia Mundial para la Prevención del Suicidio con un acto
  en donde presentarán las jornadas que se desarrollaran el próximo 17 de
  octubre en\, Casa del Conde (Llano de Argual)\, Los Llanos de Aridane\, c
 on un Elenco de ponentes vinculados al ámbito de la Psicología y de la N
 eurociencia bajo el lema de “MUJER Y SUFRIMIENTO PSIQUICO”.
ATTACH;FMTTYPE=image/jpeg:https://www.larevistadelapalma.com/wp-content/up
 loads/2025/09/cartel-con-codigo.jpg
CATEGORIES:Formación,Otras propuestas
LOCATION:Casa del Conde\, Los Llanos de Aridane\, C/San Antonio\, 35 - Llan
 o de Argual\, Los Llanos de Aridane\, 38760\, España
GEO:28.655333;-17.926641
X-APPLE-STRUCTURED-LOCATION;VALUE=URI;X-ADDRESS=C/San Antonio\, 35 - Llano 
 de Argual\, Los Llanos de Aridane\, 38760\, España;X-APPLE-RADIUS=100;X-T
 ITLE=Casa del Conde\, Los Llanos de Aridane:geo:28.655333,-17.926641
END:VEVENT
END:VCALENDARBEGIN:VCALENDAR
VERSION:2.0
PRODID:-//wp-events-plugin.com//7.2.3.1//EN
TZID:Europe/London
X-WR-TIMEZONE:Europe/London
BEGIN:VEVENT
UID:3960@larevistadelapalma.com
DTSTART;VALUE=DATE:20251017
DTEND;VALUE=DATE:20251018
DTSTAMP:20250909T192233Z
URL:https://www.larevistadelapalma.com/events/jornadas-mujer-y-sufrimiento
 -psiquico/
SUMMARY:La Asociación de Salud Mental La Palma celebra las “Jornadas Muj
 er y sufrimiento psíquico”
DESCRIPTION:El 10 de septiembre es el Día Mundial para la Prevención del 
 Suicidio. Aprovechando esta fecha\, la Asociación de Salud Mental La Palm
 a presenta las jornadas “JORNADAS MUJER Y SUFRIMIENTO PSIQUICO”\, que
  tendrán lugar el 17 de octubre en Los Llanos de Aridane.\n\n“Las marip
 osas siempre han sido símbolo de fragilidad y de transformación. Su vida
  es breve\, pero intensa\, y su vuelo ligero nos recuerda que cada instant
 e tiene un valor inmenso. Sin embargo\, no podemos olvidar que antes de de
 splegar sus alas\, cada mariposa atraviesa un proceso difícil: el encierr
 o de la crisálida\, un momento de oscuridad\, de aparente inmovilidad\, q
 ue en realidad es un tiempo de cambio profundo.\n\nEl suicidio es una de l
 as expresiones más duras del sufrimiento humano. No nace de la debilidad\
 , sino del cansancio\, del dolor acumulado\, de la sensación de no encont
 rar salida. Quien lo contempla no quiere dejar de vivir\, quiere dejar de 
 sufrir. Y esa diferencia lo cambia todo: porque el sufrimiento sí puede t
 ransformarse\, sí puede aliviarse\, si encontramos apoyo\, escucha y acom
 pañamiento.\n\nEste día es un recordatorio de que nadie debería atraves
 ar su “crisálida” en soledad. Hablar salva vidas. Un gesto de empatí
 a\, una pregunta sincera\, un silencio compartido pueden significar mucho 
 más de lo que imaginamos. A veces basta con recordarle a alguien que su v
 ida tiene valor\, que su dolor importa\, que no está solo.\n\nLas maripos
 as nos enseñan que la oscuridad no es el final\, sino parte del camino ha
 cia un renacer. Hoy\, en el Día Mundial de la Prevención del Suicidio\, 
 honremos a quienes ya no están\, acompañemos a quienes luchan\, y compro
 metámonos a crear un mundo donde siempre exista un espacio seguro para de
 splegar las alas.\n\nNo es casualidad que la mariposa sea el símbolo de l
 a Asociación Salud Mental La Palma\, pues representa esa capacidad de tra
 nsformación\, de esperanza y de vida nueva después de la tormenta. Que h
 oy\, más que nunca\, su vuelo nos recuerde que siempre hay posibilidad de
  cambio y de luz.”\n\nHaciendo uso de esta metáfora\, ya es de todos co
 nocido que Salud Mental La Palma tiene como símbolo la Mariposa\, este a
 ño conmemoran el Dia Mundial para la Prevención del Suicidio con un acto
  en donde presentarán las jornadas que se desarrollaran el próximo 17 de
  octubre en\, Casa del Conde (Llano de Argual)\, Los Llanos de Aridane\, c
 on un Elenco de ponentes vinculados al ámbito de la Psicología y de la N
 eurociencia bajo el lema de “MUJER Y SUFRIMIENTO PSIQUICO”.
ATTACH;FMTTYPE=image/jpeg:https://www.larevistadelapalma.com/wp-content/up
 loads/2025/09/cartel-con-codigo.jpg
CATEGORIES:Formación,Otras propuestas
LOCATION:Casa del Conde\, Los Llanos de Aridane\, C/San Antonio\, 35 - Llan
 o de Argual\, Los Llanos de Aridane\, 38760\, España
GEO:28.655333;-17.926641
X-APPLE-STRUCTURED-LOCATION;VALUE=URI;X-ADDRESS=C/San Antonio\, 35 - Llano 
 de Argual\, Los Llanos de Aridane\, 38760\, España;X-APPLE-RADIUS=100;X-T
 ITLE=Casa del Conde\, Los Llanos de Aridane:geo:28.655333,-17.926641
END:VEVENT
END:VCALENDAR