BEGIN:VCALENDAR
VERSION:2.0
PRODID:-//wp-events-plugin.com//7.2.3.1//EN
TZID:Europe/London
X-WR-TIMEZONE:Europe/London
BEGIN:VEVENT
UID:3912@larevistadelapalma.com
DTSTART:20250821T203000Z
DTEND:20250821T220000Z
DTSTAMP:20250818T182051Z
URL:https://www.larevistadelapalma.com/events/jose-manuel-ramos-presenta-c
 anciones-en-el-bar-de-los-mal-amados-en-tijarafe/
SUMMARY:José Manuel Ramos presenta “Canciones en el Bar de los Mal Amado
 s”\, en Tijarafe
DESCRIPTION: José Manuel Ramos con su banda en directo\, presenta su nuev
 o espectáculo “Canciones en el Bar de los Mal Amados”\, un recorrido 
 por los grandes éxitos de su carrera en solitario y en formaciones como L
 os Sabandeños o Parranda de Cantadores.
ATTACH;FMTTYPE=image/jpeg:https://www.larevistadelapalma.com/wp-content/up
 loads/2025/08/Jose-Manuel-Ramos-Tijarafe.jpg
CATEGORIES:Conciertos,Música
LOCATION:Plaza Candelaria en Tijarafe\, Plaza de La Candelaria \, Tijarafe\
 , 38780\, España
GEO:28.711392;-17.955151
X-APPLE-STRUCTURED-LOCATION;VALUE=URI;X-ADDRESS=Plaza de La Candelaria \, T
 ijarafe\, 38780\, España;X-APPLE-RADIUS=100;X-TITLE=Plaza Candelaria en T
 ijarafe:geo:28.711392,-17.955151
END:VEVENT
END:VCALENDARBEGIN:VCALENDAR
VERSION:2.0
PRODID:-//wp-events-plugin.com//7.2.3.1//EN
TZID:Europe/London
X-WR-TIMEZONE:Europe/London
BEGIN:VEVENT
UID:3912@larevistadelapalma.com
DTSTART:20250821T203000Z
DTEND:20250821T220000Z
DTSTAMP:20250818T182051Z
URL:https://www.larevistadelapalma.com/events/jose-manuel-ramos-presenta-c
 anciones-en-el-bar-de-los-mal-amados-en-tijarafe/
SUMMARY:José Manuel Ramos presenta “Canciones en el Bar de los Mal Amado
 s”\, en Tijarafe
DESCRIPTION: José Manuel Ramos con su banda en directo\, presenta su nuev
 o espectáculo “Canciones en el Bar de los Mal Amados”\, un recorrido 
 por los grandes éxitos de su carrera en solitario y en formaciones como L
 os Sabandeños o Parranda de Cantadores.
ATTACH;FMTTYPE=image/jpeg:https://www.larevistadelapalma.com/wp-content/up
 loads/2025/08/Jose-Manuel-Ramos-Tijarafe.jpg
CATEGORIES:Conciertos,Música
LOCATION:Plaza Candelaria en Tijarafe\, Plaza de La Candelaria \, Tijarafe\
 , 38780\, España
GEO:28.711392;-17.955151
X-APPLE-STRUCTURED-LOCATION;VALUE=URI;X-ADDRESS=Plaza de La Candelaria \, T
 ijarafe\, 38780\, España;X-APPLE-RADIUS=100;X-TITLE=Plaza Candelaria en T
 ijarafe:geo:28.711392,-17.955151
END:VEVENT
END:VCALENDAR