BEGIN:VCALENDAR
VERSION:2.0
PRODID:-//wp-events-plugin.com//7.2.3.1//EN
TZID:Europe/London
X-WR-TIMEZONE:Europe/London
BEGIN:VEVENT
UID:4033@larevistadelapalma.com
DTSTART:20251220T183000Z
DTEND:20251220T220000Z
DTSTAMP:20251219T220014Z
URL:https://www.larevistadelapalma.com/events/juanes-oscar-de-leon-la-palm
 a/
SUMMARY:¡CAMBIOS! - III Edición de ‘La Palma Blue Experience’ con Jua
 nes y ‘Estrellas de Buena Vista y +’
DESCRIPTION:Oscar de León finalmente no estará en el concierto. Le sustit
 uyen ‘Estrellas de Buena Vista y +’
ATTACH;FMTTYPE=image/jpeg:https://www.larevistadelapalma.com/wp-content/up
 loads/2025/10/juanes-estrellas-de-buena-vista.png
CATEGORIES:Festivales/Fiestas,Música
LOCATION:Municipio de Breña Alta\, Municipio de Breña Alta\, Breña Alta\
 , 8710 \, España
GEO:28.65375;-17.805077
X-APPLE-STRUCTURED-LOCATION;VALUE=URI;X-ADDRESS=Municipio de Breña Alta\, 
 Breña Alta\, 8710 \, España;X-APPLE-RADIUS=100;X-TITLE=Municipio de Bre
 ña Alta:geo:28.65375,-17.805077
END:VEVENT
END:VCALENDARBEGIN:VCALENDAR
VERSION:2.0
PRODID:-//wp-events-plugin.com//7.2.3.1//EN
TZID:Europe/London
X-WR-TIMEZONE:Europe/London
BEGIN:VEVENT
UID:4033@larevistadelapalma.com
DTSTART:20251220T183000Z
DTEND:20251220T220000Z
DTSTAMP:20251219T220014Z
URL:https://www.larevistadelapalma.com/events/juanes-oscar-de-leon-la-palm
 a/
SUMMARY:¡CAMBIOS! - III Edición de ‘La Palma Blue Experience’ con Jua
 nes y ‘Estrellas de Buena Vista y +’
DESCRIPTION:Oscar de León finalmente no estará en el concierto. Le sustit
 uyen ‘Estrellas de Buena Vista y +’
ATTACH;FMTTYPE=image/jpeg:https://www.larevistadelapalma.com/wp-content/up
 loads/2025/10/juanes-estrellas-de-buena-vista.png
CATEGORIES:Festivales/Fiestas,Música
LOCATION:Municipio de Breña Alta\, Municipio de Breña Alta\, Breña Alta\
 , 8710 \, España
GEO:28.65375;-17.805077
X-APPLE-STRUCTURED-LOCATION;VALUE=URI;X-ADDRESS=Municipio de Breña Alta\, 
 Breña Alta\, 8710 \, España;X-APPLE-RADIUS=100;X-TITLE=Municipio de Bre
 ña Alta:geo:28.65375,-17.805077
END:VEVENT
END:VCALENDAR