BEGIN:VCALENDAR
VERSION:2.0
PRODID:-//wp-events-plugin.com//7.2.3.1//EN
TZID:Europe/London
X-WR-TIMEZONE:Europe/London
BEGIN:VEVENT
UID:4423@larevistadelapalma.com
DTSTART:20251220T110000Z
DTEND:20251220T123000Z
DTSTAMP:20251219T160345Z
URL:https://www.larevistadelapalma.com/events/juli-mesa-los-llanos/
SUMMARY:Encuentro y recital poético con Juli Mesa. Los Llanos
DESCRIPTION:Su obra Soo ha situado su voz entre las más originales de la p
 oesía contemporánea emergente en España. 
ATTACH;FMTTYPE=image/jpeg:https://www.larevistadelapalma.com/wp-content/up
 loads/2025/12/Juli-Mesa.jpg
CATEGORIES:Cine y Literatura,Literatura
LOCATION:Casa de La Cultura de Los Llanos de Aridane\, : C. Real\, 8\, Los 
 Llanos de Aridane \, 38760\, España
GEO:28.658651;-17.913512
X-APPLE-STRUCTURED-LOCATION;VALUE=URI;X-ADDRESS=: C. Real\, 8\, Los Llanos 
 de Aridane \, 38760\, España;X-APPLE-RADIUS=100;X-TITLE=Casa de La Cultur
 a de Los Llanos de Aridane:geo:28.658651,-17.913512
END:VEVENT
END:VCALENDARBEGIN:VCALENDAR
VERSION:2.0
PRODID:-//wp-events-plugin.com//7.2.3.1//EN
TZID:Europe/London
X-WR-TIMEZONE:Europe/London
BEGIN:VEVENT
UID:4423@larevistadelapalma.com
DTSTART:20251220T110000Z
DTEND:20251220T123000Z
DTSTAMP:20251219T160345Z
URL:https://www.larevistadelapalma.com/events/juli-mesa-los-llanos/
SUMMARY:Encuentro y recital poético con Juli Mesa. Los Llanos
DESCRIPTION:Su obra Soo ha situado su voz entre las más originales de la p
 oesía contemporánea emergente en España. 
ATTACH;FMTTYPE=image/jpeg:https://www.larevistadelapalma.com/wp-content/up
 loads/2025/12/Juli-Mesa.jpg
CATEGORIES:Cine y Literatura,Literatura
LOCATION:Casa de La Cultura de Los Llanos de Aridane\, : C. Real\, 8\, Los 
 Llanos de Aridane \, 38760\, España
GEO:28.658651;-17.913512
X-APPLE-STRUCTURED-LOCATION;VALUE=URI;X-ADDRESS=: C. Real\, 8\, Los Llanos 
 de Aridane \, 38760\, España;X-APPLE-RADIUS=100;X-TITLE=Casa de La Cultur
 a de Los Llanos de Aridane:geo:28.658651,-17.913512
END:VEVENT
END:VCALENDAR