BEGIN:VCALENDAR
VERSION:2.0
PRODID:-//wp-events-plugin.com//7.2.3.1//EN
TZID:Europe/London
X-WR-TIMEZONE:Europe/London
BEGIN:VEVENT
UID:4029@larevistadelapalma.com
DTSTART:20251025T190000Z
DTEND:20251025T203000Z
DTSTAMP:20251020T094503Z
URL:https://www.larevistadelapalma.com/events/la-big-band-de-canarias-fran
 -baraja/
SUMMARY:La Big Band de Canarias + Fran Baraja
DESCRIPTION:La Big Band de Canarias llega a Breña Alta\, y esta vez con un
  invitado muy especial\, el inconfundible Fran Baraja que se une a la band
 a para un concierto que fusiona el jazz con sus particulares toques canari
 os.
ATTACH;FMTTYPE=image/jpeg:https://www.larevistadelapalma.com/wp-content/up
 loads/2025/10/Fran-Baraja-Big-Band.jpg
CATEGORIES:Conciertos,Música
LOCATION:Plaza de las Madres\, San José\, Breña Baja\, 38712\, España
GEO:28.642202;-17.775828
X-APPLE-STRUCTURED-LOCATION;VALUE=URI;X-ADDRESS=San José\, Breña Baja\, 3
 8712\, España;X-APPLE-RADIUS=100;X-TITLE=Plaza de las Madres:geo:28.64220
 2,-17.775828
END:VEVENT
END:VCALENDARBEGIN:VCALENDAR
VERSION:2.0
PRODID:-//wp-events-plugin.com//7.2.3.1//EN
TZID:Europe/London
X-WR-TIMEZONE:Europe/London
BEGIN:VEVENT
UID:4029@larevistadelapalma.com
DTSTART:20251025T190000Z
DTEND:20251025T203000Z
DTSTAMP:20251020T094503Z
URL:https://www.larevistadelapalma.com/events/la-big-band-de-canarias-fran
 -baraja/
SUMMARY:La Big Band de Canarias + Fran Baraja
DESCRIPTION:La Big Band de Canarias llega a Breña Alta\, y esta vez con un
  invitado muy especial\, el inconfundible Fran Baraja que se une a la band
 a para un concierto que fusiona el jazz con sus particulares toques canari
 os.
ATTACH;FMTTYPE=image/jpeg:https://www.larevistadelapalma.com/wp-content/up
 loads/2025/10/Fran-Baraja-Big-Band.jpg
CATEGORIES:Conciertos,Música
LOCATION:Plaza de las Madres\, San José\, Breña Baja\, 38712\, España
GEO:28.642202;-17.775828
X-APPLE-STRUCTURED-LOCATION;VALUE=URI;X-ADDRESS=San José\, Breña Baja\, 3
 8712\, España;X-APPLE-RADIUS=100;X-TITLE=Plaza de las Madres:geo:28.64220
 2,-17.775828
END:VEVENT
END:VCALENDAR