BEGIN:VCALENDAR
VERSION:2.0
PRODID:-//wp-events-plugin.com//7.2.3.1//EN
TZID:Europe/London
X-WR-TIMEZONE:Europe/London
BEGIN:VEVENT
UID:766@larevistadelapalma.com
DTSTART;VALUE=DATE:20231020
DTEND;VALUE=DATE:20231023
DTSTAMP:20231014T225044Z
URL:https://www.larevistadelapalma.com/events/la-bistro-pizzeria-el-quinto
 -pino-cumple-20-anos/
SUMMARY:La bistro-pizzería El Quinto Pino cumple 20 años
DESCRIPTION:El Quinto Pino de Fuencaliente cumple 20 años y lo celebra\, d
 urante el fin de semana del 20 al 22 de octubre\, en su espacio cultural L
 a Pérgola con cata\, actuaciones musicales y noche de poesía.\nViernes 2
 0 de octubre:\nA partir de las 18:00 horas\,  tapas y cata de vino con la
  bodega Mil7ochentaynueve.\n\nA las 20:00 horas\, la música de Clara y Xa
 vi Roca .\n\n(Clara Camacho (Guitarra y voz) y Xavi Roca (percusión).\n\n
 \n\nA las 22:00 horas\, DJ Harri.\nEl sábado 21 de octubre:\nA las 20:00 
 horas\, concierto de Naby Zana. Cantante e instrumentista procedente de Gu
 inea Conakry\, aunque reside en Gran Canaria\, Naby desde su infancia\, se
  ha dedicado en cuerpo y alma a la música.\n\nhttps://www.youtube.com/wat
 ch?v=1w4uGWiQmpo\n\nA las 22:00 horas\, DJ Harri.\nDomingo 22 de octubre:\
 nA las 18:00 horas\, versos y poesía con Vicki\, Joseito y Yapci.\n\n&nbs
 p\;
ATTACH;FMTTYPE=image/jpeg:https://www.larevistadelapalma.com/wp-content/up
 loads/2023/10/EL-Quinto-Pino-20-aniversario.jpg
CATEGORIES:Conciertos,Gastro,Música,Otras propuestas,Varios
LOCATION:El Quinto Pino\, Ctra. la Pared Nueva\, 3. Las Indias. \, Fuencali
 ente\, 38749\, España
GEO:28.500094;-17.857762
X-APPLE-STRUCTURED-LOCATION;VALUE=URI;X-ADDRESS=Ctra. la Pared Nueva\, 3. L
 as Indias. \, Fuencaliente\, 38749\, España;X-APPLE-RADIUS=100;X-TITLE=El
  Quinto Pino:geo:28.500094,-17.857762
END:VEVENT
END:VCALENDARBEGIN:VCALENDAR
VERSION:2.0
PRODID:-//wp-events-plugin.com//7.2.3.1//EN
TZID:Europe/London
X-WR-TIMEZONE:Europe/London
BEGIN:VEVENT
UID:766@larevistadelapalma.com
DTSTART;VALUE=DATE:20231020
DTEND;VALUE=DATE:20231023
DTSTAMP:20231014T225044Z
URL:https://www.larevistadelapalma.com/events/la-bistro-pizzeria-el-quinto
 -pino-cumple-20-anos/
SUMMARY:La bistro-pizzería El Quinto Pino cumple 20 años
DESCRIPTION:El Quinto Pino de Fuencaliente cumple 20 años y lo celebra\, d
 urante el fin de semana del 20 al 22 de octubre\, en su espacio cultural L
 a Pérgola con cata\, actuaciones musicales y noche de poesía.\nViernes 2
 0 de octubre:\nA partir de las 18:00 horas\,  tapas y cata de vino con la
  bodega Mil7ochentaynueve.\n\nA las 20:00 horas\, la música de Clara y Xa
 vi Roca .\n\n(Clara Camacho (Guitarra y voz) y Xavi Roca (percusión).\n\n
 \n\nA las 22:00 horas\, DJ Harri.\nEl sábado 21 de octubre:\nA las 20:00 
 horas\, concierto de Naby Zana. Cantante e instrumentista procedente de Gu
 inea Conakry\, aunque reside en Gran Canaria\, Naby desde su infancia\, se
  ha dedicado en cuerpo y alma a la música.\n\nhttps://www.youtube.com/wat
 ch?v=1w4uGWiQmpo\n\nA las 22:00 horas\, DJ Harri.\nDomingo 22 de octubre:\
 nA las 18:00 horas\, versos y poesía con Vicki\, Joseito y Yapci.\n\n&nbs
 p\;
ATTACH;FMTTYPE=image/jpeg:https://www.larevistadelapalma.com/wp-content/up
 loads/2023/10/EL-Quinto-Pino-20-aniversario.jpg
CATEGORIES:Conciertos,Gastro,Música,Otras propuestas,Varios
LOCATION:El Quinto Pino\, Ctra. la Pared Nueva\, 3. Las Indias. \, Fuencali
 ente\, 38749\, España
GEO:28.500094;-17.857762
X-APPLE-STRUCTURED-LOCATION;VALUE=URI;X-ADDRESS=Ctra. la Pared Nueva\, 3. L
 as Indias. \, Fuencaliente\, 38749\, España;X-APPLE-RADIUS=100;X-TITLE=El
  Quinto Pino:geo:28.500094,-17.857762
END:VEVENT
END:VCALENDAR