BEGIN:VCALENDAR
VERSION:2.0
PRODID:-//wp-events-plugin.com//7.2.3.1//EN
TZID:Europe/London
X-WR-TIMEZONE:Europe/London
BEGIN:VEVENT
UID:3291@larevistadelapalma.com
DTSTART:20241112T180000Z
DTEND:20241112T200000Z
DTSTAMP:20240925T224039Z
URL:https://www.larevistadelapalma.com/events/la-cabana-existe-club-de-lec
 tura-en-tazacorte-3/
SUMMARY:"La cabaña existe"\, club de lectura en Tazacorte
DESCRIPTION:CLUB DE LECTURA en Tasca marmota los martes de 19:00-21:00 h.\n
 Esta cabaña abre las puertas en octubre. Están todos invitados. La prime
 ra sesión de cada mes será en La Marmota y la segunda en la biblioteca d
 el pueblo.\n\n15 y 29 de octubre\n12 y 26 de noviembre\n10 y 17 de diciemb
 re
ATTACH;FMTTYPE=image/jpeg:https://www.larevistadelapalma.com/wp-content/up
 loads/2024/09/Club-de-lectura-la-marmota.jpg
CATEGORIES:Cine y Literatura,Literatura
LOCATION:Tasca La Marmota\, Av de la Constitución\, número 1\, Tazacorte\
 , 38770\, España
GEO:28.643843;-17.933605
X-APPLE-STRUCTURED-LOCATION;VALUE=URI;X-ADDRESS=Av de la Constitución\, n
 úmero 1\, Tazacorte\, 38770\, España;X-APPLE-RADIUS=100;X-TITLE=Tasca La
  Marmota:geo:28.643843,-17.933605
END:VEVENT
END:VCALENDARBEGIN:VCALENDAR
VERSION:2.0
PRODID:-//wp-events-plugin.com//7.2.3.1//EN
TZID:Europe/London
X-WR-TIMEZONE:Europe/London
BEGIN:VEVENT
UID:3291@larevistadelapalma.com
DTSTART:20241112T180000Z
DTEND:20241112T200000Z
DTSTAMP:20240925T224039Z
URL:https://www.larevistadelapalma.com/events/la-cabana-existe-club-de-lec
 tura-en-tazacorte-3/
SUMMARY:"La cabaña existe"\, club de lectura en Tazacorte
DESCRIPTION:CLUB DE LECTURA en Tasca marmota los martes de 19:00-21:00 h.\n
 Esta cabaña abre las puertas en octubre. Están todos invitados. La prime
 ra sesión de cada mes será en La Marmota y la segunda en la biblioteca d
 el pueblo.\n\n15 y 29 de octubre\n12 y 26 de noviembre\n10 y 17 de diciemb
 re
ATTACH;FMTTYPE=image/jpeg:https://www.larevistadelapalma.com/wp-content/up
 loads/2024/09/Club-de-lectura-la-marmota.jpg
CATEGORIES:Cine y Literatura,Literatura
LOCATION:Tasca La Marmota\, Av de la Constitución\, número 1\, Tazacorte\
 , 38770\, España
GEO:28.643843;-17.933605
X-APPLE-STRUCTURED-LOCATION;VALUE=URI;X-ADDRESS=Av de la Constitución\, n
 úmero 1\, Tazacorte\, 38770\, España;X-APPLE-RADIUS=100;X-TITLE=Tasca La
  Marmota:geo:28.643843,-17.933605
END:VEVENT
END:VCALENDAR