BEGIN:VCALENDAR
VERSION:2.0
PRODID:-//wp-events-plugin.com//7.2.3.1//EN
TZID:Europe/London
X-WR-TIMEZONE:Europe/London
BEGIN:VEVENT
UID:779@larevistadelapalma.com
DTSTART:20231112T180000Z
DTEND:20231112T193000Z
DTSTAMP:20231024T123906Z
URL:https://www.larevistadelapalma.com/events/la-casa-de-bernarda-alba-cir
 co-marte/
SUMMARY:Timaginas Teatro representa "La Casa de Bernarda Alba" en La Palma
DESCRIPTION:Tras diez años en cartel "La casa de Bernarda" de Timaginas Te
 atro sigue cosechando éxitos y su imagen gráfica ha sido seleccionada po
 r la Universidad de Oxford para ilustrar un libro sobre Federico García L
 orca. La compañía canaria que lleva ya dos temporadas en el Arlequín de
  Gran Vía de Madrid trae a La Palma su versión de la obra más represent
 ada del poeta granadino.\n\nLa casa de Bernarda Alba refleja la España p
 rofunda de principios del siglo XX. Tras la muerte de su segundo marido\, 
 Bernarda Alba impone a sus cinco hijas (Angustias\, Martirio\, Magdalena\,
  Amelia y Adela ) un período de luto y encierro de ocho años\, junto con
  su madre y La Poncia\, criada de la casa. Frente al autoritarismo y la re
 presión representada por Bernarda Alba\, las hijas encarnarán una gama d
 e actitudes que van de la más pasiva sumisión a la rebeldía más abiert
 a. En esta situación extrema los conflictos entre los personajes\, las fu
 erzas y las pasiones de los mismos se agrandan y se desarrollan hasta la e
 xasperación.\n\nEl catalizador de todas estas fuerzas encerradas en la ca
 sa es la figura de Pepe el Romano\, pretendiente de Angustias (hija mayor 
 del primer matrimonio de Bernarda) y amante de Adela (la más bella y jove
 n hija de Bernarda).\nComprar entradas &gt\;&gt\;\nhttps://www.youtube.com
 /watch?v=BL2lTafpQ44
ATTACH;FMTTYPE=image/jpeg:https://www.larevistadelapalma.com/wp-content/up
 loads/2023/10/Bernarda-Alba-durante-la-representacion.-Foto-PULL.png
CATEGORIES:Espectáculos,Teatro
LOCATION:Teatro Circo de Marte\, Calle Virgen de La Luz\, 5\, Santa Cruz de
  La Palma\, 38700\, España
GEO:28.682989;-17.765755
X-APPLE-STRUCTURED-LOCATION;VALUE=URI;X-ADDRESS=Calle Virgen de La Luz\, 5\
 , Santa Cruz de La Palma\, 38700\, España;X-APPLE-RADIUS=100;X-TITLE=Teat
 ro Circo de Marte:geo:28.682989,-17.765755
END:VEVENT
END:VCALENDARBEGIN:VCALENDAR
VERSION:2.0
PRODID:-//wp-events-plugin.com//7.2.3.1//EN
TZID:Europe/London
X-WR-TIMEZONE:Europe/London
BEGIN:VEVENT
UID:779@larevistadelapalma.com
DTSTART:20231112T180000Z
DTEND:20231112T193000Z
DTSTAMP:20231024T123906Z
URL:https://www.larevistadelapalma.com/events/la-casa-de-bernarda-alba-cir
 co-marte/
SUMMARY:Timaginas Teatro representa "La Casa de Bernarda Alba" en La Palma
DESCRIPTION:Tras diez años en cartel "La casa de Bernarda" de Timaginas Te
 atro sigue cosechando éxitos y su imagen gráfica ha sido seleccionada po
 r la Universidad de Oxford para ilustrar un libro sobre Federico García L
 orca. La compañía canaria que lleva ya dos temporadas en el Arlequín de
  Gran Vía de Madrid trae a La Palma su versión de la obra más represent
 ada del poeta granadino.\n\nLa casa de Bernarda Alba refleja la España p
 rofunda de principios del siglo XX. Tras la muerte de su segundo marido\, 
 Bernarda Alba impone a sus cinco hijas (Angustias\, Martirio\, Magdalena\,
  Amelia y Adela ) un período de luto y encierro de ocho años\, junto con
  su madre y La Poncia\, criada de la casa. Frente al autoritarismo y la re
 presión representada por Bernarda Alba\, las hijas encarnarán una gama d
 e actitudes que van de la más pasiva sumisión a la rebeldía más abiert
 a. En esta situación extrema los conflictos entre los personajes\, las fu
 erzas y las pasiones de los mismos se agrandan y se desarrollan hasta la e
 xasperación.\n\nEl catalizador de todas estas fuerzas encerradas en la ca
 sa es la figura de Pepe el Romano\, pretendiente de Angustias (hija mayor 
 del primer matrimonio de Bernarda) y amante de Adela (la más bella y jove
 n hija de Bernarda).\nComprar entradas &gt\;&gt\;\nhttps://www.youtube.com
 /watch?v=BL2lTafpQ44
ATTACH;FMTTYPE=image/jpeg:https://www.larevistadelapalma.com/wp-content/up
 loads/2023/10/Bernarda-Alba-durante-la-representacion.-Foto-PULL.png
CATEGORIES:Espectáculos,Teatro
LOCATION:Teatro Circo de Marte\, Calle Virgen de La Luz\, 5\, Santa Cruz de
  La Palma\, 38700\, España
GEO:28.682989;-17.765755
X-APPLE-STRUCTURED-LOCATION;VALUE=URI;X-ADDRESS=Calle Virgen de La Luz\, 5\
 , Santa Cruz de La Palma\, 38700\, España;X-APPLE-RADIUS=100;X-TITLE=Teat
 ro Circo de Marte:geo:28.682989,-17.765755
END:VEVENT
END:VCALENDAR