BEGIN:VCALENDAR
VERSION:2.0
PRODID:-//wp-events-plugin.com//7.2.3.1//EN
TZID:Europe/London
X-WR-TIMEZONE:Europe/London
BEGIN:VEVENT
UID:3964@larevistadelapalma.com
DTSTART:20251002T230000Z
DTEND:20251003T230000Z
DTSTAMP:20250911T174601Z
URL:https://www.larevistadelapalma.com/events/la-casa-de-bernarda-alba-la-
 sastreria-teatro/
SUMMARY:“La casa de Bernarda Alba”\, por La Sastrería Teatro
DESCRIPTION:Los próximos 3 y 4 de octubre\, La Sastrería Teatro estrena 
 “La casa de Bernarda Alba” de Federico García Lorca.\nComprar entrada
 s &gt\;&gt\;\nTras la muerte de su segundo esposo\, Bernarda Alba impone
  un luto riguroso de ocho años\, reprimiendo la libertad de sus cinco hij
 as. La llegada de Pepe el Romano\, pretendiente de la hija mayor\, Angus
 tias\, desata los conflictos y pasiones ocultas\, generando celos\, envidi
 as y deseos de libertad entre las hermanas. La obra explora temas como la 
 opresión\, la represión sexual\, la lucha por la libertad y la influenci
 a de la moral social en una sociedad patriarcal.
ATTACH;FMTTYPE=image/jpeg:https://www.larevistadelapalma.com/wp-content/up
 loads/2025/09/La-Casa-de-Bernarda-Alba-La-Sastreria-Teatro.jpg
CATEGORIES:Espectáculos,Teatro
LOCATION:Teatro Circo de Marte\, Calle Virgen de La Luz\, 5\, Santa Cruz de
  La Palma\, 38700\, España
GEO:28.682989;-17.765755
X-APPLE-STRUCTURED-LOCATION;VALUE=URI;X-ADDRESS=Calle Virgen de La Luz\, 5\
 , Santa Cruz de La Palma\, 38700\, España;X-APPLE-RADIUS=100;X-TITLE=Teat
 ro Circo de Marte:geo:28.682989,-17.765755
END:VEVENT
END:VCALENDARBEGIN:VCALENDAR
VERSION:2.0
PRODID:-//wp-events-plugin.com//7.2.3.1//EN
TZID:Europe/London
X-WR-TIMEZONE:Europe/London
BEGIN:VEVENT
UID:3964@larevistadelapalma.com
DTSTART:20251002T230000Z
DTEND:20251003T230000Z
DTSTAMP:20250911T174601Z
URL:https://www.larevistadelapalma.com/events/la-casa-de-bernarda-alba-la-
 sastreria-teatro/
SUMMARY:“La casa de Bernarda Alba”\, por La Sastrería Teatro
DESCRIPTION:Los próximos 3 y 4 de octubre\, La Sastrería Teatro estrena 
 “La casa de Bernarda Alba” de Federico García Lorca.\nComprar entrada
 s &gt\;&gt\;\nTras la muerte de su segundo esposo\, Bernarda Alba impone
  un luto riguroso de ocho años\, reprimiendo la libertad de sus cinco hij
 as. La llegada de Pepe el Romano\, pretendiente de la hija mayor\, Angus
 tias\, desata los conflictos y pasiones ocultas\, generando celos\, envidi
 as y deseos de libertad entre las hermanas. La obra explora temas como la 
 opresión\, la represión sexual\, la lucha por la libertad y la influenci
 a de la moral social en una sociedad patriarcal.
ATTACH;FMTTYPE=image/jpeg:https://www.larevistadelapalma.com/wp-content/up
 loads/2025/09/La-Casa-de-Bernarda-Alba-La-Sastreria-Teatro.jpg
CATEGORIES:Espectáculos,Teatro
LOCATION:Teatro Circo de Marte\, Calle Virgen de La Luz\, 5\, Santa Cruz de
  La Palma\, 38700\, España
GEO:28.682989;-17.765755
X-APPLE-STRUCTURED-LOCATION;VALUE=URI;X-ADDRESS=Calle Virgen de La Luz\, 5\
 , Santa Cruz de La Palma\, 38700\, España;X-APPLE-RADIUS=100;X-TITLE=Teat
 ro Circo de Marte:geo:28.682989,-17.765755
END:VEVENT
END:VCALENDAR