BEGIN:VCALENDAR
VERSION:2.0
PRODID:-//wp-events-plugin.com//7.2.3.1//EN
TZID:Europe/London
X-WR-TIMEZONE:Europe/London
BEGIN:VEVENT
UID:3372@larevistadelapalma.com
DTSTART:20241103T190000Z
DTEND:20241103T224500Z
DTSTAMP:20241031T200330Z
URL:https://www.larevistadelapalma.com/events/la-casa-de-los-trastornados-
 tazacorte-2/
SUMMARY:La Casa de los trastornados\, Tazacorte
DESCRIPTION:\nDebido al luto oficial decretado\, el evento se aplazó el d
 ía 31 y se realiza el domingo día 3.\n\nEn cuanto a los horarios de los 
 pases serán los mismos que se tenían planeados para la noche del 31.\nSi
 ntiendo los inconvenientes generales y agradecen la comprensión y solidar
 idad con los damnificados.\nPara cualquier duda\, por favor contactar a tr
 avés del teléfono: 626 302 174\n\n\n\n\n\nUn grupo de jóvenes se reúne
  en una antigua casona para una terapia grupal. A medida que revelan sus o
 scuros secretos\, la tensión aumenta al descubrir un pasado que los une a
  ellos y la casa. De repente\, algo inesperado sucede. Uno de ellos aparec
 e muerto. ¿Qué habrá sucedido? ¿Quién habrá sido? Si quieres saberlo
  tendrás que ir y descubrirlo por ti mismo.\n\n\n10 PASES (En grupos redu
 cidos de 20 personas)\n\n\n 	Pase: 20:00 horas\n 	Pase: 20:20 horas\n 	Pas
 e: 20:40 horas\n 	Pase: 21:00 horas\n 	Pase: 21::20 horas\n 	Pase: 21:40 h
 oras\n 	Pase: 22:20 horas\n 	Pase: 22:40 horas\n 	Pase: 23:00 horas\n 	Pas
 e: 23:20 horas\n\n\n\n\n\n\nENTRADA GRATUITA previa inscripción\n
ATTACH;FMTTYPE=image/jpeg:https://www.larevistadelapalma.com/wp-content/up
 loads/2024/10/la-Cas-de-Los-trastornados.jpg
CATEGORIES:Fiestas populares,Otras propuestas,Varios
LOCATION:Casa Masieu\, Tazacorte\, s/n\, C. Miguel de Unamuno\, Tazacorte\,
  38770\, España
GEO:28.641866;-17.936446
X-APPLE-STRUCTURED-LOCATION;VALUE=URI;X-ADDRESS=s/n\, C. Miguel de Unamuno\
 , Tazacorte\, 38770\, España;X-APPLE-RADIUS=100;X-TITLE=Casa Masieu\, Taz
 acorte:geo:28.641866,-17.936446
END:VEVENT
END:VCALENDARBEGIN:VCALENDAR
VERSION:2.0
PRODID:-//wp-events-plugin.com//7.2.3.1//EN
TZID:Europe/London
X-WR-TIMEZONE:Europe/London
BEGIN:VEVENT
UID:3372@larevistadelapalma.com
DTSTART:20241103T190000Z
DTEND:20241103T224500Z
DTSTAMP:20241031T200330Z
URL:https://www.larevistadelapalma.com/events/la-casa-de-los-trastornados-
 tazacorte-2/
SUMMARY:La Casa de los trastornados\, Tazacorte
DESCRIPTION:\nDebido al luto oficial decretado\, el evento se aplazó el d
 ía 31 y se realiza el domingo día 3.\n\nEn cuanto a los horarios de los 
 pases serán los mismos que se tenían planeados para la noche del 31.\nSi
 ntiendo los inconvenientes generales y agradecen la comprensión y solidar
 idad con los damnificados.\nPara cualquier duda\, por favor contactar a tr
 avés del teléfono: 626 302 174\n\n\n\n\n\nUn grupo de jóvenes se reúne
  en una antigua casona para una terapia grupal. A medida que revelan sus o
 scuros secretos\, la tensión aumenta al descubrir un pasado que los une a
  ellos y la casa. De repente\, algo inesperado sucede. Uno de ellos aparec
 e muerto. ¿Qué habrá sucedido? ¿Quién habrá sido? Si quieres saberlo
  tendrás que ir y descubrirlo por ti mismo.\n\n\n10 PASES (En grupos redu
 cidos de 20 personas)\n\n\n 	Pase: 20:00 horas\n 	Pase: 20:20 horas\n 	Pas
 e: 20:40 horas\n 	Pase: 21:00 horas\n 	Pase: 21::20 horas\n 	Pase: 21:40 h
 oras\n 	Pase: 22:20 horas\n 	Pase: 22:40 horas\n 	Pase: 23:00 horas\n 	Pas
 e: 23:20 horas\n\n\n\n\n\n\nENTRADA GRATUITA previa inscripción\n
ATTACH;FMTTYPE=image/jpeg:https://www.larevistadelapalma.com/wp-content/up
 loads/2024/10/la-Cas-de-Los-trastornados.jpg
CATEGORIES:Fiestas populares,Otras propuestas,Varios
LOCATION:Casa Masieu\, Tazacorte\, s/n\, C. Miguel de Unamuno\, Tazacorte\,
  38770\, España
GEO:28.641866;-17.936446
X-APPLE-STRUCTURED-LOCATION;VALUE=URI;X-ADDRESS=s/n\, C. Miguel de Unamuno\
 , Tazacorte\, 38770\, España;X-APPLE-RADIUS=100;X-TITLE=Casa Masieu\, Taz
 acorte:geo:28.641866,-17.936446
END:VEVENT
END:VCALENDAR