BEGIN:VCALENDAR
VERSION:2.0
PRODID:-//wp-events-plugin.com//7.2.3.1//EN
TZID:Europe/London
X-WR-TIMEZONE:Europe/London
BEGIN:VEVENT
UID:777@larevistadelapalma.com
DTSTART:20231030T190000Z
DTEND:20231031T225900Z
DTSTAMP:20231024T115120Z
URL:https://www.larevistadelapalma.com/events/la-casa-del-terror-en-santa-
 cruz-de-la-palma/
SUMMARY:La Casa del Terror\, en Santa Cruz de La Palma
DESCRIPTION:\nLos días 30 y 31 de octubre de 2023\, se abrirán las puerta
 s de la ‘Casa del Terror’.\n\n\nDurante 40 minutos\, el público asist
 ente deberá concluir un terrorífico recorrido siguiendo las indicaciones
  de los extraños personajes que habitan esta ‘Casa del Terror’\, que 
 se encuentra frente al Teatro Circo de Marte. Así\, en grupos no superior
 es a quince personas\, se podrá disfrutar de una experiencia colectiva pa
 ra la que se han programado varios pases el lunes 30 y el martes 31 de oct
 ubre.\n\nLas entradas\, al precio de 3 euros\, ya se encuentran a la venta
  a través de la plataforma web www.entradasatualcance.com.\n\n
ATTACH;FMTTYPE=image/jpeg:https://www.larevistadelapalma.com/wp-content/up
 loads/2023/10/Casa-del-terror-Santa-Cruz.jpg
CATEGORIES:Fiestas populares,Otras propuestas
LOCATION:Teatro Circo de Marte\, Calle Virgen de La Luz\, 5\, Santa Cruz de
  La Palma\, 38700\, España
GEO:28.682989;-17.765755
X-APPLE-STRUCTURED-LOCATION;VALUE=URI;X-ADDRESS=Calle Virgen de La Luz\, 5\
 , Santa Cruz de La Palma\, 38700\, España;X-APPLE-RADIUS=100;X-TITLE=Teat
 ro Circo de Marte:geo:28.682989,-17.765755
END:VEVENT
END:VCALENDARBEGIN:VCALENDAR
VERSION:2.0
PRODID:-//wp-events-plugin.com//7.2.3.1//EN
TZID:Europe/London
X-WR-TIMEZONE:Europe/London
BEGIN:VEVENT
UID:777@larevistadelapalma.com
DTSTART:20231030T190000Z
DTEND:20231031T225900Z
DTSTAMP:20231024T115120Z
URL:https://www.larevistadelapalma.com/events/la-casa-del-terror-en-santa-
 cruz-de-la-palma/
SUMMARY:La Casa del Terror\, en Santa Cruz de La Palma
DESCRIPTION:\nLos días 30 y 31 de octubre de 2023\, se abrirán las puerta
 s de la ‘Casa del Terror’.\n\n\nDurante 40 minutos\, el público asist
 ente deberá concluir un terrorífico recorrido siguiendo las indicaciones
  de los extraños personajes que habitan esta ‘Casa del Terror’\, que 
 se encuentra frente al Teatro Circo de Marte. Así\, en grupos no superior
 es a quince personas\, se podrá disfrutar de una experiencia colectiva pa
 ra la que se han programado varios pases el lunes 30 y el martes 31 de oct
 ubre.\n\nLas entradas\, al precio de 3 euros\, ya se encuentran a la venta
  a través de la plataforma web www.entradasatualcance.com.\n\n
ATTACH;FMTTYPE=image/jpeg:https://www.larevistadelapalma.com/wp-content/up
 loads/2023/10/Casa-del-terror-Santa-Cruz.jpg
CATEGORIES:Fiestas populares,Otras propuestas
LOCATION:Teatro Circo de Marte\, Calle Virgen de La Luz\, 5\, Santa Cruz de
  La Palma\, 38700\, España
GEO:28.682989;-17.765755
X-APPLE-STRUCTURED-LOCATION;VALUE=URI;X-ADDRESS=Calle Virgen de La Luz\, 5\
 , Santa Cruz de La Palma\, 38700\, España;X-APPLE-RADIUS=100;X-TITLE=Teat
 ro Circo de Marte:geo:28.682989,-17.765755
END:VEVENT
END:VCALENDAR