BEGIN:VCALENDAR
VERSION:2.0
PRODID:-//wp-events-plugin.com//7.2.3.1//EN
TZID:Europe/London
X-WR-TIMEZONE:Europe/London
BEGIN:VEVENT
UID:3368@larevistadelapalma.com
DTSTART;VALUE=DATE:20241104
DTEND;VALUE=DATE:20241109
DTSTAMP:20241105T212952Z
URL:https://www.larevistadelapalma.com/events/la-casa-museo-del-vino-celeb
 ra-san-martin/
SUMMARY:La Casa Museo del Vino celebra San Martín
DESCRIPTION:La Casa Museo del Vino\, en Las Manchas\, celebra jornadas de p
 uertas abiertas del 4 al 8 de noviembre. (En horario de 9.00 a 16:00 horas
 ).\n\nEl día 8 celebrarán de manera especial la festividad de San Martí
 n con la actuación de la Agrupación Folclórica Volcán de San Juan. 
ATTACH;FMTTYPE=image/jpeg:https://www.larevistadelapalma.com/wp-content/up
 loads/2024/10/San-Martin-Casa-museo-vino.jpg
CATEGORIES:Fiestas populares,Gastro,Otras propuestas
LOCATION:Casa Museo del Vino Las Manchas\, Camino del Callejón de Las Manc
 has\, 98\, Los Llanos de Aridane\, 38760\, España
GEO:28.657044;-17.913241
X-APPLE-STRUCTURED-LOCATION;VALUE=URI;X-ADDRESS=Camino del Callejón de Las
  Manchas\, 98\, Los Llanos de Aridane\, 38760\, España;X-APPLE-RADIUS=100
 ;X-TITLE=Casa Museo del Vino Las Manchas:geo:28.657044,-17.913241
END:VEVENT
END:VCALENDARBEGIN:VCALENDAR
VERSION:2.0
PRODID:-//wp-events-plugin.com//7.2.3.1//EN
TZID:Europe/London
X-WR-TIMEZONE:Europe/London
BEGIN:VEVENT
UID:3368@larevistadelapalma.com
DTSTART;VALUE=DATE:20241104
DTEND;VALUE=DATE:20241109
DTSTAMP:20241105T212952Z
URL:https://www.larevistadelapalma.com/events/la-casa-museo-del-vino-celeb
 ra-san-martin/
SUMMARY:La Casa Museo del Vino celebra San Martín
DESCRIPTION:La Casa Museo del Vino\, en Las Manchas\, celebra jornadas de p
 uertas abiertas del 4 al 8 de noviembre. (En horario de 9.00 a 16:00 horas
 ).\n\nEl día 8 celebrarán de manera especial la festividad de San Martí
 n con la actuación de la Agrupación Folclórica Volcán de San Juan. 
ATTACH;FMTTYPE=image/jpeg:https://www.larevistadelapalma.com/wp-content/up
 loads/2024/10/San-Martin-Casa-museo-vino.jpg
CATEGORIES:Fiestas populares,Gastro,Otras propuestas
LOCATION:Casa Museo del Vino Las Manchas\, Camino del Callejón de Las Manc
 has\, 98\, Los Llanos de Aridane\, 38760\, España
GEO:28.657044;-17.913241
X-APPLE-STRUCTURED-LOCATION;VALUE=URI;X-ADDRESS=Camino del Callejón de Las
  Manchas\, 98\, Los Llanos de Aridane\, 38760\, España;X-APPLE-RADIUS=100
 ;X-TITLE=Casa Museo del Vino Las Manchas:geo:28.657044,-17.913241
END:VEVENT
END:VCALENDAR