BEGIN:VCALENDAR
VERSION:2.0
PRODID:-//wp-events-plugin.com//7.2.3.1//EN
TZID:Europe/London
X-WR-TIMEZONE:Europe/London
BEGIN:VEVENT
UID:3591@larevistadelapalma.com
DTSTART;VALUE=DATE:20250212
DTEND;VALUE=DATE:20250213
DTSTAMP:20250211T205659Z
URL:https://www.larevistadelapalma.com/events/la-diputacion-del-comun-cele
 bra-su-cuarenta-aniversario-con-un-acto-en-la-casa-salazar/
SUMMARY:La Diputación del Común celebra su cuarenta aniversario con un ac
 to en la Casa Salazar
DESCRIPTION:Juan Cruz\, Maribel Nazco\, Elsa López\, Pablo Díaz Cobiella 
 y una actuación musical dan el inicio a diferentes actividades que se pro
 logarán a lo largo del año.\nLa Diputación del Común celebra el próx
 imo miércoles 12 de febrero las cuatro décadas de historia de la institu
 ción durante las que no se ha dejado de promover el ejercicio de los dere
 chos humanos y ejercer la defensa de la ciudadanía ante las vulneraciones
  cometidas a instancias de la Administración.\n\nEn la conmemoración de 
 esta importante fecha\, la Diputada del Común\, Lola Padrón\, asegura qu
 e la entidad encara con ella\, la primera mujer en estos 40 años al frent
 e\,  “una nueva etapa\, con la meta de ganar la confianza de la poblaci
 ón con la mediación como herramienta para resolver conflictos de manera 
 ágil y eficaz\, luchar por los derechos humanos de hombres y mujeres que 
 forman nuestra comunidad\, porque todas las personas estamos expuestas a l
 a vulnerabilidad y a la exclusión social”. Entre esas personas Padrón 
 señala el hecho de ser mujeres\, niños\, niñas y adolescentes\, persona
 s con discapacidad\, personas adultas mayores\, personas con orientación 
 sexual y de género diversa\, personas  migrantes\, entre otras\, “a qu
 ienes hay que tener presentes para celebrar este importante evento”. Ade
 más la Diputada del Común tiene presente la preocupación de la ciudadan
 ía por temas tan trascendentes como la sanidad\, la educación\, la vivie
 nda\, el medio ambiente y la seguridad.\n\nPara celebrar estos cuarenta a
 ños de la institución se ha organizado un encuentro especial en Casa Sal
 azar en Santa Cruz de La Palma. Históricamente la institución está liga
 da a la isla bonita y fue de la mano de Luis Cobiella Cuevas\, cuando hace
  cuarenta años se retomó esta figura\, por lo que la Diputación del Com
 ún celebrará diferentes actividades a lo largo del año teniendo la isla
  de La Palma como principal protagonista. Desde que Cobiella trabajara ate
 ndiendo las quejas de la ciudadanía en su casa\, hasta hoy en día que ha
 y sedes en todas las islas\, excepto en la Graciosa\, trabajan unas cuaren
 ta personas directamente entre la plantilla y los cuatro altos cargos.\n\n
 Luis Cobiella Cuevas\, Arcadio Díaz Tejera\, Fernando Giménez Navarro\, 
 Manuel Alcaide Alonso\, Jerónimo Saavedra Acevedo y Rafael Yanes Mesa\, h
 an defendido desde sus roles el acercamiento entre las administraciones y 
 los ciudadanos\, reto que sigue vigente para la actual Diputada del Común
 \, Lola Padrón\, que tomó posesión de su cargo en mayo de 2024. “Es u
 n momento especial para conmemorar y celebrar los logros y el legado de es
 ta institución histórica. A lo largo de cuatro décadas\, la Diputació
 n del Común ha desempeñado un papel fundamental siendo la voz de la ciud
 adanía. Su labor en la recepción de quejas e investigaciones\, así com
 o la mediación en conflictos ha sido un baluarte para garantizar la pro
 tección de las personas. Es importante recordar en este aniversario a qui
 enes han formado parte de la Diputación del Común\, honrarles a todos 
 y agradecer su dedicación y compromiso. Agradecer todos esos logros\, 
 pequeños grandes triunfos\, frente a las administraciones públicas\, per
 o debemos de tener en cuenta los retos que nos esperan en los próximos a
 ños” indica Padrón\, quien además se siente apoyada y respaldada por 
 las adjuntías nacionales y el Defensor del Pueblo. “Este trabajo debe d
 e ser conjunto\, porque nuestra comunidad necesita sumar apoyos\, trabajar
  de forma conjunta en aquellos temas que nos son comunes para afianzar los
  derechos humanos y preservar la democracia en nuestro país”.\n\nLas nu
 evas tecnologías con el canal de denuncias y la sede electrónica. han co
 ntribuido mucho a ese acercamiento de la ciudadanía\, de hecho\, en 2023 
 las quejas acumuladas crecieron 141% desde los últimos doce años\, aunqu
 e el dato más relevante es que el 64.46% de las reclamaciones fueran favo
 rables a la ciudadanía. Las áreas de contenido social siguen acaparando 
 el mayor volumen de quejas sobre el funcionamiento de la Administración P
 ública de Canarias. En la actualidad se está terminando de perfilar el i
 nforme de 2024 pero los datos registrados arrojan una cifra de más de 67.
 000 expedientes tramitados en los cuarenta años\, una suma que incrementa
  infinitamente en cada acción sobre las quejas recibidas.\n Acto de Aniv
 ersario\nPara celebrar este día la Diputación del Común y todo el equip
 o de trabajo ha organizado un acto de conmemoración en el que estarán pr
 esentes varias autoridades y representantes políticos. Además\, se conta
 rá con la colaboración de la artista Maribel Nazco\, que ha realizado un
 a litografía especial para este día\;  Juan Cruz\; Elsa López y Pablo 
 Cobiella\, que recordará la figura de su abuelo.\n\n\n\n&nbsp\;\n\nCerrar
 á el acto la actual Diputada del Común\, Lola Padrón\, y una actuación
  musical con Mara Jaubert al piano y Juan Javier Rodríguez (Vibráfono) a
 mbos profesores del Conservatorio Profesional de Música de Canarias\, res
 pectivamente\, acompañados por la soprano Cristina Calvo. Todo un honor 
 contar con estos músicos de gran prestigio\, con tres personas galardonad
 as con los premios canarios en Literatura y Bellas artes\, y con la memori
 a de Pablo Díaz Cobiella\, nieto del primer Diputado del Común.\n\nA lo 
 largo del año se realizarán diferentes acciones que recuerden la labor d
 e la institución en esto 40 años al servicio de la ciudadanía “porque
  la ciudadanía somos todas las personas que vivimos en estas maravillosas
  islas con nuestras dificultades y fortalezas\, pero una población digna\
 , orgullosa\, solidaria y con grandes expectativas de futuro”\,  indica
  Lola Padrón.
ATTACH;FMTTYPE=image/jpeg:https://www.larevistadelapalma.com/wp-content/up
 loads/2025/02/Sede-La-Palma-Diputacin-del-comun.jpeg
CATEGORIES:Otras propuestas,Varios
LOCATION:Casa principal de Salazar\, Calle Odaly\, 22\, Santa Cruz de La Pa
 lma\, 38700\, España
GEO:28.682275;-17.765795
X-APPLE-STRUCTURED-LOCATION;VALUE=URI;X-ADDRESS=Calle Odaly\, 22\, Santa Cr
 uz de La Palma\, 38700\, España;X-APPLE-RADIUS=100;X-TITLE=Casa principal
  de Salazar:geo:28.682275,-17.765795
END:VEVENT
END:VCALENDARBEGIN:VCALENDAR
VERSION:2.0
PRODID:-//wp-events-plugin.com//7.2.3.1//EN
TZID:Europe/London
X-WR-TIMEZONE:Europe/London
BEGIN:VEVENT
UID:3591@larevistadelapalma.com
DTSTART;VALUE=DATE:20250212
DTEND;VALUE=DATE:20250213
DTSTAMP:20250211T205659Z
URL:https://www.larevistadelapalma.com/events/la-diputacion-del-comun-cele
 bra-su-cuarenta-aniversario-con-un-acto-en-la-casa-salazar/
SUMMARY:La Diputación del Común celebra su cuarenta aniversario con un ac
 to en la Casa Salazar
DESCRIPTION:Juan Cruz\, Maribel Nazco\, Elsa López\, Pablo Díaz Cobiella 
 y una actuación musical dan el inicio a diferentes actividades que se pro
 logarán a lo largo del año.\nLa Diputación del Común celebra el próx
 imo miércoles 12 de febrero las cuatro décadas de historia de la institu
 ción durante las que no se ha dejado de promover el ejercicio de los dere
 chos humanos y ejercer la defensa de la ciudadanía ante las vulneraciones
  cometidas a instancias de la Administración.\n\nEn la conmemoración de 
 esta importante fecha\, la Diputada del Común\, Lola Padrón\, asegura qu
 e la entidad encara con ella\, la primera mujer en estos 40 años al frent
 e\,  “una nueva etapa\, con la meta de ganar la confianza de la poblaci
 ón con la mediación como herramienta para resolver conflictos de manera 
 ágil y eficaz\, luchar por los derechos humanos de hombres y mujeres que 
 forman nuestra comunidad\, porque todas las personas estamos expuestas a l
 a vulnerabilidad y a la exclusión social”. Entre esas personas Padrón 
 señala el hecho de ser mujeres\, niños\, niñas y adolescentes\, persona
 s con discapacidad\, personas adultas mayores\, personas con orientación 
 sexual y de género diversa\, personas  migrantes\, entre otras\, “a qu
 ienes hay que tener presentes para celebrar este importante evento”. Ade
 más la Diputada del Común tiene presente la preocupación de la ciudadan
 ía por temas tan trascendentes como la sanidad\, la educación\, la vivie
 nda\, el medio ambiente y la seguridad.\n\nPara celebrar estos cuarenta a
 ños de la institución se ha organizado un encuentro especial en Casa Sal
 azar en Santa Cruz de La Palma. Históricamente la institución está liga
 da a la isla bonita y fue de la mano de Luis Cobiella Cuevas\, cuando hace
  cuarenta años se retomó esta figura\, por lo que la Diputación del Com
 ún celebrará diferentes actividades a lo largo del año teniendo la isla
  de La Palma como principal protagonista. Desde que Cobiella trabajara ate
 ndiendo las quejas de la ciudadanía en su casa\, hasta hoy en día que ha
 y sedes en todas las islas\, excepto en la Graciosa\, trabajan unas cuaren
 ta personas directamente entre la plantilla y los cuatro altos cargos.\n\n
 Luis Cobiella Cuevas\, Arcadio Díaz Tejera\, Fernando Giménez Navarro\, 
 Manuel Alcaide Alonso\, Jerónimo Saavedra Acevedo y Rafael Yanes Mesa\, h
 an defendido desde sus roles el acercamiento entre las administraciones y 
 los ciudadanos\, reto que sigue vigente para la actual Diputada del Común
 \, Lola Padrón\, que tomó posesión de su cargo en mayo de 2024. “Es u
 n momento especial para conmemorar y celebrar los logros y el legado de es
 ta institución histórica. A lo largo de cuatro décadas\, la Diputació
 n del Común ha desempeñado un papel fundamental siendo la voz de la ciud
 adanía. Su labor en la recepción de quejas e investigaciones\, así com
 o la mediación en conflictos ha sido un baluarte para garantizar la pro
 tección de las personas. Es importante recordar en este aniversario a qui
 enes han formado parte de la Diputación del Común\, honrarles a todos 
 y agradecer su dedicación y compromiso. Agradecer todos esos logros\, 
 pequeños grandes triunfos\, frente a las administraciones públicas\, per
 o debemos de tener en cuenta los retos que nos esperan en los próximos a
 ños” indica Padrón\, quien además se siente apoyada y respaldada por 
 las adjuntías nacionales y el Defensor del Pueblo. “Este trabajo debe d
 e ser conjunto\, porque nuestra comunidad necesita sumar apoyos\, trabajar
  de forma conjunta en aquellos temas que nos son comunes para afianzar los
  derechos humanos y preservar la democracia en nuestro país”.\n\nLas nu
 evas tecnologías con el canal de denuncias y la sede electrónica. han co
 ntribuido mucho a ese acercamiento de la ciudadanía\, de hecho\, en 2023 
 las quejas acumuladas crecieron 141% desde los últimos doce años\, aunqu
 e el dato más relevante es que el 64.46% de las reclamaciones fueran favo
 rables a la ciudadanía. Las áreas de contenido social siguen acaparando 
 el mayor volumen de quejas sobre el funcionamiento de la Administración P
 ública de Canarias. En la actualidad se está terminando de perfilar el i
 nforme de 2024 pero los datos registrados arrojan una cifra de más de 67.
 000 expedientes tramitados en los cuarenta años\, una suma que incrementa
  infinitamente en cada acción sobre las quejas recibidas.\n Acto de Aniv
 ersario\nPara celebrar este día la Diputación del Común y todo el equip
 o de trabajo ha organizado un acto de conmemoración en el que estarán pr
 esentes varias autoridades y representantes políticos. Además\, se conta
 rá con la colaboración de la artista Maribel Nazco\, que ha realizado un
 a litografía especial para este día\;  Juan Cruz\; Elsa López y Pablo 
 Cobiella\, que recordará la figura de su abuelo.\n\n\n\n&nbsp\;\n\nCerrar
 á el acto la actual Diputada del Común\, Lola Padrón\, y una actuación
  musical con Mara Jaubert al piano y Juan Javier Rodríguez (Vibráfono) a
 mbos profesores del Conservatorio Profesional de Música de Canarias\, res
 pectivamente\, acompañados por la soprano Cristina Calvo. Todo un honor 
 contar con estos músicos de gran prestigio\, con tres personas galardonad
 as con los premios canarios en Literatura y Bellas artes\, y con la memori
 a de Pablo Díaz Cobiella\, nieto del primer Diputado del Común.\n\nA lo 
 largo del año se realizarán diferentes acciones que recuerden la labor d
 e la institución en esto 40 años al servicio de la ciudadanía “porque
  la ciudadanía somos todas las personas que vivimos en estas maravillosas
  islas con nuestras dificultades y fortalezas\, pero una población digna\
 , orgullosa\, solidaria y con grandes expectativas de futuro”\,  indica
  Lola Padrón.
ATTACH;FMTTYPE=image/jpeg:https://www.larevistadelapalma.com/wp-content/up
 loads/2025/02/Sede-La-Palma-Diputacin-del-comun.jpeg
CATEGORIES:Otras propuestas,Varios
LOCATION:Casa principal de Salazar\, Calle Odaly\, 22\, Santa Cruz de La Pa
 lma\, 38700\, España
GEO:28.682275;-17.765795
X-APPLE-STRUCTURED-LOCATION;VALUE=URI;X-ADDRESS=Calle Odaly\, 22\, Santa Cr
 uz de La Palma\, 38700\, España;X-APPLE-RADIUS=100;X-TITLE=Casa principal
  de Salazar:geo:28.682275,-17.765795
END:VEVENT
END:VCALENDAR