BEGIN:VCALENDAR
VERSION:2.0
PRODID:-//wp-events-plugin.com//7.2.3.1//EN
TZID:Europe/London
X-WR-TIMEZONE:Europe/London
BEGIN:VEVENT
UID:129@larevistadelapalma.com
DTSTART:20230707T180000Z
DTEND:20230707T193000Z
DTSTAMP:20230701T202104Z
URL:https://www.larevistadelapalma.com/events/la-escuela-municipal-de-teat
 ro-de-brena-baja-presenta-teatro-contra-la-guerra/
SUMMARY:La Escuela Municipal de Teatro de Breña Baja presenta "Teatro cont
 ra la guerra"
DESCRIPTION:La Escuela Municipal de Teatro de Breña Baja\, bajo la direcci
 ón de Iriome Del Toro\, nos muestra un conjunto de escenas bélicas contu
 ndentes que abarcan desde el género del absurdo\, hasta el drama realista
  más visceral.
ATTACH;FMTTYPE=image/jpeg:https://www.larevistadelapalma.com/wp-content/up
 loads/2023/07/Teatro-contra-la-Guerra-B-Baja.jpg
CATEGORIES:Espectáculos,Teatro
LOCATION:Sociedad Balcón Canario\, C. las Ledas\, Breña Baja\, 38712\, Es
 paña
GEO:28.63522;-17.787316
X-APPLE-STRUCTURED-LOCATION;VALUE=URI;X-ADDRESS=C. las Ledas\, Breña Baja\
 , 38712\, España;X-APPLE-RADIUS=100;X-TITLE=Sociedad Balcón Canario:geo:
 28.63522,-17.787316
END:VEVENT
END:VCALENDARBEGIN:VCALENDAR
VERSION:2.0
PRODID:-//wp-events-plugin.com//7.2.3.1//EN
TZID:Europe/London
X-WR-TIMEZONE:Europe/London
BEGIN:VEVENT
UID:129@larevistadelapalma.com
DTSTART:20230707T180000Z
DTEND:20230707T193000Z
DTSTAMP:20230701T202104Z
URL:https://www.larevistadelapalma.com/events/la-escuela-municipal-de-teat
 ro-de-brena-baja-presenta-teatro-contra-la-guerra/
SUMMARY:La Escuela Municipal de Teatro de Breña Baja presenta "Teatro cont
 ra la guerra"
DESCRIPTION:La Escuela Municipal de Teatro de Breña Baja\, bajo la direcci
 ón de Iriome Del Toro\, nos muestra un conjunto de escenas bélicas contu
 ndentes que abarcan desde el género del absurdo\, hasta el drama realista
  más visceral.
ATTACH;FMTTYPE=image/jpeg:https://www.larevistadelapalma.com/wp-content/up
 loads/2023/07/Teatro-contra-la-Guerra-B-Baja.jpg
CATEGORIES:Espectáculos,Teatro
LOCATION:Sociedad Balcón Canario\, C. las Ledas\, Breña Baja\, 38712\, Es
 paña
GEO:28.63522;-17.787316
X-APPLE-STRUCTURED-LOCATION;VALUE=URI;X-ADDRESS=C. las Ledas\, Breña Baja\
 , 38712\, España;X-APPLE-RADIUS=100;X-TITLE=Sociedad Balcón Canario:geo:
 28.63522,-17.787316
END:VEVENT
END:VCALENDAR