BEGIN:VCALENDAR
VERSION:2.0
PRODID:-//wp-events-plugin.com//7.2.3.1//EN
TZID:Europe/London
X-WR-TIMEZONE:Europe/London
BEGIN:VEVENT
UID:3039@larevistadelapalma.com
DTSTART;VALUE=DATE:20240628
DTEND;VALUE=DATE:20240629
DTSTAMP:20240618T225948Z
URL:https://www.larevistadelapalma.com/events/la-esquinita-del-cafe-4/
SUMMARY:“La Esquinita del Café”
DESCRIPTION:“La Esquinita del Café” es la nueva iniciativa de la Rese
 rva Mundial de la Biosfera La Palma que pone el foco en el café palmero.
 \n\nUna degustación gratuita de auténtico café palmero\, que podrán en
 contrar durante el mes de junio en 4 municipios de la Isla\, y donde adem
 ás\, encontrarán información sobre el proceso de elaboración y las zon
 as de cultivo en La Palma.\n\nEn 2018\, se crea la Asociación de Caficult
 ores de La Palma (ACILPA) que\, uniendo fuerzas\, generan y apuestan por u
 na producción de café palmero de calidad y sostenible con el entorno isl
 eño.\n\nLas citas se producirán en estas fechas y eventos:\n\n 	El sába
 do 8\, en el Mercadillo de El Paso.\n 	El domingo 9\, en el Mercadillo de 
 Barlovento.\n 	El sábado 15\, durante las fiestas de San Antonio del Mont
 e\, en Garafía.\n 	El viernes 28\, en Villa de Mazo\, en el Acto instituc
 ional de celebración del 41 Aniversario de la Reserva Mundial de la Biosf
 era La Palma. Estarán en La Plaza Pedro Pérez Díaz\, delante del Ayunta
 miento de Villa de Mazo\n\nEs un proyecto financiado por el Organismo Aut
 ónomo Parques Nacionales (OAPN)\, en el que colaboran ACILPA\, El Café d
 e Don Manuel\, y los cuatro municipios anfitriones: Ayuntamiento de El Pas
 o\, Ayuntamiento de Barlovento\, Ayuntamiento de Garafía y Ayuntamiento d
 e Villa de Mazo.\n\n&nbsp\;
ATTACH;FMTTYPE=image/jpeg:https://www.larevistadelapalma.com/wp-content/up
 loads/2024/06/La-Esquinita-del-cafe.jpg
CATEGORIES:Gastro,Otras propuestas
LOCATION:Municipio de Villa de Mazo\, Villa de Mazo\, Villa de Mazo\, 38730
 \, España
GEO:28.622071;-17.780675
X-APPLE-STRUCTURED-LOCATION;VALUE=URI;X-ADDRESS=Villa de Mazo\, Villa de Ma
 zo\, 38730\, España;X-APPLE-RADIUS=100;X-TITLE=Municipio de Villa de Mazo
 :geo:28.622071,-17.780675
END:VEVENT
END:VCALENDARBEGIN:VCALENDAR
VERSION:2.0
PRODID:-//wp-events-plugin.com//7.2.3.1//EN
TZID:Europe/London
X-WR-TIMEZONE:Europe/London
BEGIN:VEVENT
UID:3039@larevistadelapalma.com
DTSTART;VALUE=DATE:20240628
DTEND;VALUE=DATE:20240629
DTSTAMP:20240618T225948Z
URL:https://www.larevistadelapalma.com/events/la-esquinita-del-cafe-4/
SUMMARY:“La Esquinita del Café”
DESCRIPTION:“La Esquinita del Café” es la nueva iniciativa de la Rese
 rva Mundial de la Biosfera La Palma que pone el foco en el café palmero.
 \n\nUna degustación gratuita de auténtico café palmero\, que podrán en
 contrar durante el mes de junio en 4 municipios de la Isla\, y donde adem
 ás\, encontrarán información sobre el proceso de elaboración y las zon
 as de cultivo en La Palma.\n\nEn 2018\, se crea la Asociación de Caficult
 ores de La Palma (ACILPA) que\, uniendo fuerzas\, generan y apuestan por u
 na producción de café palmero de calidad y sostenible con el entorno isl
 eño.\n\nLas citas se producirán en estas fechas y eventos:\n\n 	El sába
 do 8\, en el Mercadillo de El Paso.\n 	El domingo 9\, en el Mercadillo de 
 Barlovento.\n 	El sábado 15\, durante las fiestas de San Antonio del Mont
 e\, en Garafía.\n 	El viernes 28\, en Villa de Mazo\, en el Acto instituc
 ional de celebración del 41 Aniversario de la Reserva Mundial de la Biosf
 era La Palma. Estarán en La Plaza Pedro Pérez Díaz\, delante del Ayunta
 miento de Villa de Mazo\n\nEs un proyecto financiado por el Organismo Aut
 ónomo Parques Nacionales (OAPN)\, en el que colaboran ACILPA\, El Café d
 e Don Manuel\, y los cuatro municipios anfitriones: Ayuntamiento de El Pas
 o\, Ayuntamiento de Barlovento\, Ayuntamiento de Garafía y Ayuntamiento d
 e Villa de Mazo.\n\n&nbsp\;
ATTACH;FMTTYPE=image/jpeg:https://www.larevistadelapalma.com/wp-content/up
 loads/2024/06/La-Esquinita-del-cafe.jpg
CATEGORIES:Gastro,Otras propuestas
LOCATION:Municipio de Villa de Mazo\, Villa de Mazo\, Villa de Mazo\, 38730
 \, España
GEO:28.622071;-17.780675
X-APPLE-STRUCTURED-LOCATION;VALUE=URI;X-ADDRESS=Villa de Mazo\, Villa de Ma
 zo\, 38730\, España;X-APPLE-RADIUS=100;X-TITLE=Municipio de Villa de Mazo
 :geo:28.622071,-17.780675
END:VEVENT
END:VCALENDAR