BEGIN:VCALENDAR
VERSION:2.0
PRODID:-//wp-events-plugin.com//7.2.3.1//EN
TZID:Europe/London
X-WR-TIMEZONE:Europe/London
BEGIN:VEVENT
UID:3315@larevistadelapalma.com
DTSTART;VALUE=DATE:20241010
DTEND;VALUE=DATE:20241013
DTSTAMP:20241009T224131Z
URL:https://www.larevistadelapalma.com/events/la-feria-de-artesania-de-los
 -llanos-de-aridane-dinamizara-el-centro-del-municipio-hasta-el-viernes/
SUMMARY:La Feria de Artesanía de Los Llanos de Aridane dinamizará el cent
 ro del municipio hasta el viernes
DESCRIPTION:La Feria de Artesanía tendrá lugar los días 10\, 11 y 12 de 
 octubre en la avenida Díaz Pimienta.\n\nEl Ayuntamiento de Los Llanos de 
 Aridane invita a la ciudadanía a la Feria de Artesanía\, que se celebrar
 á los próximos días 10\, 11 y 12 de octubre en la Avenida Díaz Pimient
 a. Este evento busca poner en valor el trabajo y dedicación de los artesa
 nos del municipio.\n\nLa feria se desarrollará el jueves 10 de octubre de
  17:00 a 20:00 horas\, el viernes 11 de octubre de 10:00 a 13:30 horas y d
 e 17:00 a 20:00 horas\, y el sábado 12 de octubre de 10:00 a 13:30 horas 
 y de 17:00 a 20:00 horas.
ATTACH;FMTTYPE=image/jpeg:https://www.larevistadelapalma.com/wp-content/up
 loads/2024/10/Feria-de-Artesania-Los-Llanos.jpg
CATEGORIES:Ferias y mercados,Otras propuestas
LOCATION:Municipio de Los Llanos de Aridane\, Los Llanos de Aridane\, Los L
 lanos de Aridane\, 38760\, España
GEO:28.660236;-17.913187
X-APPLE-STRUCTURED-LOCATION;VALUE=URI;X-ADDRESS=Los Llanos de Aridane\, Los
  Llanos de Aridane\, 38760\, España;X-APPLE-RADIUS=100;X-TITLE=Municipio 
 de Los Llanos de Aridane:geo:28.660236,-17.913187
END:VEVENT
END:VCALENDARBEGIN:VCALENDAR
VERSION:2.0
PRODID:-//wp-events-plugin.com//7.2.3.1//EN
TZID:Europe/London
X-WR-TIMEZONE:Europe/London
BEGIN:VEVENT
UID:3315@larevistadelapalma.com
DTSTART;VALUE=DATE:20241010
DTEND;VALUE=DATE:20241013
DTSTAMP:20241009T224131Z
URL:https://www.larevistadelapalma.com/events/la-feria-de-artesania-de-los
 -llanos-de-aridane-dinamizara-el-centro-del-municipio-hasta-el-viernes/
SUMMARY:La Feria de Artesanía de Los Llanos de Aridane dinamizará el cent
 ro del municipio hasta el viernes
DESCRIPTION:La Feria de Artesanía tendrá lugar los días 10\, 11 y 12 de 
 octubre en la avenida Díaz Pimienta.\n\nEl Ayuntamiento de Los Llanos de 
 Aridane invita a la ciudadanía a la Feria de Artesanía\, que se celebrar
 á los próximos días 10\, 11 y 12 de octubre en la Avenida Díaz Pimient
 a. Este evento busca poner en valor el trabajo y dedicación de los artesa
 nos del municipio.\n\nLa feria se desarrollará el jueves 10 de octubre de
  17:00 a 20:00 horas\, el viernes 11 de octubre de 10:00 a 13:30 horas y d
 e 17:00 a 20:00 horas\, y el sábado 12 de octubre de 10:00 a 13:30 horas 
 y de 17:00 a 20:00 horas.
ATTACH;FMTTYPE=image/jpeg:https://www.larevistadelapalma.com/wp-content/up
 loads/2024/10/Feria-de-Artesania-Los-Llanos.jpg
CATEGORIES:Ferias y mercados,Otras propuestas
LOCATION:Municipio de Los Llanos de Aridane\, Los Llanos de Aridane\, Los L
 lanos de Aridane\, 38760\, España
GEO:28.660236;-17.913187
X-APPLE-STRUCTURED-LOCATION;VALUE=URI;X-ADDRESS=Los Llanos de Aridane\, Los
  Llanos de Aridane\, 38760\, España;X-APPLE-RADIUS=100;X-TITLE=Municipio 
 de Los Llanos de Aridane:geo:28.660236,-17.913187
END:VEVENT
END:VCALENDAR