BEGIN:VCALENDAR
VERSION:2.0
PRODID:-//wp-events-plugin.com//7.2.3.1//EN
TZID:Europe/London
X-WR-TIMEZONE:Europe/London
BEGIN:VEVENT
UID:2951@larevistadelapalma.com
DTSTART;VALUE=DATE:20240502
DTEND;VALUE=DATE:20240505
DTSTAMP:20240423T195656Z
URL:https://www.larevistadelapalma.com/events/la-feria-del-libro-de-los-ll
 anos-de-aridane-llega-cargada-de-literatura-y-arte/
SUMMARY:La Feria del Libro de Los Llanos de Aridane llega cargada de litera
 tura y arte
DESCRIPTION:Tendrá lugar entre el 2 y el 4 de mayo en la Plaza de España.
 \nEl Ayuntamiento de Los Llanos de Aridane organiza esta edición de la Fe
 ria del Libro cargada de literatura y arte. Tendrá lugar entre el jueves\
 , 2 de mayo\, y el sábado\, día 4\, en la Plaza de España. Además de p
 uestos de venta de libros\, habrá charlas coloquios\, recitales de poesí
 a\, música y danza.\n\nLa concejala de Cultura\, Marlene González\, dest
 aca la colaboración entre la Biblioteca Municipal María Nieves Pérez Ac
 osta\, las librerías\, autores y los artistas y organizaciones que darán
  vida a la Feria.\n\n“Serán tres días de actividades diversas. Queremo
 s celebrar el placer de la lectura\, promover el amor por los libros y por
  el arte\, así como promocionar todo ese talento que tenemos en nuestras 
 islas”\, apunta\, al tiempo que pone en valor la participación y el tra
 bajo que realizan las librerías participantes: Arco Iris\, BSara\, LER Li
 brerías\, El Estudiante y la Comunidad Bahai.\n\nEl programa de la Feria 
 del Libro\n\nLa Feria del Libro de Los Llanos de Aridane se inaugurará el
  jueves\, 2 de mayo\, a las 17:00 horas con la apertura de las casetas. A 
 las 20:45 horas habrá una charla-espectáculo con Cecilia Domínguez Luis
 \, Premio Canarias de Literatura en 2015.\n\nEl viernes\, día 3\, arranca
  con música. Entre las 10:00 y las 13:00 horas la pianista Maite Santos a
 menizará la Feria. Por la tarde\, a las 17:00 horas\, habrá un taller in
 fantil de enmarcación en los bajos de la Casa de la Cultura. La Escuela M
 unicipal de Teatro también realizará una interpretación del libro infan
 til de Lucía Rosa\, Adónde van las brujas. A las 19 horas está previst
 a una charla-coloquio con el escritor Jorge Laguna sobre su libro El secr
 eto de la indiana. \n\nEl sábado\, 4 de mayo\, los actos comienzan con e
 l Árbol de los Cuentos: La aventura de Signar a las 11:00 horas. Poco d
 espués\, a las 11:45 horas\, Isabel Bolívar y Miguel Ángel Granados con
 tinuarán con su teatro interactivo Cuentos para jugar. A las 12:45 horas
  está prevista una clase abierta de ballet clásico\, dirigida por Judit 
 San Blas. A las 13 horas será el concierto de Autores de temporada\, pro
 tagonizado por Álvaro Ruiz y Rubén Rodríguez.\n\nEste mismo día por la
  tarde habrá una actuación musical del grupo Dulce Amaranto a las 18:30 
 horas.\n\n\n\nUna hora después tendrá lugar el sorteo de ‘Una cesta li
 teraria para mamá’. La clausura de la Feria del Libro será a las 19:45
  horas con la actuación musical y recital de Ángel Acosta. Este espectá
 culo se titula Poesía\, una visión muy particular y contará con texto
 s de Rafael Alberti\, Antonio Machado\, Federico García Lorca\, Simón D
 íaz\, Rubén Darío\, Pablo Neruda\, Mario Benedetti y Alberto Cortés.\n
 \nLa Feria del Libro de Los Llanos de Aridane estará abierta en horario d
 e mañana y tarde el viernes y el sábado\, de 10:00 a 14:00 horas\, y de 
 17:00 a 21:00 horas. Cabe recordar que el jueves sólo habrá sesión de t
 arde.
ATTACH;FMTTYPE=image/jpeg:https://www.larevistadelapalma.com/wp-content/up
 loads/2024/04/Programa-Feria-del-Libro-01-scaled.jpg
CATEGORIES:Cine y Literatura,Literatura
LOCATION:Plaza de España en Los Llanos de Aridane\, Plaza de España\, Los
  Llanos de Aridane\, 38760\, España
GEO:28.658934;-17.913174
X-APPLE-STRUCTURED-LOCATION;VALUE=URI;X-ADDRESS=Plaza de España\, Los Llan
 os de Aridane\, 38760\, España;X-APPLE-RADIUS=100;X-TITLE=Plaza de Españ
 a en Los Llanos de Aridane:geo:28.658934,-17.913174
END:VEVENT
END:VCALENDARBEGIN:VCALENDAR
VERSION:2.0
PRODID:-//wp-events-plugin.com//7.2.3.1//EN
TZID:Europe/London
X-WR-TIMEZONE:Europe/London
BEGIN:VEVENT
UID:2951@larevistadelapalma.com
DTSTART;VALUE=DATE:20240502
DTEND;VALUE=DATE:20240505
DTSTAMP:20240423T195656Z
URL:https://www.larevistadelapalma.com/events/la-feria-del-libro-de-los-ll
 anos-de-aridane-llega-cargada-de-literatura-y-arte/
SUMMARY:La Feria del Libro de Los Llanos de Aridane llega cargada de litera
 tura y arte
DESCRIPTION:Tendrá lugar entre el 2 y el 4 de mayo en la Plaza de España.
 \nEl Ayuntamiento de Los Llanos de Aridane organiza esta edición de la Fe
 ria del Libro cargada de literatura y arte. Tendrá lugar entre el jueves\
 , 2 de mayo\, y el sábado\, día 4\, en la Plaza de España. Además de p
 uestos de venta de libros\, habrá charlas coloquios\, recitales de poesí
 a\, música y danza.\n\nLa concejala de Cultura\, Marlene González\, dest
 aca la colaboración entre la Biblioteca Municipal María Nieves Pérez Ac
 osta\, las librerías\, autores y los artistas y organizaciones que darán
  vida a la Feria.\n\n“Serán tres días de actividades diversas. Queremo
 s celebrar el placer de la lectura\, promover el amor por los libros y por
  el arte\, así como promocionar todo ese talento que tenemos en nuestras 
 islas”\, apunta\, al tiempo que pone en valor la participación y el tra
 bajo que realizan las librerías participantes: Arco Iris\, BSara\, LER Li
 brerías\, El Estudiante y la Comunidad Bahai.\n\nEl programa de la Feria 
 del Libro\n\nLa Feria del Libro de Los Llanos de Aridane se inaugurará el
  jueves\, 2 de mayo\, a las 17:00 horas con la apertura de las casetas. A 
 las 20:45 horas habrá una charla-espectáculo con Cecilia Domínguez Luis
 \, Premio Canarias de Literatura en 2015.\n\nEl viernes\, día 3\, arranca
  con música. Entre las 10:00 y las 13:00 horas la pianista Maite Santos a
 menizará la Feria. Por la tarde\, a las 17:00 horas\, habrá un taller in
 fantil de enmarcación en los bajos de la Casa de la Cultura. La Escuela M
 unicipal de Teatro también realizará una interpretación del libro infan
 til de Lucía Rosa\, Adónde van las brujas. A las 19 horas está previst
 a una charla-coloquio con el escritor Jorge Laguna sobre su libro El secr
 eto de la indiana. \n\nEl sábado\, 4 de mayo\, los actos comienzan con e
 l Árbol de los Cuentos: La aventura de Signar a las 11:00 horas. Poco d
 espués\, a las 11:45 horas\, Isabel Bolívar y Miguel Ángel Granados con
 tinuarán con su teatro interactivo Cuentos para jugar. A las 12:45 horas
  está prevista una clase abierta de ballet clásico\, dirigida por Judit 
 San Blas. A las 13 horas será el concierto de Autores de temporada\, pro
 tagonizado por Álvaro Ruiz y Rubén Rodríguez.\n\nEste mismo día por la
  tarde habrá una actuación musical del grupo Dulce Amaranto a las 18:30 
 horas.\n\n\n\nUna hora después tendrá lugar el sorteo de ‘Una cesta li
 teraria para mamá’. La clausura de la Feria del Libro será a las 19:45
  horas con la actuación musical y recital de Ángel Acosta. Este espectá
 culo se titula Poesía\, una visión muy particular y contará con texto
 s de Rafael Alberti\, Antonio Machado\, Federico García Lorca\, Simón D
 íaz\, Rubén Darío\, Pablo Neruda\, Mario Benedetti y Alberto Cortés.\n
 \nLa Feria del Libro de Los Llanos de Aridane estará abierta en horario d
 e mañana y tarde el viernes y el sábado\, de 10:00 a 14:00 horas\, y de 
 17:00 a 21:00 horas. Cabe recordar que el jueves sólo habrá sesión de t
 arde.
ATTACH;FMTTYPE=image/jpeg:https://www.larevistadelapalma.com/wp-content/up
 loads/2024/04/Programa-Feria-del-Libro-01-scaled.jpg
CATEGORIES:Cine y Literatura,Literatura
LOCATION:Plaza de España en Los Llanos de Aridane\, Plaza de España\, Los
  Llanos de Aridane\, 38760\, España
GEO:28.658934;-17.913174
X-APPLE-STRUCTURED-LOCATION;VALUE=URI;X-ADDRESS=Plaza de España\, Los Llan
 os de Aridane\, 38760\, España;X-APPLE-RADIUS=100;X-TITLE=Plaza de Españ
 a en Los Llanos de Aridane:geo:28.658934,-17.913174
END:VEVENT
END:VCALENDAR