BEGIN:VCALENDAR
VERSION:2.0
PRODID:-//wp-events-plugin.com//7.2.3.1//EN
TZID:Europe/London
X-WR-TIMEZONE:Europe/London
BEGIN:VEVENT
UID:19@larevistadelapalma.com
DTSTART:20230701T210000Z
DTEND:20230701T223000Z
DTSTAMP:20230630T191756Z
URL:https://www.larevistadelapalma.com/events/la-fiesta-de-arte-de-los-lla
 nos-de-aridane-homenaje-a-maria-callas/
SUMMARY:La Fiesta de Arte de Los Llanos de Aridane: homenaje a María Calla
 s
DESCRIPTION:La Fiesta de Arte de Los Llanos de Aridane rendirá homenaje a 
 María Callas en su centenario.
ATTACH;FMTTYPE=image/jpeg:https://www.larevistadelapalma.com/wp-content/up
 loads/2023/06/Fiesta-arte-23-maria-callas.jpg
CATEGORIES:Conciertos,Música
LOCATION:Plaza de España en Los Llanos de Aridane\, Plaza de España\, Los
  Llanos de Aridane\, 38760\, España
GEO:28.658934;-17.913174
X-APPLE-STRUCTURED-LOCATION;VALUE=URI;X-ADDRESS=Plaza de España\, Los Llan
 os de Aridane\, 38760\, España;X-APPLE-RADIUS=100;X-TITLE=Plaza de Españ
 a en Los Llanos de Aridane:geo:28.658934,-17.913174
END:VEVENT
END:VCALENDARBEGIN:VCALENDAR
VERSION:2.0
PRODID:-//wp-events-plugin.com//7.2.3.1//EN
TZID:Europe/London
X-WR-TIMEZONE:Europe/London
BEGIN:VEVENT
UID:19@larevistadelapalma.com
DTSTART:20230701T210000Z
DTEND:20230701T223000Z
DTSTAMP:20230630T191756Z
URL:https://www.larevistadelapalma.com/events/la-fiesta-de-arte-de-los-lla
 nos-de-aridane-homenaje-a-maria-callas/
SUMMARY:La Fiesta de Arte de Los Llanos de Aridane: homenaje a María Calla
 s
DESCRIPTION:La Fiesta de Arte de Los Llanos de Aridane rendirá homenaje a 
 María Callas en su centenario.
ATTACH;FMTTYPE=image/jpeg:https://www.larevistadelapalma.com/wp-content/up
 loads/2023/06/Fiesta-arte-23-maria-callas.jpg
CATEGORIES:Conciertos,Música
LOCATION:Plaza de España en Los Llanos de Aridane\, Plaza de España\, Los
  Llanos de Aridane\, 38760\, España
GEO:28.658934;-17.913174
X-APPLE-STRUCTURED-LOCATION;VALUE=URI;X-ADDRESS=Plaza de España\, Los Llan
 os de Aridane\, 38760\, España;X-APPLE-RADIUS=100;X-TITLE=Plaza de Españ
 a en Los Llanos de Aridane:geo:28.658934,-17.913174
END:VEVENT
END:VCALENDAR